BEGIN:VCALENDAR
VERSION:2.0
PRODID:-//The Chronicles Of PiercingKen - ECPv6.15.20//NONSGML v1.0//EN
CALSCALE:GREGORIAN
METHOD:PUBLISH
X-WR-CALNAME:The Chronicles Of PiercingKen
X-ORIGINAL-URL:https://www.piercingken.com
X-WR-CALDESC:Events for The Chronicles Of PiercingKen
REFRESH-INTERVAL;VALUE=DURATION:PT1H
X-Robots-Tag:noindex
X-PUBLISHED-TTL:PT1H
BEGIN:VTIMEZONE
TZID:America/New_York
BEGIN:DAYLIGHT
TZOFFSETFROM:-0500
TZOFFSETTO:-0400
TZNAME:EDT
DTSTART:20160313T070000
END:DAYLIGHT
BEGIN:STANDARD
TZOFFSETFROM:-0400
TZOFFSETTO:-0500
TZNAME:EST
DTSTART:20161106T060000
END:STANDARD
BEGIN:DAYLIGHT
TZOFFSETFROM:-0500
TZOFFSETTO:-0400
TZNAME:EDT
DTSTART:20170312T070000
END:DAYLIGHT
BEGIN:STANDARD
TZOFFSETFROM:-0400
TZOFFSETTO:-0500
TZNAME:EST
DTSTART:20171105T060000
END:STANDARD
BEGIN:DAYLIGHT
TZOFFSETFROM:-0500
TZOFFSETTO:-0400
TZNAME:EDT
DTSTART:20180311T070000
END:DAYLIGHT
BEGIN:STANDARD
TZOFFSETFROM:-0400
TZOFFSETTO:-0500
TZNAME:EST
DTSTART:20181104T060000
END:STANDARD
END:VTIMEZONE
BEGIN:VEVENT
DTSTART;VALUE=DATE:20170422
DTEND;VALUE=DATE:20170423
DTSTAMP:20260419T232911
CREATED:20170409T201404Z
LAST-MODIFIED:20170409T201404Z
UID:28974-1492819200-1492905599@www.piercingken.com
SUMMARY:Record Store Day @ Rough Trade NYC
DESCRIPTION:Like this:Like Loading...
URL:https://www.piercingken.com/event/record-store-day-rough-trade-nyc/
LOCATION:NY
CATEGORIES:Festival - Fair
END:VEVENT
BEGIN:VEVENT
DTSTART;TZID=America/New_York:20170422T100000
DTEND;TZID=America/New_York:20170422T173000
DTSTAMP:20260419T232911
CREATED:20170401T120050Z
LAST-MODIFIED:20190805T204559Z
UID:40862-1492855200-1492882200@www.piercingken.com
SUMMARY:NY Guitar Show & Exposition @ Freeport Recreational Center
DESCRIPTION:The Sixth Annual NY Guitar Show happens this weekend. Don’t miss out if you sling that six-stringed thing. \n \nLike this:Like Loading...
URL:https://www.piercingken.com/event/ny-guitar-show-exposition-freeport-recreational-center/
LOCATION:Freeport Recreational Center\, 130 E Merrick Rd.\, Freeport\, NY\, 11520\, United States
CATEGORIES:Convention
END:VEVENT
BEGIN:VEVENT
DTSTART;TZID=America/New_York:20170422T100000
DTEND;TZID=America/New_York:20170422T180000
DTSTAMP:20260419T232911
CREATED:20170227T144644Z
LAST-MODIFIED:20220919T162932Z
UID:28782-1492855200-1492884000@www.piercingken.com
SUMMARY:NYC Hot Sauce Expo @ Brooklyn Expo Center
DESCRIPTION:The 5th Annual NYC Hot Sauce Expo is here and you don’t want to miss the fiery fun that will be happening at the Brooklyn Expo Center for its two day visit.  Hundreds of incendiary treats await your taste buds.  Several vendors for delicious eats and drink will be on hand so don’t miss out. \nLike this:Like Loading...
URL:https://www.piercingken.com/event/nyc-hot-sauce-expo-brooklyn-expo-center/
LOCATION:Brooklyn Expo Center\, 72 Noble Street\, Brooklyn\, NY\, 11222\, United States
CATEGORIES:Convention
END:VEVENT
BEGIN:VEVENT
DTSTART;TZID=America/New_York:20170422T100000
DTEND;TZID=America/New_York:20170422T190000
DTSTAMP:20260419T232911
CREATED:20170412T004900Z
LAST-MODIFIED:20170412T004900Z
UID:28983-1492855200-1492887600@www.piercingken.com
SUMMARY:Chiller Theatre Expo @ Hilton Parsippany Hotel
DESCRIPTION:It’s that time of the year my fiends and that means the Spring edition of the Chiller Theatre Expo; It’s once again at the Hilton Parsippany and offers up tons of celebrity meeting opportunities and things to purchase.  Come one day or all three.  \n \nLike this:Like Loading...
URL:https://www.piercingken.com/event/chiller-theatre-expo-hilton-parsippany-hotel-2/
LOCATION:Hilton Parsippany Hotel\, One Hilton Court\, Parsippany\,\, NJ\, 07054\, United States
CATEGORIES:Convention
END:VEVENT
BEGIN:VEVENT
DTSTART;TZID=America/New_York:20170422T100000
DTEND;TZID=America/New_York:20170422T220000
DTSTAMP:20260419T232911
CREATED:20170228T024517Z
LAST-MODIFIED:20250314T165626Z
UID:28796-1492855200-1492898400@www.piercingken.com
SUMMARY:New York International Auto Show @ Javits Center
DESCRIPTION:If you love cars and motorcycles then you want to make a stop at the New York International Auto Show which takes over the Javits Center from April 14-23 – Just think of how much more exciting your Facebook and Instagram feeds will be from this trip. \nLike this:Like Loading...
URL:https://www.piercingken.com/event/new-york-international-auto-show-javits-center-9/
LOCATION:Jacob K. Javits Convention Center\, 655 W 34th St.\, New York\,\, NY\, 10001\, United States
CATEGORIES:Convention
END:VEVENT
END:VCALENDAR