BEGIN:VCALENDAR
VERSION:2.0
PRODID:-//The Chronicles Of PiercingKen - ECPv6.15.20//NONSGML v1.0//EN
CALSCALE:GREGORIAN
METHOD:PUBLISH
X-WR-CALNAME:The Chronicles Of PiercingKen
X-ORIGINAL-URL:https://www.piercingken.com
X-WR-CALDESC:Events for The Chronicles Of PiercingKen
REFRESH-INTERVAL;VALUE=DURATION:PT1H
X-Robots-Tag:noindex
X-PUBLISHED-TTL:PT1H
BEGIN:VTIMEZONE
TZID:America/New_York
BEGIN:DAYLIGHT
TZOFFSETFROM:-0500
TZOFFSETTO:-0400
TZNAME:EDT
DTSTART:20160313T070000
END:DAYLIGHT
BEGIN:STANDARD
TZOFFSETFROM:-0400
TZOFFSETTO:-0500
TZNAME:EST
DTSTART:20161106T060000
END:STANDARD
BEGIN:DAYLIGHT
TZOFFSETFROM:-0500
TZOFFSETTO:-0400
TZNAME:EDT
DTSTART:20170312T070000
END:DAYLIGHT
BEGIN:STANDARD
TZOFFSETFROM:-0400
TZOFFSETTO:-0500
TZNAME:EST
DTSTART:20171105T060000
END:STANDARD
BEGIN:DAYLIGHT
TZOFFSETFROM:-0500
TZOFFSETTO:-0400
TZNAME:EDT
DTSTART:20180311T070000
END:DAYLIGHT
BEGIN:STANDARD
TZOFFSETFROM:-0400
TZOFFSETTO:-0500
TZNAME:EST
DTSTART:20181104T060000
END:STANDARD
END:VTIMEZONE
BEGIN:VEVENT
DTSTART;TZID=America/New_York:20170613T180000
DTEND;TZID=America/New_York:20170613T210000
DTSTAMP:20260422T174448
CREATED:20170613T133137Z
LAST-MODIFIED:20170613T133137Z
UID:29548-1497376800-1497387600@www.piercingken.com
SUMMARY:Museum Mile Festival @ Various NYC Locations
DESCRIPTION:Tonight is the night to explore museums like The Met\, The Museum Of The City Of New York\, The Museum Of Natural History\, The Guggenheim and more for free as a part of the annual “Museum Mile Festival”.  This educational fun spans from 82nd Street to 105th Street and no traffic other than people will be encountered. \n \nLike this:Like Loading...
URL:https://www.piercingken.com/event/museum-mile-festival-various-nyc-locations/
LOCATION:NY
CATEGORIES:Festival - Fair
END:VEVENT
END:VCALENDAR