BEGIN:VCALENDAR
VERSION:2.0
PRODID:-//The Chronicles Of PiercingKen - ECPv6.15.20//NONSGML v1.0//EN
CALSCALE:GREGORIAN
METHOD:PUBLISH
X-ORIGINAL-URL:https://www.piercingken.com
X-WR-CALDESC:Events for The Chronicles Of PiercingKen
REFRESH-INTERVAL;VALUE=DURATION:PT1H
X-Robots-Tag:noindex
X-PUBLISHED-TTL:PT1H
BEGIN:VTIMEZONE
TZID:America/New_York
BEGIN:DAYLIGHT
TZOFFSETFROM:-0500
TZOFFSETTO:-0400
TZNAME:EDT
DTSTART:20160313T070000
END:DAYLIGHT
BEGIN:STANDARD
TZOFFSETFROM:-0400
TZOFFSETTO:-0500
TZNAME:EST
DTSTART:20161106T060000
END:STANDARD
BEGIN:DAYLIGHT
TZOFFSETFROM:-0500
TZOFFSETTO:-0400
TZNAME:EDT
DTSTART:20170312T070000
END:DAYLIGHT
BEGIN:STANDARD
TZOFFSETFROM:-0400
TZOFFSETTO:-0500
TZNAME:EST
DTSTART:20171105T060000
END:STANDARD
BEGIN:DAYLIGHT
TZOFFSETFROM:-0500
TZOFFSETTO:-0400
TZNAME:EDT
DTSTART:20180311T070000
END:DAYLIGHT
BEGIN:STANDARD
TZOFFSETFROM:-0400
TZOFFSETTO:-0500
TZNAME:EST
DTSTART:20181104T060000
END:STANDARD
END:VTIMEZONE
BEGIN:VEVENT
DTSTART;TZID=America/New_York:20170628T170000
DTEND;TZID=America/New_York:20170628T233000
DTSTAMP:20260422T150525
CREATED:20170624T163223Z
LAST-MODIFIED:20170625T011650Z
UID:29963-1498669200-1498692600@www.piercingken.com
SUMMARY:Big Brother 19 NYC Premiere Party @ SlateNY
DESCRIPTION:“Big Brother is coming back and so is the NYC Premiere Party! Come join past Houseguests at Slate NYC and watch the new season begin”.  If you’re a fan of this Reality Show then you know where you need to be tonight.  This event will be hosted by previous Big Brother Adam Poch and Tim 37.   \n \nLike this:Like Loading...
URL:https://www.piercingken.com/event/big-brother-19-nyc-premiere-party-slateny/
LOCATION:SlateNY\, 54 W 21st St\, New York\, NY\, 10010\, United States
CATEGORIES:Special Appearance
END:VEVENT
BEGIN:VEVENT
DTSTART;TZID=America/New_York:20170628T200000
DTEND;TZID=America/New_York:20170628T230000
DTSTAMP:20260422T150525
CREATED:20170621T005154Z
LAST-MODIFIED:20171003T031019Z
UID:29946-1498680000-1498690800@www.piercingken.com
SUMMARY:"Boogie Nights" Free Screening @ Brooklyn Bazaar
DESCRIPTION:This screening takes place in the Main Ballroom! Seating is first come first served. Restaurant and bar open before\, during and after the movie! \n“In the San Fernando Valley in 1977\, teenage busboy Eddie Adams (Mark Wahlberg) gets discovered by porn director Jack Horner (Burt Reynolds)\, who transforms him into adult-film sensation Dirk Diggler. Brought into a supportive circle of friends\, including fellow actors Amber Waves (Julianne Moore)\, Rollergirl (Heather Graham) and Reed Rothchild (John C. Reilly)\, Dirk fulfills all his ambitions\, but a toxic combination of drugs and egotism threatens to take him back down.” \nRegister for this event via the provided link below. \nLike this:Like Loading...
URL:https://www.piercingken.com/event/boogie-nights-free-screening-brooklyn-bazaar/
LOCATION:Brooklyn Bazaar\, 150 Greenpoint Avenue\, Brooklyn\, NY\, 11222\, United States
CATEGORIES:Film Opening
END:VEVENT
END:VCALENDAR