BEGIN:VCALENDAR
VERSION:2.0
PRODID:-//The Chronicles Of PiercingKen - ECPv6.15.20//NONSGML v1.0//EN
CALSCALE:GREGORIAN
METHOD:PUBLISH
X-WR-CALNAME:The Chronicles Of PiercingKen
X-ORIGINAL-URL:https://www.piercingken.com
X-WR-CALDESC:Events for The Chronicles Of PiercingKen
REFRESH-INTERVAL;VALUE=DURATION:PT1H
X-Robots-Tag:noindex
X-PUBLISHED-TTL:PT1H
BEGIN:VTIMEZONE
TZID:America/New_York
BEGIN:DAYLIGHT
TZOFFSETFROM:-0500
TZOFFSETTO:-0400
TZNAME:EDT
DTSTART:20160313T070000
END:DAYLIGHT
BEGIN:STANDARD
TZOFFSETFROM:-0400
TZOFFSETTO:-0500
TZNAME:EST
DTSTART:20161106T060000
END:STANDARD
BEGIN:DAYLIGHT
TZOFFSETFROM:-0500
TZOFFSETTO:-0400
TZNAME:EDT
DTSTART:20170312T070000
END:DAYLIGHT
BEGIN:STANDARD
TZOFFSETFROM:-0400
TZOFFSETTO:-0500
TZNAME:EST
DTSTART:20171105T060000
END:STANDARD
BEGIN:DAYLIGHT
TZOFFSETFROM:-0500
TZOFFSETTO:-0400
TZNAME:EDT
DTSTART:20180311T070000
END:DAYLIGHT
BEGIN:STANDARD
TZOFFSETFROM:-0400
TZOFFSETTO:-0500
TZNAME:EST
DTSTART:20181104T060000
END:STANDARD
END:VTIMEZONE
BEGIN:VEVENT
DTSTART;TZID=America/New_York:20170629T193000
DTEND;TZID=America/New_York:20170629T213000
DTSTAMP:20260421T040236
CREATED:20170624T154415Z
LAST-MODIFIED:20170624T154415Z
UID:29959-1498764600-1498771800@www.piercingken.com
SUMMARY:"Hired Gun: Out Of The Shadows Into The Spotlight" @ AMC Empire 25
DESCRIPTION:The film “Hired Gun: Out Of The Shadows Into The Spotlight” opens today for one-night only at the AMC Empire 25 and numerous other theaters across the country. You can purchase tickets to the location closest to you via the link in this listing. \n \nLike this:Like Loading...
URL:https://www.piercingken.com/event/hired-gun-out-of-the-shadows-into-the-spotlight-amc-empire-25/
LOCATION:AMC Empire 25\, 234 W 42nd St.\, New York\, NY\, 10036\, United States
CATEGORIES:Film Opening
END:VEVENT
END:VCALENDAR