BEGIN:VCALENDAR
VERSION:2.0
PRODID:-//The Chronicles Of PiercingKen - ECPv6.15.20//NONSGML v1.0//EN
CALSCALE:GREGORIAN
METHOD:PUBLISH
X-WR-CALNAME:The Chronicles Of PiercingKen
X-ORIGINAL-URL:https://www.piercingken.com
X-WR-CALDESC:Events for The Chronicles Of PiercingKen
REFRESH-INTERVAL;VALUE=DURATION:PT1H
X-Robots-Tag:noindex
X-PUBLISHED-TTL:PT1H
BEGIN:VTIMEZONE
TZID:America/New_York
BEGIN:DAYLIGHT
TZOFFSETFROM:-0500
TZOFFSETTO:-0400
TZNAME:EDT
DTSTART:20160313T070000
END:DAYLIGHT
BEGIN:STANDARD
TZOFFSETFROM:-0400
TZOFFSETTO:-0500
TZNAME:EST
DTSTART:20161106T060000
END:STANDARD
BEGIN:DAYLIGHT
TZOFFSETFROM:-0500
TZOFFSETTO:-0400
TZNAME:EDT
DTSTART:20170312T070000
END:DAYLIGHT
BEGIN:STANDARD
TZOFFSETFROM:-0400
TZOFFSETTO:-0500
TZNAME:EST
DTSTART:20171105T060000
END:STANDARD
BEGIN:DAYLIGHT
TZOFFSETFROM:-0500
TZOFFSETTO:-0400
TZNAME:EDT
DTSTART:20180311T070000
END:DAYLIGHT
BEGIN:STANDARD
TZOFFSETFROM:-0400
TZOFFSETTO:-0500
TZNAME:EST
DTSTART:20181104T060000
END:STANDARD
END:VTIMEZONE
BEGIN:VEVENT
DTSTART;TZID=America/New_York:20170705T180000
DTEND;TZID=America/New_York:20170705T220000
DTSTAMP:20260420T000746
CREATED:20170707T171505Z
LAST-MODIFIED:20170707T205155Z
UID:30482-1499277600-1499292000@www.piercingken.com
SUMMARY:"Mean Girls" Free Screening @ McCarren Park
DESCRIPTION:SummerScreen is Brooklyn’s longest running film and music series.  Now in it’s 12th year\, SummerScreen brings crowds to Williamsburg’s McCarren Park on Wednesdays in July + August to enjoy a lineup of cult classic movies\, live music\, and food & drink from local vendors.  SummerScreen is a FREE event! Doors at 6pm – Music at 7pm – Films at sundown \n“On Wednesday\, we wear pink. Join us in McCarren Park on July 5 in your best pink shirt (or army pants and flip flops) for a screening of the most quoted movie in the pop culture lexicon–Mean Girls.” \n \nThe finer details about what is permitted and what is not can be found on the link presented in this listing. \nLike this:Like Loading...
URL:https://www.piercingken.com/event/mean-girls-free-screening-mccarren-park/
LOCATION:McCarren Park\, 776 Lorimer Street\, Brooklyn\, NY\, 11222\, United States
CATEGORIES:Festival - Fair
END:VEVENT
BEGIN:VEVENT
DTSTART;TZID=America/New_York:20170705T193000
DTEND;TZID=America/New_York:20170705T193000
DTSTAMP:20260420T000746
CREATED:20170702T051712Z
LAST-MODIFIED:20170702T052206Z
UID:30070-1499283000-1499283000@www.piercingken.com
SUMMARY:"OVO" Cirque Du Soleil @ Barclays Center
DESCRIPTION:“OVO is a headlong rush into a colorful ecosystem teeming with life” – Fans of this presentation don’t want to miss its larger than life offering.   \n \nLike this:Like Loading...
URL:https://www.piercingken.com/event/ovo-cirque-du-soleil-barclays-center/
LOCATION:Barclays Center\, 620 Atlantic Avenue\, Brooklyn\, NY\, 11217\, United States
CATEGORIES:Special Appearance
END:VEVENT
BEGIN:VEVENT
DTSTART;TZID=America/New_York:20170705T200000
DTEND;TZID=America/New_York:20170705T200000
DTSTAMP:20260420T000746
CREATED:20170609T003405Z
LAST-MODIFIED:20170609T003405Z
UID:29516-1499284800-1499284800@www.piercingken.com
SUMMARY:Billy Joel @ Madison Square Garden
DESCRIPTION:Billy Joel performs as a part of his monthly residency at NYC’s own Madison Square Garden. This will be a night full of singalong hits for sure so don’t miss out if you can snag a ticket. The numbers keep climbing for this record-breaking residency. \n \nLike this:Like Loading...
URL:https://www.piercingken.com/event/billy-joel-madison-square-garden-6/
LOCATION:Madison Square Garden\, 4 Pennsylvania Plaza\, New York\, NY\, 10001\, United States
CATEGORIES:Concert
END:VEVENT
BEGIN:VEVENT
DTSTART;TZID=America/New_York:20170705T200000
DTEND;TZID=America/New_York:20170705T230000
DTSTAMP:20260420T000746
CREATED:20170608T145703Z
LAST-MODIFIED:20171003T031042Z
UID:29490-1499284800-1499295600@www.piercingken.com
SUMMARY:Pink Floyd's "The Wall" Free Screening @ Brooklyn Bazaar
DESCRIPTION:This screening takes place in our Main Ballroom! Seating is first come first served.  Restaurant and bar open before\, during and after the movie! \n“In this visual riff on Pink Floyd’s album “The Wall\,” successful but drugged-out musician Pink (Bob Geldof) is looking back on his isolated childhood from the confines of a Los Angeles hotel room. Through a swirl of flashbacks and chemical-induced hallucinations\, Pink recalls his lonely upbringing\, during which he built a symbolic wall to the world as he coped with the death of his father (James Laurenson) and the overbearing ways of his mother (Christine Hargreaves).” \nRegister for this event via the provided link below. \nLike this:Like Loading...
URL:https://www.piercingken.com/event/pink-floyds-the-wall-free-screening-brooklyn-bazaar/
LOCATION:Brooklyn Bazaar\, 150 Greenpoint Avenue\, Brooklyn\, NY\, 11222\, United States
CATEGORIES:Film Opening
END:VEVENT
END:VCALENDAR