BEGIN:VCALENDAR
VERSION:2.0
PRODID:-//The Chronicles Of PiercingKen - ECPv6.15.20//NONSGML v1.0//EN
CALSCALE:GREGORIAN
METHOD:PUBLISH
X-ORIGINAL-URL:https://www.piercingken.com
X-WR-CALDESC:Events for The Chronicles Of PiercingKen
REFRESH-INTERVAL;VALUE=DURATION:PT1H
X-Robots-Tag:noindex
X-PUBLISHED-TTL:PT1H
BEGIN:VTIMEZONE
TZID:America/New_York
BEGIN:DAYLIGHT
TZOFFSETFROM:-0500
TZOFFSETTO:-0400
TZNAME:EDT
DTSTART:20160313T070000
END:DAYLIGHT
BEGIN:STANDARD
TZOFFSETFROM:-0400
TZOFFSETTO:-0500
TZNAME:EST
DTSTART:20161106T060000
END:STANDARD
BEGIN:DAYLIGHT
TZOFFSETFROM:-0500
TZOFFSETTO:-0400
TZNAME:EDT
DTSTART:20170312T070000
END:DAYLIGHT
BEGIN:STANDARD
TZOFFSETFROM:-0400
TZOFFSETTO:-0500
TZNAME:EST
DTSTART:20171105T060000
END:STANDARD
BEGIN:DAYLIGHT
TZOFFSETFROM:-0500
TZOFFSETTO:-0400
TZNAME:EDT
DTSTART:20180311T070000
END:DAYLIGHT
BEGIN:STANDARD
TZOFFSETFROM:-0400
TZOFFSETTO:-0500
TZNAME:EST
DTSTART:20181104T060000
END:STANDARD
END:VTIMEZONE
BEGIN:VEVENT
DTSTART;TZID=America/New_York:20170716T100000
DTEND;TZID=America/New_York:20170716T130000
DTSTAMP:20260419T202433
CREATED:20170704T173401Z
LAST-MODIFIED:20170704T173401Z
UID:30353-1500199200-1500210000@www.piercingken.com
SUMMARY:NYC Summer Ice Cream Blizzard @ Grand Bazaar NYC
DESCRIPTION:The events press says it all so dig in “This is the kind of ice blizzard you’ll be looking for on a hot NYC summer day\, and the prefect way to celebrate National Ice Cream Day.  The best artisanal ice cream makers will be waiting to cool you down! You’ll discover many makers and flavors you’ve never heard of or tasted before.  And\, while you are cooling yourself off discover and meet over 100 of NYC’s best artists\, designers\, craftmakers\, independent antique/vintage dealers\, and artisanl food purveyors\, all selling all one-of-a-kind\, rare and limited edition goods.  100% of Grand Bazaar NYC’s profits are donated to four local public school\, benefiting over 4\,000 children. ”   \nAdmission is free but do please make a nominal donation for the cause.  It’s all going to a good place. \nLike this:Like Loading...
URL:https://www.piercingken.com/event/nyc-summer-ice-cream-blizzard-grand-bazaar-nyc/
LOCATION:Grand Bazaar NYC\, 100 West 77th Street\, New York\, NY\, 10024\, United States
CATEGORIES:Festival - Fair
END:VEVENT
BEGIN:VEVENT
DTSTART;TZID=America/New_York:20170716T120000
DTEND;TZID=America/New_York:20170716T190000
DTSTAMP:20260419T202433
CREATED:20170626T130346Z
LAST-MODIFIED:20250227T203600Z
UID:29990-1500206400-1500231600@www.piercingken.com
SUMMARY:NY Empire State Tattoo Expo @ New York Hilton Midtown
DESCRIPTION:Fans of the ink along with the curious will enjoy the offerings at the annual NY Empire State Tattoo Convention.  This event runs for three days so come once\, twice or for all three.  Presented by Inked Magazine\, tattoos will be given onsite but require proof of age to get them. \nLike this:Like Loading...
URL:https://www.piercingken.com/event/ny-empire-state-tattoo-expo-new-york-hilton-midtown-6/
LOCATION:New York Hilton Midtown\, 1335 Avenue Of The Americas\, New York\, NY\, 10606\, United States
CATEGORIES:Convention
END:VEVENT
END:VCALENDAR