BEGIN:VCALENDAR
VERSION:2.0
PRODID:-//The Chronicles Of PiercingKen - ECPv6.15.20//NONSGML v1.0//EN
CALSCALE:GREGORIAN
METHOD:PUBLISH
X-ORIGINAL-URL:https://www.piercingken.com
X-WR-CALDESC:Events for The Chronicles Of PiercingKen
REFRESH-INTERVAL;VALUE=DURATION:PT1H
X-Robots-Tag:noindex
X-PUBLISHED-TTL:PT1H
BEGIN:VTIMEZONE
TZID:America/New_York
BEGIN:DAYLIGHT
TZOFFSETFROM:-0500
TZOFFSETTO:-0400
TZNAME:EDT
DTSTART:20160313T070000
END:DAYLIGHT
BEGIN:STANDARD
TZOFFSETFROM:-0400
TZOFFSETTO:-0500
TZNAME:EST
DTSTART:20161106T060000
END:STANDARD
BEGIN:DAYLIGHT
TZOFFSETFROM:-0500
TZOFFSETTO:-0400
TZNAME:EDT
DTSTART:20170312T070000
END:DAYLIGHT
BEGIN:STANDARD
TZOFFSETFROM:-0400
TZOFFSETTO:-0500
TZNAME:EST
DTSTART:20171105T060000
END:STANDARD
BEGIN:DAYLIGHT
TZOFFSETFROM:-0500
TZOFFSETTO:-0400
TZNAME:EDT
DTSTART:20180311T070000
END:DAYLIGHT
BEGIN:STANDARD
TZOFFSETFROM:-0400
TZOFFSETTO:-0500
TZNAME:EST
DTSTART:20181104T060000
END:STANDARD
END:VTIMEZONE
BEGIN:VEVENT
DTSTART;VALUE=DATE:20170720
DTEND;VALUE=DATE:20170721
DTSTAMP:20260420T024003
CREATED:20170624T023142Z
LAST-MODIFIED:20170624T024448Z
UID:29949-1500508800-1500595199@www.piercingken.com
SUMMARY:Comic Con International: San Diego @ San Diego Convention Center
DESCRIPTION:The time has come for the Comic Con International: San Diego which takes over the San Diego Convention Center for four days.  Though we don’t attend we have numerous readers that make the trek and one day we hope to join them in the fun. \nLike this:Like Loading...
URL:https://www.piercingken.com/event/comic-con-international-san-diego-san-diego-convention-center/
LOCATION:San Diego Convention Center\, 111 Harbor Drive\, San Diego\, CA\, 92101\, United States
CATEGORIES:Convention
END:VEVENT
BEGIN:VEVENT
DTSTART;TZID=America/New_York:20170720T123000
DTEND;TZID=America/New_York:20170720T133000
DTSTAMP:20260420T024003
CREATED:20170709T142939Z
LAST-MODIFIED:20170709T142939Z
UID:30514-1500553800-1500557400@www.piercingken.com
SUMMARY:Broadway in Bryant Park @ Bryant Park
DESCRIPTION:“The most popular shows on and off Broadway perform their biggest hits. Hosted by 106.7 LiteFM DJs.  Part of the Broadway in Bryant Park program.” \nToday’s show is hosted by Rich Kaminski and includes performances from:  Waitress\, Chicago\, Cats and Spamilton: An American Parody.  \n \nLike this:Like Loading...
URL:https://www.piercingken.com/event/broadway-in-bryant-park-bryant-park-2/
LOCATION:Bryant Park\, 40th Street\, New York\, NY\, 10018\, United States
CATEGORIES:Festival - Fair
END:VEVENT
END:VCALENDAR