BEGIN:VCALENDAR
VERSION:2.0
PRODID:-//The Chronicles Of PiercingKen - ECPv6.15.20//NONSGML v1.0//EN
CALSCALE:GREGORIAN
METHOD:PUBLISH
X-ORIGINAL-URL:https://www.piercingken.com
X-WR-CALDESC:Events for The Chronicles Of PiercingKen
REFRESH-INTERVAL;VALUE=DURATION:PT1H
X-Robots-Tag:noindex
X-PUBLISHED-TTL:PT1H
BEGIN:VTIMEZONE
TZID:America/New_York
BEGIN:DAYLIGHT
TZOFFSETFROM:-0500
TZOFFSETTO:-0400
TZNAME:EDT
DTSTART:20160313T070000
END:DAYLIGHT
BEGIN:STANDARD
TZOFFSETFROM:-0400
TZOFFSETTO:-0500
TZNAME:EST
DTSTART:20161106T060000
END:STANDARD
BEGIN:DAYLIGHT
TZOFFSETFROM:-0500
TZOFFSETTO:-0400
TZNAME:EDT
DTSTART:20170312T070000
END:DAYLIGHT
BEGIN:STANDARD
TZOFFSETFROM:-0400
TZOFFSETTO:-0500
TZNAME:EST
DTSTART:20171105T060000
END:STANDARD
BEGIN:DAYLIGHT
TZOFFSETFROM:-0500
TZOFFSETTO:-0400
TZNAME:EDT
DTSTART:20180311T070000
END:DAYLIGHT
BEGIN:STANDARD
TZOFFSETFROM:-0400
TZOFFSETTO:-0500
TZNAME:EST
DTSTART:20181104T060000
END:STANDARD
END:VTIMEZONE
BEGIN:VEVENT
DTSTART;VALUE=DATE:20170723
DTEND;VALUE=DATE:20170724
DTSTAMP:20260421T005053
CREATED:20170624T023218Z
LAST-MODIFIED:20170624T025814Z
UID:29952-1500768000-1500854399@www.piercingken.com
SUMMARY:Comic Con International: San Diego @ San Diego Convention Center
DESCRIPTION:The time has come for the Comic Con International: San Diego which takes over the San Diego Convention Center for four days.  Though we don’t attend we have numerous readers that make the trek and one day we hope to join them in the fun. \nLike this:Like Loading...
URL:https://www.piercingken.com/event/comic-con-international-san-diego-san-diego-convention-center-4/
LOCATION:San Diego Convention Center\, 111 Harbor Drive\, San Diego\, CA\, 92101\, United States
CATEGORIES:Convention
END:VEVENT
BEGIN:VEVENT
DTSTART;TZID=America/New_York:20170723T120000
DTEND;TZID=America/New_York:20170723T200000
DTSTAMP:20260421T005053
CREATED:20170721T174400Z
LAST-MODIFIED:20170721T174529Z
UID:30593-1500811200-1500840000@www.piercingken.com
SUMMARY:Jamaican Jerk Festival @ Roy Wilkins Park
DESCRIPTION:Fans of the Caribbean spicy side of cooking will not want to miss the annual “Jamaican Jerk Festival” that will happen today in Roy Wilkins Park.  Come early and come hungry.  Things to do for all ages it seems and kids under “10” years of age are admitted free.   \n \nLike this:Like Loading...
URL:https://www.piercingken.com/event/jamaican-jerk-festival-roy-wilkins-park/
LOCATION:Roy Wilkins Park\, 177-01 Baisley Blvd\, Jamaica\, NY\, 11434\, United States
CATEGORIES:Festival - Fair
END:VEVENT
END:VCALENDAR