BEGIN:VCALENDAR
VERSION:2.0
PRODID:-//The Chronicles Of PiercingKen - ECPv6.15.20//NONSGML v1.0//EN
CALSCALE:GREGORIAN
METHOD:PUBLISH
X-ORIGINAL-URL:https://www.piercingken.com
X-WR-CALDESC:Events for The Chronicles Of PiercingKen
REFRESH-INTERVAL;VALUE=DURATION:PT1H
X-Robots-Tag:noindex
X-PUBLISHED-TTL:PT1H
BEGIN:VTIMEZONE
TZID:America/New_York
BEGIN:DAYLIGHT
TZOFFSETFROM:-0500
TZOFFSETTO:-0400
TZNAME:EDT
DTSTART:20160313T070000
END:DAYLIGHT
BEGIN:STANDARD
TZOFFSETFROM:-0400
TZOFFSETTO:-0500
TZNAME:EST
DTSTART:20161106T060000
END:STANDARD
BEGIN:DAYLIGHT
TZOFFSETFROM:-0500
TZOFFSETTO:-0400
TZNAME:EDT
DTSTART:20170312T070000
END:DAYLIGHT
BEGIN:STANDARD
TZOFFSETFROM:-0400
TZOFFSETTO:-0500
TZNAME:EST
DTSTART:20171105T060000
END:STANDARD
BEGIN:DAYLIGHT
TZOFFSETFROM:-0500
TZOFFSETTO:-0400
TZNAME:EDT
DTSTART:20180311T070000
END:DAYLIGHT
BEGIN:STANDARD
TZOFFSETFROM:-0400
TZOFFSETTO:-0500
TZNAME:EST
DTSTART:20181104T060000
END:STANDARD
END:VTIMEZONE
BEGIN:VEVENT
DTSTART;TZID=America/New_York:20170726T180000
DTEND;TZID=America/New_York:20170726T220000
DTSTAMP:20260419T181424
CREATED:20170707T203234Z
LAST-MODIFIED:20170707T203234Z
UID:30496-1501092000-1501106400@www.piercingken.com
SUMMARY:“Selena” Free Screening @ McCarren Park
DESCRIPTION:Now in it’s 12th year\, SummerScreen brings crowds to Williamsburg’s McCarren Park each Wednesday in July + August to enjoy a lineup of cult classic movies\, live music\, and food & drink from local vendors. \n“We were just thinking\, we’ve never seen you dance. Do you dance? Join us at McCarren Park on July 26th to celebrate the legend of Queen of Tejano music (and dance!) Selena.” \n \nThe finer details about what is permitted and what is not can be found on the link presented in this listing. \nLike this:Like Loading...
URL:https://www.piercingken.com/event/selena-free-screening-mccarren-park/
LOCATION:McCarren Park\, 776 Lorimer Street\, Brooklyn\, NY\, 11222\, United States
CATEGORIES:Festival - Fair
END:VEVENT
BEGIN:VEVENT
DTSTART;TZID=America/New_York:20170726T200000
DTEND;TZID=America/New_York:20170726T230000
DTSTAMP:20260419T181424
CREATED:20170608T161135Z
LAST-MODIFIED:20171003T030607Z
UID:29493-1501099200-1501110000@www.piercingken.com
SUMMARY:"Willow" Free Screening @ Brooklyn Bazaar
DESCRIPTION:This screening takes place in the Main Ballroom! Seating is first come first served. Restaurant and bar open before\, during and after the movie! \n“Enter the world of “Willow.” Journey to the far corners of your imagination\, to a land of myth and magic\, where dream and reality live side by side … to a place that never existed\, a time that never was. It is a world where a young man named Willow lives out an adventure that explodes beyond the boundaries of his own hopes and fears.” \nRegister for this event via the provided link below. \nLike this:Like Loading...
URL:https://www.piercingken.com/event/willow-free-screening-brooklyn-bazaar/
LOCATION:Brooklyn Bazaar\, 150 Greenpoint Avenue\, Brooklyn\, NY\, 11222\, United States
CATEGORIES:Film Opening
END:VEVENT
END:VCALENDAR