BEGIN:VCALENDAR
VERSION:2.0
PRODID:-//The Chronicles Of PiercingKen - ECPv6.15.20//NONSGML v1.0//EN
CALSCALE:GREGORIAN
METHOD:PUBLISH
X-WR-CALNAME:The Chronicles Of PiercingKen
X-ORIGINAL-URL:https://www.piercingken.com
X-WR-CALDESC:Events for The Chronicles Of PiercingKen
REFRESH-INTERVAL;VALUE=DURATION:PT1H
X-Robots-Tag:noindex
X-PUBLISHED-TTL:PT1H
BEGIN:VTIMEZONE
TZID:America/New_York
BEGIN:DAYLIGHT
TZOFFSETFROM:-0500
TZOFFSETTO:-0400
TZNAME:EDT
DTSTART:20160313T070000
END:DAYLIGHT
BEGIN:STANDARD
TZOFFSETFROM:-0400
TZOFFSETTO:-0500
TZNAME:EST
DTSTART:20161106T060000
END:STANDARD
BEGIN:DAYLIGHT
TZOFFSETFROM:-0500
TZOFFSETTO:-0400
TZNAME:EDT
DTSTART:20170312T070000
END:DAYLIGHT
BEGIN:STANDARD
TZOFFSETFROM:-0400
TZOFFSETTO:-0500
TZNAME:EST
DTSTART:20171105T060000
END:STANDARD
BEGIN:DAYLIGHT
TZOFFSETFROM:-0500
TZOFFSETTO:-0400
TZNAME:EDT
DTSTART:20180311T070000
END:DAYLIGHT
BEGIN:STANDARD
TZOFFSETFROM:-0400
TZOFFSETTO:-0500
TZNAME:EST
DTSTART:20181104T060000
END:STANDARD
END:VTIMEZONE
BEGIN:VEVENT
DTSTART;VALUE=DATE:20170728
DTEND;VALUE=DATE:20170729
DTSTAMP:20260420T181752
CREATED:20170731T232751Z
LAST-MODIFIED:20170731T234344Z
UID:30614-1501200000-1501286399@www.piercingken.com
SUMMARY:Panorama Music Festival @ Randall's Island Park
DESCRIPTION:The Panorama Music Festival (commonly referred to as Panorama) is a multi-day music festival held on Randall’s Island in New York City. It is presented by Goldenvoice and will rule the island park for three days.  Not a lot of Metal and Hard Rock on this one but Nine Inch Nails will close up the final night. \n \nLike this:Like Loading...
URL:https://www.piercingken.com/event/panorama-music-festival-randalls-island-park/
LOCATION:Randall’s Island Park\, 20 Randall’s Island Park\, New York\, NY\, 10035\, United States
CATEGORIES:Concert
END:VEVENT
BEGIN:VEVENT
DTSTART;TZID=America/New_York:20170728T193000
DTEND;TZID=America/New_York:20170728T193000
DTSTAMP:20260420T181752
CREATED:20170702T005329Z
LAST-MODIFIED:20170731T234701Z
UID:30067-1501270200-1501270200@www.piercingken.com
SUMMARY:Rubix Kube @ Irving Plaza
DESCRIPTION:Rubix Kube returns to Irving Plaza with their classic “80’s” show and in honor of David Z. will be a tribute show to his memory with numerous special guests. Don’t miss this night if you are able make it as a truly amazing individual is celebrated by his peers. \n \nLike this:Like Loading...
URL:https://www.piercingken.com/event/rubix-kube-irving-plaza/
LOCATION:Irving Plaza\, 17 Irving Place\, New York\, NY\, 10017\, United States
CATEGORIES:Concert
END:VEVENT
END:VCALENDAR