BEGIN:VCALENDAR
VERSION:2.0
PRODID:-//The Chronicles Of PiercingKen - ECPv6.15.20//NONSGML v1.0//EN
CALSCALE:GREGORIAN
METHOD:PUBLISH
X-WR-CALNAME:The Chronicles Of PiercingKen
X-ORIGINAL-URL:https://www.piercingken.com
X-WR-CALDESC:Events for The Chronicles Of PiercingKen
REFRESH-INTERVAL;VALUE=DURATION:PT1H
X-Robots-Tag:noindex
X-PUBLISHED-TTL:PT1H
BEGIN:VTIMEZONE
TZID:America/New_York
BEGIN:DAYLIGHT
TZOFFSETFROM:-0500
TZOFFSETTO:-0400
TZNAME:EDT
DTSTART:20160313T070000
END:DAYLIGHT
BEGIN:STANDARD
TZOFFSETFROM:-0400
TZOFFSETTO:-0500
TZNAME:EST
DTSTART:20161106T060000
END:STANDARD
BEGIN:DAYLIGHT
TZOFFSETFROM:-0500
TZOFFSETTO:-0400
TZNAME:EDT
DTSTART:20170312T070000
END:DAYLIGHT
BEGIN:STANDARD
TZOFFSETFROM:-0400
TZOFFSETTO:-0500
TZNAME:EST
DTSTART:20171105T060000
END:STANDARD
BEGIN:DAYLIGHT
TZOFFSETFROM:-0500
TZOFFSETTO:-0400
TZNAME:EDT
DTSTART:20180311T070000
END:DAYLIGHT
BEGIN:STANDARD
TZOFFSETFROM:-0400
TZOFFSETTO:-0500
TZNAME:EST
DTSTART:20181104T060000
END:STANDARD
END:VTIMEZONE
BEGIN:VEVENT
DTSTART;VALUE=DATE:20171007
DTEND;VALUE=DATE:20171008
DTSTAMP:20260425T164306
CREATED:20170227T042204Z
LAST-MODIFIED:20170227T045259Z
UID:28768-1507334400-1507420799@www.piercingken.com
SUMMARY:NY Comic Con @ Jacob K. Javits Center
DESCRIPTION:Rejoice fans of the colorful costumes of cosplay\, comic book heroism and all things geek for the NY Comic Con is here and taking over the Javits Center and other parts of NYC for four days.  Hopefully you got your tickets well in advance since they are hard to come by during the event. \nLike this:Like Loading...
URL:https://www.piercingken.com/event/ny-comic-con-jacob-k-javits-center-3/
LOCATION:Jacob K. Javits Convention Center\, 655 W 34th St.\, New York\,\, NY\, 10001\, United States
CATEGORIES:Convention
END:VEVENT
BEGIN:VEVENT
DTSTART;VALUE=DATE:20171007
DTEND;VALUE=DATE:20171008
DTSTAMP:20260425T164306
CREATED:20171003T222719Z
LAST-MODIFIED:20171003T222809Z
UID:31217-1507334400-1507420799@www.piercingken.com
SUMMARY:“Scared In Jersey” @ PNC Bank Arts Center
DESCRIPTION:The legend of the Jersey Devil comes to life during the Halloween season with “Scared In Jersey”\, a multi-faceted experience at the PNC Bank Arts Center in Holmdel\, NJ.  Be there and prepare to be scared. \n \nLike this:Like Loading...
URL:https://www.piercingken.com/event/scared-in-jersey-pnc-bank-arts-center-3/
LOCATION:PNC Bank Arts Center\, Exit 116 & Garden State Parkway\, Holmdel\, NJ\, 07733\, United States
CATEGORIES:Festival - Fair
END:VEVENT
BEGIN:VEVENT
DTSTART;TZID=America/New_York:20171007T100000
DTEND;TZID=America/New_York:20171007T200000
DTSTAMP:20260425T164306
CREATED:20170319T225434Z
LAST-MODIFIED:20170319T225645Z
UID:28906-1507370400-1507406400@www.piercingken.com
SUMMARY:Fear The Riff Expo @ Brooklyn Expo Center
DESCRIPTION:The Fear The Riff Expo 2017 is the first for this new NYC effects pedal and gear expo. If you are slinging the six or four string you know you want to be there to peruse the offerings and spend some money.  \n \nLike this:Like Loading...
URL:https://www.piercingken.com/event/fear-the-riff-expo-brooklyn-expo-center/
LOCATION:Brooklyn Expo Center\, 72 Noble Street\, Brooklyn\, NY\, 11222\, United States
CATEGORIES:Convention
END:VEVENT
BEGIN:VEVENT
DTSTART;TZID=America/New_York:20171007T200000
DTEND;TZID=America/New_York:20171007T200000
DTSTAMP:20260425T164306
CREATED:20170812T153251Z
LAST-MODIFIED:20170831T180943Z
UID:30700-1507406400-1507406400@www.piercingken.com
SUMMARY:Bruce Springsteen @ Walter Kerr Theatre
DESCRIPTION:“The Boss” is on Broadway. Fans don’t want to miss the legendary performers first-ever residency show. Bruce will discuss his life and personal stories with guitar and piano.  \n \nLike this:Like Loading...
URL:https://www.piercingken.com/event/bruce-springsteen-walter-kerr-theatre-5/
LOCATION:Walter Kerr Theatre\, 219 W 48th St\, New York\, NY\, 10036\, United States
CATEGORIES:Concert
END:VEVENT
END:VCALENDAR