BEGIN:VCALENDAR
VERSION:2.0
PRODID:-//The Chronicles Of PiercingKen - ECPv6.15.20//NONSGML v1.0//EN
CALSCALE:GREGORIAN
METHOD:PUBLISH
X-ORIGINAL-URL:https://www.piercingken.com
X-WR-CALDESC:Events for The Chronicles Of PiercingKen
REFRESH-INTERVAL;VALUE=DURATION:PT1H
X-Robots-Tag:noindex
X-PUBLISHED-TTL:PT1H
BEGIN:VTIMEZONE
TZID:America/New_York
BEGIN:DAYLIGHT
TZOFFSETFROM:-0500
TZOFFSETTO:-0400
TZNAME:EDT
DTSTART:20160313T070000
END:DAYLIGHT
BEGIN:STANDARD
TZOFFSETFROM:-0400
TZOFFSETTO:-0500
TZNAME:EST
DTSTART:20161106T060000
END:STANDARD
BEGIN:DAYLIGHT
TZOFFSETFROM:-0500
TZOFFSETTO:-0400
TZNAME:EDT
DTSTART:20170312T070000
END:DAYLIGHT
BEGIN:STANDARD
TZOFFSETFROM:-0400
TZOFFSETTO:-0500
TZNAME:EST
DTSTART:20171105T060000
END:STANDARD
BEGIN:DAYLIGHT
TZOFFSETFROM:-0500
TZOFFSETTO:-0400
TZNAME:EDT
DTSTART:20180311T070000
END:DAYLIGHT
BEGIN:STANDARD
TZOFFSETFROM:-0400
TZOFFSETTO:-0500
TZNAME:EST
DTSTART:20181104T060000
END:STANDARD
END:VTIMEZONE
BEGIN:VEVENT
DTSTART;VALUE=DATE:20171105
DTEND;VALUE=DATE:20171106
DTSTAMP:20260419T154049
CREATED:20170817T142557Z
LAST-MODIFIED:20170817T153752Z
UID:30849-1509840000-1509926399@www.piercingken.com
SUMMARY:Disney On Ice @ Prudential Center
DESCRIPTION:Join hosts Mickey Mouse and Minnie Mouse who will take their audiences on an expedition across raging seas and snow-covered mountains in this action-packed extravaganza when beloved characters from Disney’s Beauty and the Beast\, Frozen\, Tangled and Cinderella visit Newark\, NJ for the latest Disney On Ice presentation “Dare To Dream”. There are two “2” shows today with a 12PM and 4PM performance. \n \nLike this:Like Loading...
URL:https://www.piercingken.com/event/disney-on-ice-prudential-center-5/
LOCATION:Prudential Center\, 25 Lafayette St.\, Newark\, NJ\, 07102\, United States
END:VEVENT
BEGIN:VEVENT
DTSTART;VALUE=DATE:20171105
DTEND;VALUE=DATE:20171106
DTSTAMP:20260419T154049
CREATED:20171001T130058Z
LAST-MODIFIED:20241015T161314Z
UID:36521-1509840000-1509926399@www.piercingken.com
SUMMARY:eXXXotica Expo @ New Jersey Convention and Exposition Center
DESCRIPTION:The 2017 eXXXotica Expo is here and is the place to meet your favorite adult performers and cam models along with so much more.  Come on out if you are daring and over the age of 18 🙂 \n \nLike this:Like Loading...
URL:https://www.piercingken.com/event/exxxotica-expo-new-jersey-convention-and-exposition-center-3/
LOCATION:New Jersey Convention and Exposition Center\, 97 Sunfield Ave\, Edison\, NY\, 08837\, United States
CATEGORIES:Convention
END:VEVENT
BEGIN:VEVENT
DTSTART;TZID=America/New_York:20171105T100000
DTEND;TZID=America/New_York:20171105T190000
DTSTAMP:20260419T154049
CREATED:20171109T033103Z
LAST-MODIFIED:20171109T033103Z
UID:31540-1509876000-1509908400@www.piercingken.com
SUMMARY:Play Fair @ Jacob K. Javits Center
DESCRIPTION:This year’s edition of Play Fair has greatly expanded from the debut and offers more fun during its two separate sessions.  Please note that a ticket is required for the early and the later session if you are interested in attending both.   \n \nLike this:Like Loading...
URL:https://www.piercingken.com/event/play-fair-jacob-k-javits-center-2/
LOCATION:Jacob K. Javits Convention Center\, 655 W 34th St.\, New York\,\, NY\, 10001\, United States
CATEGORIES:Convention
END:VEVENT
BEGIN:VEVENT
DTSTART;TZID=America/New_York:20171105T100000
DTEND;TZID=America/New_York:20171105T200000
DTSTAMP:20260419T154049
CREATED:20171108T213405Z
LAST-MODIFIED:20240309T183108Z
UID:31495-1509876000-1509912000@www.piercingken.com
SUMMARY:Canstruction New York @ Brookfield Place
DESCRIPTION:The “Canstruction” New York 2017 exhibit is open to the public until 11/15 at the beautiful Brookfield Place. Do stop by and consider donating some canned goods for the City Harvest charity as well. \n \nLike this:Like Loading...
URL:https://www.piercingken.com/event/canstruction-new-york-brookfield-place-4/
LOCATION:Brookfield Place\, 230 Vesey Street\, New York\, NY\, 10281\, United States
CATEGORIES:Art Fair
END:VEVENT
END:VCALENDAR