BEGIN:VCALENDAR
VERSION:2.0
PRODID:-//The Chronicles Of PiercingKen - ECPv6.15.20//NONSGML v1.0//EN
CALSCALE:GREGORIAN
METHOD:PUBLISH
X-WR-CALNAME:The Chronicles Of PiercingKen
X-ORIGINAL-URL:https://www.piercingken.com
X-WR-CALDESC:Events for The Chronicles Of PiercingKen
REFRESH-INTERVAL;VALUE=DURATION:PT1H
X-Robots-Tag:noindex
X-PUBLISHED-TTL:PT1H
BEGIN:VTIMEZONE
TZID:America/New_York
BEGIN:DAYLIGHT
TZOFFSETFROM:-0500
TZOFFSETTO:-0400
TZNAME:EDT
DTSTART:20160313T070000
END:DAYLIGHT
BEGIN:STANDARD
TZOFFSETFROM:-0400
TZOFFSETTO:-0500
TZNAME:EST
DTSTART:20161106T060000
END:STANDARD
BEGIN:DAYLIGHT
TZOFFSETFROM:-0500
TZOFFSETTO:-0400
TZNAME:EDT
DTSTART:20170312T070000
END:DAYLIGHT
BEGIN:STANDARD
TZOFFSETFROM:-0400
TZOFFSETTO:-0500
TZNAME:EST
DTSTART:20171105T060000
END:STANDARD
BEGIN:DAYLIGHT
TZOFFSETFROM:-0500
TZOFFSETTO:-0400
TZNAME:EDT
DTSTART:20180311T070000
END:DAYLIGHT
BEGIN:STANDARD
TZOFFSETFROM:-0400
TZOFFSETTO:-0500
TZNAME:EST
DTSTART:20181104T060000
END:STANDARD
END:VTIMEZONE
BEGIN:VEVENT
DTSTART;TZID=America/New_York:20171226T150000
DTEND;TZID=America/New_York:20171226T173000
DTSTAMP:20260419T095155
CREATED:20171114T143818Z
LAST-MODIFIED:20171114T145803Z
UID:31578-1514300400-1514309400@www.piercingken.com
SUMMARY:Trans-Siberian Orchestra @ Prudential Center
DESCRIPTION:The Trans-Siberian Orchestra returns to the Prudential Center for their “Ghosts Of Christmas Eve” Tour.  It will focus on this album and the bands classics.  This listing is for the 3PM Matinee show. \n \nLike this:Like Loading...
URL:https://www.piercingken.com/event/trans-siberian-orchestra-prudential-center/
LOCATION:Prudential Center\, 25 Lafayette St.\, Newark\, NJ\, 07102\, United States
CATEGORIES:Concert
END:VEVENT
BEGIN:VEVENT
DTSTART;TZID=America/New_York:20171226T200000
DTEND;TZID=America/New_York:20171226T200000
DTSTAMP:20260419T095155
CREATED:20170831T021447Z
LAST-MODIFIED:20170831T183936Z
UID:30968-1514318400-1514318400@www.piercingken.com
SUMMARY:Bruce Springsteen @ Walter Kerr Theatre
DESCRIPTION:“The Boss” is on Broadway. Fans don’t want to miss the legendary performers first-ever residency show. Bruce will discuss his life and personal stories with guitar and piano. \n \nLike this:Like Loading...
URL:https://www.piercingken.com/event/bruce-springsteen-walter-kerr-theatre-55/
LOCATION:Walter Kerr Theatre\, 219 W 48th St\, New York\, NY\, 10036\, United States
CATEGORIES:Concert
END:VEVENT
BEGIN:VEVENT
DTSTART;TZID=America/New_York:20171226T200000
DTEND;TZID=America/New_York:20171226T223000
DTSTAMP:20260419T095155
CREATED:20171114T145909Z
LAST-MODIFIED:20171114T145909Z
UID:31581-1514318400-1514327400@www.piercingken.com
SUMMARY:Trans-Siberian Orchestra @ Prudential Center
DESCRIPTION:The Trans-Siberian Orchestra returns to the Prudential Center for their “Ghosts Of Christmas Eve” Tour.  It will focus on this album and the bands classics.  This listing is for the 8PM Matinee show. \n \nLike this:Like Loading...
URL:https://www.piercingken.com/event/trans-siberian-orchestra-prudential-center-2/
LOCATION:Prudential Center\, 25 Lafayette St.\, Newark\, NJ\, 07102\, United States
CATEGORIES:Concert
END:VEVENT
END:VCALENDAR