BEGIN:VCALENDAR
VERSION:2.0
PRODID:-//The Chronicles Of PiercingKen - ECPv6.15.20//NONSGML v1.0//EN
CALSCALE:GREGORIAN
METHOD:PUBLISH
X-WR-CALNAME:The Chronicles Of PiercingKen
X-ORIGINAL-URL:https://www.piercingken.com
X-WR-CALDESC:Events for The Chronicles Of PiercingKen
REFRESH-INTERVAL;VALUE=DURATION:PT1H
X-Robots-Tag:noindex
X-PUBLISHED-TTL:PT1H
BEGIN:VTIMEZONE
TZID:America/New_York
BEGIN:DAYLIGHT
TZOFFSETFROM:-0500
TZOFFSETTO:-0400
TZNAME:EDT
DTSTART:20160313T070000
END:DAYLIGHT
BEGIN:STANDARD
TZOFFSETFROM:-0400
TZOFFSETTO:-0500
TZNAME:EST
DTSTART:20161106T060000
END:STANDARD
BEGIN:DAYLIGHT
TZOFFSETFROM:-0500
TZOFFSETTO:-0400
TZNAME:EDT
DTSTART:20170312T070000
END:DAYLIGHT
BEGIN:STANDARD
TZOFFSETFROM:-0400
TZOFFSETTO:-0500
TZNAME:EST
DTSTART:20171105T060000
END:STANDARD
BEGIN:DAYLIGHT
TZOFFSETFROM:-0500
TZOFFSETTO:-0400
TZNAME:EDT
DTSTART:20180311T070000
END:DAYLIGHT
BEGIN:STANDARD
TZOFFSETFROM:-0400
TZOFFSETTO:-0500
TZNAME:EST
DTSTART:20181104T060000
END:STANDARD
END:VTIMEZONE
BEGIN:VEVENT
DTSTART;TZID=America/New_York:20171228T193000
DTEND;TZID=America/New_York:20171228T193000
DTSTAMP:20260421T155142
CREATED:20171218T135934Z
LAST-MODIFIED:20171218T141419Z
UID:31746-1514489400-1514489400@www.piercingken.com
SUMMARY:Phish @ Madison Square Garden
DESCRIPTION:The Phish NYC New Year’s Residency will take over the famed Madison Square Garden for four days.  Come once\, twice or to all of them.  It’s surely going to be some unforgettable times. \n \nLike this:Like Loading...
URL:https://www.piercingken.com/event/phish-madison-square-garden/
LOCATION:Madison Square Garden\, 4 Pennsylvania Plaza\, New York\, NY\, 10001\, United States
CATEGORIES:Concert
END:VEVENT
BEGIN:VEVENT
DTSTART;TZID=America/New_York:20171228T200000
DTEND;TZID=America/New_York:20171228T200000
DTSTAMP:20260421T155142
CREATED:20170831T033443Z
LAST-MODIFIED:20170831T183957Z
UID:30970-1514491200-1514491200@www.piercingken.com
SUMMARY:Bruce Springsteen @ Walter Kerr Theatre
DESCRIPTION:“The Boss” is on Broadway. Fans don’t want to miss the legendary performers first-ever residency show. Bruce will discuss his life and personal stories with guitar and piano. \n \nLike this:Like Loading...
URL:https://www.piercingken.com/event/bruce-springsteen-walter-kerr-theatre-57/
LOCATION:Walter Kerr Theatre\, 219 W 48th St\, New York\, NY\, 10036\, United States
CATEGORIES:Concert
END:VEVENT
END:VCALENDAR