BEGIN:VCALENDAR
VERSION:2.0
PRODID:-//The Chronicles Of PiercingKen - ECPv6.15.20//NONSGML v1.0//EN
CALSCALE:GREGORIAN
METHOD:PUBLISH
X-ORIGINAL-URL:https://www.piercingken.com
X-WR-CALDESC:Events for The Chronicles Of PiercingKen
REFRESH-INTERVAL;VALUE=DURATION:PT1H
X-Robots-Tag:noindex
X-PUBLISHED-TTL:PT1H
BEGIN:VTIMEZONE
TZID:America/New_York
BEGIN:DAYLIGHT
TZOFFSETFROM:-0500
TZOFFSETTO:-0400
TZNAME:EDT
DTSTART:20170312T070000
END:DAYLIGHT
BEGIN:STANDARD
TZOFFSETFROM:-0400
TZOFFSETTO:-0500
TZNAME:EST
DTSTART:20171105T060000
END:STANDARD
BEGIN:DAYLIGHT
TZOFFSETFROM:-0500
TZOFFSETTO:-0400
TZNAME:EDT
DTSTART:20180311T070000
END:DAYLIGHT
BEGIN:STANDARD
TZOFFSETFROM:-0400
TZOFFSETTO:-0500
TZNAME:EST
DTSTART:20181104T060000
END:STANDARD
BEGIN:DAYLIGHT
TZOFFSETFROM:-0500
TZOFFSETTO:-0400
TZNAME:EDT
DTSTART:20190310T070000
END:DAYLIGHT
BEGIN:STANDARD
TZOFFSETFROM:-0400
TZOFFSETTO:-0500
TZNAME:EST
DTSTART:20191103T060000
END:STANDARD
END:VTIMEZONE
BEGIN:VEVENT
DTSTART;VALUE=DATE:20180125
DTEND;VALUE=DATE:20180126
DTSTAMP:20260419T172429
CREATED:20180103T145240Z
LAST-MODIFIED:20180103T151515Z
UID:31985-1516838400-1516924799@www.piercingken.com
SUMMARY:The NAMM Show @ Anaheim Convention Center
DESCRIPTION:The NAMM Show is here (well\, in California actually) but we remind our readers about it so they can follow their favorite musical instrument providers websites and social networking accounts to see what the latest and greatest developments are for the year.  If you are going\, have a fantastic time. \n \nLike this:Like Loading...
URL:https://www.piercingken.com/event/the-namm-show-anaheim-convention-center/
LOCATION:Anaheim Convention Center\, 800 West Katella Avenue\, Anaheim\, CA\, 92802\, United States
CATEGORIES:Convention
END:VEVENT
BEGIN:VEVENT
DTSTART;TZID=America/New_York:20180125T120000
DTEND;TZID=America/New_York:20180125T210000
DTSTAMP:20260419T172429
CREATED:20171225T180035Z
LAST-MODIFIED:20250103T221503Z
UID:31868-1516881600-1516914000@www.piercingken.com
SUMMARY:New York Boat Show @ Javits Center
DESCRIPTION:The New York Boat Show will take over the Javits Center for five days and showcase the latest crafts for all those interested in them.  Activities and lots to see will await you so check it out. \n \nLike this:Like Loading...
URL:https://www.piercingken.com/event/new-york-boat-show-javits-center-2/
LOCATION:Jacob K. Javits Convention Center\, 655 W 34th St.\, New York\,\, NY\, 10001\, United States
CATEGORIES:Convention
END:VEVENT
BEGIN:VEVENT
DTSTART;TZID=America/New_York:20180125T200000
DTEND;TZID=America/New_York:20180125T200000
DTSTAMP:20260419T172429
CREATED:20170901T204409Z
LAST-MODIFIED:20170901T204409Z
UID:31004-1516910400-1516910400@www.piercingken.com
SUMMARY:Bruce Springsteen @ Walter Kerr Theatre
DESCRIPTION:“The Boss” is on Broadway. Fans don’t want to miss the legendary performers first-ever residency show. Bruce will discuss his life and personal stories with guitar and piano. \n \nLike this:Like Loading...
URL:https://www.piercingken.com/event/bruce-springsteen-walter-kerr-theatre-72/
LOCATION:Walter Kerr Theatre\, 219 W 48th St\, New York\, NY\, 10036\, United States
CATEGORIES:Concert
END:VEVENT
END:VCALENDAR