BEGIN:VCALENDAR
VERSION:2.0
PRODID:-//The Chronicles Of PiercingKen - ECPv6.15.20//NONSGML v1.0//EN
CALSCALE:GREGORIAN
METHOD:PUBLISH
X-ORIGINAL-URL:https://www.piercingken.com
X-WR-CALDESC:Events for The Chronicles Of PiercingKen
REFRESH-INTERVAL;VALUE=DURATION:PT1H
X-Robots-Tag:noindex
X-PUBLISHED-TTL:PT1H
BEGIN:VTIMEZONE
TZID:America/New_York
BEGIN:DAYLIGHT
TZOFFSETFROM:-0500
TZOFFSETTO:-0400
TZNAME:EDT
DTSTART:20170312T070000
END:DAYLIGHT
BEGIN:STANDARD
TZOFFSETFROM:-0400
TZOFFSETTO:-0500
TZNAME:EST
DTSTART:20171105T060000
END:STANDARD
BEGIN:DAYLIGHT
TZOFFSETFROM:-0500
TZOFFSETTO:-0400
TZNAME:EDT
DTSTART:20180311T070000
END:DAYLIGHT
BEGIN:STANDARD
TZOFFSETFROM:-0400
TZOFFSETTO:-0500
TZNAME:EST
DTSTART:20181104T060000
END:STANDARD
BEGIN:DAYLIGHT
TZOFFSETFROM:-0500
TZOFFSETTO:-0400
TZNAME:EDT
DTSTART:20190310T070000
END:DAYLIGHT
BEGIN:STANDARD
TZOFFSETFROM:-0400
TZOFFSETTO:-0500
TZNAME:EST
DTSTART:20191103T060000
END:STANDARD
END:VTIMEZONE
BEGIN:VEVENT
DTSTART;VALUE=DATE:20180126
DTEND;VALUE=DATE:20180127
DTSTAMP:20260420T071625
CREATED:20180103T145323Z
LAST-MODIFIED:20180103T151644Z
UID:31986-1516924800-1517011199@www.piercingken.com
SUMMARY:The NAMM Show @ Anaheim Convention Center
DESCRIPTION:The NAMM Show is here (well\, in California actually) but we remind our readers about it so they can follow their favorite musical instrument providers websites and social networking accounts to see what the latest and greatest developments are for the year.  If you are going\, have a fantastic time. \n \nLike this:Like Loading...
URL:https://www.piercingken.com/event/the-namm-show-anaheim-convention-center-2/
LOCATION:Anaheim Convention Center\, 800 West Katella Avenue\, Anaheim\, CA\, 92802\, United States
CATEGORIES:Convention
END:VEVENT
BEGIN:VEVENT
DTSTART;VALUE=DATE:20180126
DTEND;VALUE=DATE:20180127
DTSTAMP:20260420T071625
CREATED:20180116T050912Z
LAST-MODIFIED:20220921T230242Z
UID:32221-1516924800-1517011199@www.piercingken.com
SUMMARY:BroadwayCon @ Jacob K. Javits Center
DESCRIPTION:Their website says “It is a three-day expo where fans can meet and interact with their favorite Broadway stars. It’s a showcase of some of Broadway’s newest and most exciting shows. It’s a place where industry professionals can work one-on-one with the next generation of up-and-coming performers.  Most of all\, BroadwayCon a place where fans can come together celebrate their passions and revel in the magic that is the theatre”. – Sounds like a good time to me.  \n \nLike this:Like Loading...
URL:https://www.piercingken.com/event/broadway-con-jacob-k-javits-center/
LOCATION:Jacob K. Javits Convention Center\, 655 W 34th St.\, New York\,\, NY\, 10001\, United States
CATEGORIES:Convention
END:VEVENT
BEGIN:VEVENT
DTSTART;VALUE=DATE:20180126
DTEND;VALUE=DATE:20180127
DTSTAMP:20260420T071625
CREATED:20180125T233807Z
LAST-MODIFIED:20180126T013924Z
UID:32271-1516924800-1517011199@www.piercingken.com
SUMMARY:The New York Times Travel Show @ Jacob K. Javits Center
DESCRIPTION:The 15th Annual NY Times Travel Show is happening at the Javits Center beginning today.  Friday’s session is Industry and Press Only so come on by if you are one of the working media or in the trade.  The rest of you will have to wait until Saturday and Sunday. \n \nLike this:Like Loading...
URL:https://www.piercingken.com/event/the-new-york-times-travel-show-jacob-k-javits-center/
LOCATION:Jacob K. Javits Convention Center\, 655 W 34th St.\, New York\,\, NY\, 10001\, United States
CATEGORIES:Convention
END:VEVENT
BEGIN:VEVENT
DTSTART;TZID=America/New_York:20180126T120000
DTEND;TZID=America/New_York:20180126T210000
DTSTAMP:20260420T071625
CREATED:20171225T183013Z
LAST-MODIFIED:20250103T221440Z
UID:31869-1516968000-1517000400@www.piercingken.com
SUMMARY:New York Boat Show @ Javits Center
DESCRIPTION:The New York Boat Show will take over the Javits Center for five days and showcase the latest crafts for all those interested in them.  Activities and lots to see will await you so check it out. \n \nLike this:Like Loading...
URL:https://www.piercingken.com/event/new-york-boat-show-javits-center-3/
LOCATION:Jacob K. Javits Convention Center\, 655 W 34th St.\, New York\,\, NY\, 10001\, United States
CATEGORIES:Convention
END:VEVENT
BEGIN:VEVENT
DTSTART;TZID=America/New_York:20180126T200000
DTEND;TZID=America/New_York:20180126T200000
DTSTAMP:20260420T071625
CREATED:20170901T214024Z
LAST-MODIFIED:20170901T214024Z
UID:31005-1516996800-1516996800@www.piercingken.com
SUMMARY:Bruce Springsteen @ Walter Kerr Theatre
DESCRIPTION:“The Boss” is on Broadway. Fans don’t want to miss the legendary performers first-ever residency show. Bruce will discuss his life and personal stories with guitar and piano. \n \nLike this:Like Loading...
URL:https://www.piercingken.com/event/bruce-springsteen-walter-kerr-theatre-73/
LOCATION:Walter Kerr Theatre\, 219 W 48th St\, New York\, NY\, 10036\, United States
CATEGORIES:Concert
END:VEVENT
END:VCALENDAR