BEGIN:VCALENDAR
VERSION:2.0
PRODID:-//The Chronicles Of PiercingKen - ECPv6.15.20//NONSGML v1.0//EN
CALSCALE:GREGORIAN
METHOD:PUBLISH
X-WR-CALNAME:The Chronicles Of PiercingKen
X-ORIGINAL-URL:https://www.piercingken.com
X-WR-CALDESC:Events for The Chronicles Of PiercingKen
REFRESH-INTERVAL;VALUE=DURATION:PT1H
X-Robots-Tag:noindex
X-PUBLISHED-TTL:PT1H
BEGIN:VTIMEZONE
TZID:America/New_York
BEGIN:DAYLIGHT
TZOFFSETFROM:-0500
TZOFFSETTO:-0400
TZNAME:EDT
DTSTART:20170312T070000
END:DAYLIGHT
BEGIN:STANDARD
TZOFFSETFROM:-0400
TZOFFSETTO:-0500
TZNAME:EST
DTSTART:20171105T060000
END:STANDARD
BEGIN:DAYLIGHT
TZOFFSETFROM:-0500
TZOFFSETTO:-0400
TZNAME:EDT
DTSTART:20180311T070000
END:DAYLIGHT
BEGIN:STANDARD
TZOFFSETFROM:-0400
TZOFFSETTO:-0500
TZNAME:EST
DTSTART:20181104T060000
END:STANDARD
BEGIN:DAYLIGHT
TZOFFSETFROM:-0500
TZOFFSETTO:-0400
TZNAME:EDT
DTSTART:20190310T070000
END:DAYLIGHT
BEGIN:STANDARD
TZOFFSETFROM:-0400
TZOFFSETTO:-0500
TZNAME:EST
DTSTART:20191103T060000
END:STANDARD
END:VTIMEZONE
BEGIN:VEVENT
DTSTART;TZID=America/New_York:20180525T050000
DTEND;TZID=America/New_York:20180525T090000
DTSTAMP:20260419T201659
CREATED:20180516T003013Z
LAST-MODIFIED:20180516T184915Z
UID:33414-1527224400-1527238800@www.piercingken.com
SUMMARY:Darius Rucker @ Citi Concert Series on Today at Rockefeller Center
DESCRIPTION:Darius Rucker is coming to TODAY! The popular country singer behind the hit songs “Homegrown Honey\,” “For the First Time” and more will rock our Citi Concert Series on TODAY with a performance on Rockefeller Plaza.  \n \nViewing is on a first-come\, first-served basis on the TODAY plaza\, located at 48th Street between Fifth and Sixth Avenues in New York City.  To get the best spot\, fans should try to arrive by 5 a.m. Generally\, concerts happen rain or shine.  \nLike this:Like Loading...
URL:https://www.piercingken.com/event/darius-rucker-citi-concert-series-on-today-at-rockefeller-center/
LOCATION:Rockefeller Center\, 45 Rockefeller Plaza\, New York\, NY\, 10111\, United States
CATEGORIES:Concert
END:VEVENT
BEGIN:VEVENT
DTSTART;TZID=America/New_York:20180525T060000
DTEND;TZID=America/New_York:20180525T090000
DTSTAMP:20260419T201659
CREATED:20180516T103024Z
LAST-MODIFIED:20180714T115857Z
UID:34595-1527228000-1527238800@www.piercingken.com
SUMMARY:Sting and Shaggy @ Rumsey Playfield
DESCRIPTION:Sting and Shaggy will being their unique collaboration to life as a part of the Good Morning America Summer Concert Series.  Remember that these events begin super early and are first come\, first to enter. \n \nLike this:Like Loading...
URL:https://www.piercingken.com/event/sting-and-shaggy-rumsey-playfield/
LOCATION:Central Park Rumsey Playfield\, East 71st Street\, New York\, NY\, 10021\, United States
CATEGORIES:Concert
END:VEVENT
BEGIN:VEVENT
DTSTART;TZID=America/New_York:20180525T060000
DTEND;TZID=America/New_York:20180525T090000
DTSTAMP:20260419T201659
CREATED:20180520T133012Z
LAST-MODIFIED:20180620T202825Z
UID:34084-1527228000-1527238800@www.piercingken.com
SUMMARY:Lee Greenwood @ The Intrepid
DESCRIPTION:Lee Greenwood will perform several hits for free for all in attendance as a part of the Fox & Friends “All-American Summer Concert Series” for 2018. This is a great way to start your day and enjoy some awesome live music and tasty BBQ eats. As this event is super early\, I suggest a timely arrival to get the best possible space.  With the holiday show being on The Intrepid\, do consider spending time at this amazing place afterward. \n \nConcerts for the FOX and Friends’ All-American Summer Concert Series are free for the public and held on the FOX News plaza at 48th Street and 6th Avenue in Midtown Manhattan. \nLike this:Like Loading...
URL:https://www.piercingken.com/event/lee-greenwood-the-intrepid/
LOCATION:Intrepid Sea\, Air & Space Museum\, Pier 86\, W 46th St & 12th Ave\, New York\, NY\, 10036\, United States
CATEGORIES:Concert
END:VEVENT
BEGIN:VEVENT
DTSTART;TZID=America/New_York:20180525T200000
DTEND;TZID=America/New_York:20180525T200000
DTSTAMP:20260419T201659
CREATED:20180325T120001Z
LAST-MODIFIED:20180409T181535Z
UID:32968-1527278400-1527278400@www.piercingken.com
SUMMARY:Bruce Springsteen @ Walter Kerr Theatre
DESCRIPTION:“The Boss” is on Broadway. Fans don’t want to miss the legendary performers first-ever residency show which has now been extended to maximize attendance. Here Bruce will discuss his life and personal stories with guitar and piano. This second extension of performances will hopefully find all the diehards getting a chance to see him in this intimate setting. \n \nLike this:Like Loading...
URL:https://www.piercingken.com/event/bruce-springsteen-walter-kerr-theatre-130/
LOCATION:Walter Kerr Theatre\, 219 W 48th St\, New York\, NY\, 10036\, United States
CATEGORIES:Concert
END:VEVENT
END:VCALENDAR