BEGIN:VCALENDAR
VERSION:2.0
PRODID:-//The Chronicles Of PiercingKen - ECPv6.15.20//NONSGML v1.0//EN
CALSCALE:GREGORIAN
METHOD:PUBLISH
X-ORIGINAL-URL:https://www.piercingken.com
X-WR-CALDESC:Events for The Chronicles Of PiercingKen
REFRESH-INTERVAL;VALUE=DURATION:PT1H
X-Robots-Tag:noindex
X-PUBLISHED-TTL:PT1H
BEGIN:VTIMEZONE
TZID:America/New_York
BEGIN:DAYLIGHT
TZOFFSETFROM:-0500
TZOFFSETTO:-0400
TZNAME:EDT
DTSTART:20170312T070000
END:DAYLIGHT
BEGIN:STANDARD
TZOFFSETFROM:-0400
TZOFFSETTO:-0500
TZNAME:EST
DTSTART:20171105T060000
END:STANDARD
BEGIN:DAYLIGHT
TZOFFSETFROM:-0500
TZOFFSETTO:-0400
TZNAME:EDT
DTSTART:20180311T070000
END:DAYLIGHT
BEGIN:STANDARD
TZOFFSETFROM:-0400
TZOFFSETTO:-0500
TZNAME:EST
DTSTART:20181104T060000
END:STANDARD
BEGIN:DAYLIGHT
TZOFFSETFROM:-0500
TZOFFSETTO:-0400
TZNAME:EDT
DTSTART:20190310T070000
END:DAYLIGHT
BEGIN:STANDARD
TZOFFSETFROM:-0400
TZOFFSETTO:-0500
TZNAME:EST
DTSTART:20191103T060000
END:STANDARD
END:VTIMEZONE
BEGIN:VEVENT
DTSTART;TZID=America/New_York:20180528T050000
DTEND;TZID=America/New_York:20180528T090000
DTSTAMP:20260423T144512
CREATED:20180516T005857Z
LAST-MODIFIED:20180516T005857Z
UID:33418-1527483600-1527498000@www.piercingken.com
SUMMARY:Troye Sivan @ Citi Concert Series on Today at Rockefeller Center
DESCRIPTION:Troye Sivan is coming to TODAY! The popular singer behind the hit songs “My\, My\, My” and ” Youth” will heat up our Citi Concert Series on TODAY with a performance on Rockefeller Plaza.  \n \nViewing is on a first-come\, first-served basis on the TODAY plaza\, located at 48th Street between Fifth and Sixth Avenues in New York City. To get the best spot\, fans should try to arrive by 5 a.m. Generally\, concerts happen rain or shine.  \nLike this:Like Loading...
URL:https://www.piercingken.com/event/troye-sivan-citi-concert-series-on-today-at-rockefeller-center/
LOCATION:Rockefeller Center\, 45 Rockefeller Plaza\, New York\, NY\, 10111\, United States
CATEGORIES:Concert
END:VEVENT
END:VCALENDAR