BEGIN:VCALENDAR
VERSION:2.0
PRODID:-//The Chronicles Of PiercingKen - ECPv6.15.20//NONSGML v1.0//EN
CALSCALE:GREGORIAN
METHOD:PUBLISH
X-WR-CALNAME:The Chronicles Of PiercingKen
X-ORIGINAL-URL:https://www.piercingken.com
X-WR-CALDESC:Events for The Chronicles Of PiercingKen
REFRESH-INTERVAL;VALUE=DURATION:PT1H
X-Robots-Tag:noindex
X-PUBLISHED-TTL:PT1H
BEGIN:VTIMEZONE
TZID:America/New_York
BEGIN:DAYLIGHT
TZOFFSETFROM:-0500
TZOFFSETTO:-0400
TZNAME:EDT
DTSTART:20170312T070000
END:DAYLIGHT
BEGIN:STANDARD
TZOFFSETFROM:-0400
TZOFFSETTO:-0500
TZNAME:EST
DTSTART:20171105T060000
END:STANDARD
BEGIN:DAYLIGHT
TZOFFSETFROM:-0500
TZOFFSETTO:-0400
TZNAME:EDT
DTSTART:20180311T070000
END:DAYLIGHT
BEGIN:STANDARD
TZOFFSETFROM:-0400
TZOFFSETTO:-0500
TZNAME:EST
DTSTART:20181104T060000
END:STANDARD
BEGIN:DAYLIGHT
TZOFFSETFROM:-0500
TZOFFSETTO:-0400
TZNAME:EDT
DTSTART:20190310T070000
END:DAYLIGHT
BEGIN:STANDARD
TZOFFSETFROM:-0400
TZOFFSETTO:-0500
TZNAME:EST
DTSTART:20191103T060000
END:STANDARD
END:VTIMEZONE
BEGIN:VEVENT
DTSTART;VALUE=DATE:20180615
DTEND;VALUE=DATE:20180616
DTSTAMP:20260422T114618
CREATED:20180113T055601Z
LAST-MODIFIED:20180113T151636Z
UID:32085-1529020800-1529107199@www.piercingken.com
SUMMARY:BoroughCon @ Brooklyn Expo Center
DESCRIPTION:BoroughCon has returned for its second year and this time at the spacious Brooklyn Expo Center.  Don’t miss out on this fun-filled event in Greenpoint\, Brooklyn.   \n \nLike this:Like Loading...
URL:https://www.piercingken.com/event/boroughcon-brooklyn-expo-center/
LOCATION:Brooklyn Expo Center\, 72 Noble Street\, Brooklyn\, NY\, 11222\, United States
CATEGORIES:Convention
END:VEVENT
BEGIN:VEVENT
DTSTART;TZID=America/New_York:20180615T050000
DTEND;TZID=America/New_York:20180615T090000
DTSTAMP:20260422T114618
CREATED:20180516T011013Z
LAST-MODIFIED:20180516T185129Z
UID:33422-1529038800-1529053200@www.piercingken.com
SUMMARY:Christina Aguilera @ Citi Concert Series on Today at Rockefeller Center
DESCRIPTION:Viewing is on a first-come\, first-served basis on the TODAY plaza\, located at 48th Street between Fifth and Sixth Avenues in New York City. To get the best spot\, fans should try to arrive by 5 a.m. Generally\, concerts happen rain or shine.  \nLike this:Like Loading...
URL:https://www.piercingken.com/event/christina-aguilera-citi-concert-series-on-today-at-rockefeller-center/
LOCATION:Rockefeller Center\, 45 Rockefeller Plaza\, New York\, NY\, 10111\, United States
CATEGORIES:Concert
END:VEVENT
BEGIN:VEVENT
DTSTART;TZID=America/New_York:20180615T060000
DTEND;TZID=America/New_York:20180615T090000
DTSTAMP:20260422T114618
CREATED:20180516T120027Z
LAST-MODIFIED:20180714T142043Z
UID:34594-1529042400-1529053200@www.piercingken.com
SUMMARY:Pitbull @ Rumsey Playfield
DESCRIPTION:Pitbull will bring his hits to life for the early morning crowd for Good Morning America Summer Concert Series.  Remember that these events begin early and that its first come\, first to enter until capacity is reached. \n \nLike this:Like Loading...
URL:https://www.piercingken.com/event/pitbull-rumsey-playfield/
LOCATION:Central Park Rumsey Playfield\, East 71st Street\, New York\, NY\, 10021\, United States
CATEGORIES:Concert
END:VEVENT
BEGIN:VEVENT
DTSTART;TZID=America/New_York:20180615T060000
DTEND;TZID=America/New_York:20180615T090000
DTSTAMP:20260422T114618
CREATED:20180520T150045Z
LAST-MODIFIED:20180706T003020Z
UID:34081-1529042400-1529053200@www.piercingken.com
SUMMARY:3 Doors Down @ FOX News Plaza
DESCRIPTION:3 Doors Down will perform several hits for free for all in attendance as a part of the Fox & Friends “All-American Summer Concert Series” for 2018. This is a great way to start your day and enjoy some awesome live music and tasty BBQ eats. As this event is super early\, I suggest a timely arrival to get the best possible space. \n \nConcerts for the FOX and Friends’ All-American Summer Concert Series are free for the public and held on the FOX News plaza at 48th Street and 6th Avenue in Midtown Manhattan. \nLike this:Like Loading...
URL:https://www.piercingken.com/event/3-doors-down-fox-news-plaza/
LOCATION:FOX News Plaza\, 1211 Avenue Of The Americas\, New York\, NY\, 10036\, United States
CATEGORIES:Concert
END:VEVENT
BEGIN:VEVENT
DTSTART;TZID=America/New_York:20180615T200000
DTEND;TZID=America/New_York:20180615T200000
DTSTAMP:20260422T114618
CREATED:20180515T133040Z
LAST-MODIFIED:20180629T050337Z
UID:34317-1529092800-1529092800@www.piercingken.com
SUMMARY:Bruce Springsteen @ Walter Kerr Theatre
DESCRIPTION:“The Boss” is on Broadway. Fans don’t want to miss the legendary performers first-ever residency show which has now been extended to maximize attendance. Here Bruce will discuss his life and personal stories with guitar and piano. This second extension of performances will hopefully find all the diehards getting a chance to see him in this intimate setting. \n \nLike this:Like Loading...
URL:https://www.piercingken.com/event/bruce-springsteen-walter-kerr-theatre-143/
LOCATION:Walter Kerr Theatre\, 219 W 48th St\, New York\, NY\, 10036\, United States
CATEGORIES:Concert
END:VEVENT
END:VCALENDAR