BEGIN:VCALENDAR
VERSION:2.0
PRODID:-//The Chronicles Of PiercingKen - ECPv6.15.20//NONSGML v1.0//EN
CALSCALE:GREGORIAN
METHOD:PUBLISH
X-WR-CALNAME:The Chronicles Of PiercingKen
X-ORIGINAL-URL:https://www.piercingken.com
X-WR-CALDESC:Events for The Chronicles Of PiercingKen
REFRESH-INTERVAL;VALUE=DURATION:PT1H
X-Robots-Tag:noindex
X-PUBLISHED-TTL:PT1H
BEGIN:VTIMEZONE
TZID:America/New_York
BEGIN:DAYLIGHT
TZOFFSETFROM:-0500
TZOFFSETTO:-0400
TZNAME:EDT
DTSTART:20170312T070000
END:DAYLIGHT
BEGIN:STANDARD
TZOFFSETFROM:-0400
TZOFFSETTO:-0500
TZNAME:EST
DTSTART:20171105T060000
END:STANDARD
BEGIN:DAYLIGHT
TZOFFSETFROM:-0500
TZOFFSETTO:-0400
TZNAME:EDT
DTSTART:20180311T070000
END:DAYLIGHT
BEGIN:STANDARD
TZOFFSETFROM:-0400
TZOFFSETTO:-0500
TZNAME:EST
DTSTART:20181104T060000
END:STANDARD
BEGIN:DAYLIGHT
TZOFFSETFROM:-0500
TZOFFSETTO:-0400
TZNAME:EDT
DTSTART:20190310T070000
END:DAYLIGHT
BEGIN:STANDARD
TZOFFSETFROM:-0400
TZOFFSETTO:-0500
TZNAME:EST
DTSTART:20191103T060000
END:STANDARD
END:VTIMEZONE
BEGIN:VEVENT
DTSTART;VALUE=DATE:20180707
DTEND;VALUE=DATE:20180708
DTSTAMP:20260423T055755
CREATED:20180317T195644Z
LAST-MODIFIED:20180317T195906Z
UID:32756-1530921600-1531007999@www.piercingken.com
SUMMARY:Brick Fest Live @ Meadowlands Expo Center
DESCRIPTION:Their copy says it all “LEGO® lovers rejoice! The Brick Fest Live LEGO® Fan Experience is filled with hands-on attractions and activities built to inspire\, educate\, and entertain all with LEGO® bricks. Combine this with the interactive engineering and science exhibits of the New York Hall of Science and you’ve got an entire weekend of STEM (STEAM) inspiration for a wide range of interests and ages.” \n \nLike this:Like Loading...
URL:https://www.piercingken.com/event/brick-fest-live-meadowlands-expo-center/
LOCATION:Meadowlands Exposition Center\, 355 Plaza Drive\, Secaucus\, NJ\, 07094\, United States
CATEGORIES:Festival - Fair
END:VEVENT
BEGIN:VEVENT
DTSTART;VALUE=DATE:20180707
DTEND;VALUE=DATE:20180708
DTSTAMP:20260423T055755
CREATED:20180607T133020Z
LAST-MODIFIED:20180706T155614Z
UID:34426-1530921600-1531007999@www.piercingken.com
SUMMARY:Garden State Comic Fest @ Mennen Arena
DESCRIPTION:The Garden State Comic Fest is here for those who feel the need for geeking out. Come early and stay late. \n \nLike this:Like Loading...
URL:https://www.piercingken.com/event/garden-state-comic-fest-mennen-arena-3/
LOCATION:William G. Mennen Sports Arena\, 161 E Hanover Ave\, Morristown\, NJ\, 07960\, United States
CATEGORIES:Convention
END:VEVENT
BEGIN:VEVENT
DTSTART;TZID=America/New_York:20180707T130000
DTEND;TZID=America/New_York:20180707T210000
DTSTAMP:20260423T055755
CREATED:20180707T123047Z
LAST-MODIFIED:20180707T144131Z
UID:34435-1530968400-1530997200@www.piercingken.com
SUMMARY:Video Music Box 35th Anniversary @ Coney Art Walls
DESCRIPTION:Hip-Hop fans will get their rhyming fill with this free concert that celebrates the 35th Anniversary of the popular Video Music Box show.  Come early\, and stay late.  Don’t forget to go to Nathan’s Famous afterwards\, or before or during.   \n \nLike this:Like Loading...
URL:https://www.piercingken.com/event/video-music-box-35th-anniversary-coney-art-walls/
LOCATION:Coney Art Walls\, 3050 Stillwell Avenue\, Brooklyn\, NY\, 11224\, United States
CATEGORIES:Concert
END:VEVENT
END:VCALENDAR