BEGIN:VCALENDAR
VERSION:2.0
PRODID:-//The Chronicles Of PiercingKen - ECPv6.15.20//NONSGML v1.0//EN
CALSCALE:GREGORIAN
METHOD:PUBLISH
X-WR-CALNAME:The Chronicles Of PiercingKen
X-ORIGINAL-URL:https://www.piercingken.com
X-WR-CALDESC:Events for The Chronicles Of PiercingKen
REFRESH-INTERVAL;VALUE=DURATION:PT1H
X-Robots-Tag:noindex
X-PUBLISHED-TTL:PT1H
BEGIN:VTIMEZONE
TZID:America/New_York
BEGIN:DAYLIGHT
TZOFFSETFROM:-0500
TZOFFSETTO:-0400
TZNAME:EDT
DTSTART:20170312T070000
END:DAYLIGHT
BEGIN:STANDARD
TZOFFSETFROM:-0400
TZOFFSETTO:-0500
TZNAME:EST
DTSTART:20171105T060000
END:STANDARD
BEGIN:DAYLIGHT
TZOFFSETFROM:-0500
TZOFFSETTO:-0400
TZNAME:EDT
DTSTART:20180311T070000
END:DAYLIGHT
BEGIN:STANDARD
TZOFFSETFROM:-0400
TZOFFSETTO:-0500
TZNAME:EST
DTSTART:20181104T060000
END:STANDARD
BEGIN:DAYLIGHT
TZOFFSETFROM:-0500
TZOFFSETTO:-0400
TZNAME:EDT
DTSTART:20190310T070000
END:DAYLIGHT
BEGIN:STANDARD
TZOFFSETFROM:-0400
TZOFFSETTO:-0500
TZNAME:EST
DTSTART:20191103T060000
END:STANDARD
END:VTIMEZONE
BEGIN:VEVENT
DTSTART;VALUE=DATE:20181007
DTEND;VALUE=DATE:20181008
DTSTAMP:20260420T114529
CREATED:20181001T124527Z
LAST-MODIFIED:20241205T215726Z
UID:56646-1538870400-1538956799@www.piercingken.com
SUMMARY:New York Comic Con @ Javits Center
DESCRIPTION:The New York Comic Con for 2018 has landed at the Javits Center and will be the geek focal point for the next four days.  According to their social media posts\, the tickets are completely sold out but there always end up being a few for those who might feel like paying a little extra to be a part of the craziness. \n \nLike this:Like Loading...
URL:https://www.piercingken.com/event/new-york-comic-con-javits-center-4-2/
LOCATION:Jacob K. Javits Convention Center\, 655 W 34th St.\, New York\,\, NY\, 10001\, United States
CATEGORIES:Convention
END:VEVENT
BEGIN:VEVENT
DTSTART;VALUE=DATE:20181007
DTEND;VALUE=DATE:20181008
DTSTAMP:20260420T114529
CREATED:20180227T164552Z
LAST-MODIFIED:20241002T014159Z
UID:36456-1538870400-1538956799@www.piercingken.com
SUMMARY:New York Comic Con @ Javits Center
DESCRIPTION:Four days of excitement and absolute Nerd-vana await the attendees of the NY Comic Con. Remember that while the main event is at the Javits Center that numerous panels and activities will take place elsewhere so use their website for the full itinerary.  Follow “The Chronicles” on Facebook\, Instagram and Twitter along with your other favorite Geek sites for reports from the field. \nLike this:Like Loading...
URL:https://www.piercingken.com/event/new-york-comic-con-javits-center-13/
LOCATION:Jacob K. Javits Convention Center\, 655 W 34th St.\, New York\,\, NY\, 10001\, United States
CATEGORIES:Convention
END:VEVENT
BEGIN:VEVENT
DTSTART;VALUE=DATE:20181007
DTEND;VALUE=DATE:20181008
DTSTAMP:20260420T114529
CREATED:20180920T134513Z
LAST-MODIFIED:20180925T035157Z
UID:36320-1538870400-1538956799@www.piercingken.com
SUMMARY:Anime Fest @ NYCC x Anime Expo @ Pier 94
DESCRIPTION:Are you a NYCC Otaku? Then you’ll want to be at Pier 94 October 4-7\, 2018 as New York Comic Con and Anime Expo join forces for Anime Fest @ NYCC x Anime Expo. It’s a full four-day anime focused festival that celebrates anime\, manga\, cosplay\, artists\, J-pop\, delicious food\, and more in Japanese culture!  \nLike this:Like Loading...
URL:https://www.piercingken.com/event/anime-fest-nycc-x-anime-expo-pier-94-4/
LOCATION:Pier 94\, 711 12th Ave\, New York\, NY\, 10019\, United States
CATEGORIES:Convention
END:VEVENT
END:VCALENDAR