BEGIN:VCALENDAR
VERSION:2.0
PRODID:-//The Chronicles Of PiercingKen - ECPv6.15.20//NONSGML v1.0//EN
CALSCALE:GREGORIAN
METHOD:PUBLISH
X-ORIGINAL-URL:https://www.piercingken.com
X-WR-CALDESC:Events for The Chronicles Of PiercingKen
REFRESH-INTERVAL;VALUE=DURATION:PT1H
X-Robots-Tag:noindex
X-PUBLISHED-TTL:PT1H
BEGIN:VTIMEZONE
TZID:America/New_York
BEGIN:DAYLIGHT
TZOFFSETFROM:-0500
TZOFFSETTO:-0400
TZNAME:EDT
DTSTART:20170312T070000
END:DAYLIGHT
BEGIN:STANDARD
TZOFFSETFROM:-0400
TZOFFSETTO:-0500
TZNAME:EST
DTSTART:20171105T060000
END:STANDARD
BEGIN:DAYLIGHT
TZOFFSETFROM:-0500
TZOFFSETTO:-0400
TZNAME:EDT
DTSTART:20180311T070000
END:DAYLIGHT
BEGIN:STANDARD
TZOFFSETFROM:-0400
TZOFFSETTO:-0500
TZNAME:EST
DTSTART:20181104T060000
END:STANDARD
BEGIN:DAYLIGHT
TZOFFSETFROM:-0500
TZOFFSETTO:-0400
TZNAME:EDT
DTSTART:20190310T070000
END:DAYLIGHT
BEGIN:STANDARD
TZOFFSETFROM:-0400
TZOFFSETTO:-0500
TZNAME:EST
DTSTART:20191103T060000
END:STANDARD
END:VTIMEZONE
BEGIN:VEVENT
DTSTART;VALUE=DATE:20181104
DTEND;VALUE=DATE:20181105
DTSTAMP:20260420T213142
CREATED:20181001T130032Z
LAST-MODIFIED:20241015T161423Z
UID:36528-1541289600-1541375999@www.piercingken.com
SUMMARY:eXXXotica Expo @ New Jersey Convention and Exposition Center
DESCRIPTION:The 2018 eXXXotica Expo is here and is the place to meet your favorite adult performers and cam models along with so much more. Come on out if you are daring and over the age of 18 🙂 \n \nLike this:Like Loading...
URL:https://www.piercingken.com/event/exxxotica-expo-new-jersey-convention-and-exposition-center-6/
LOCATION:New Jersey Convention and Exposition Center\, 97 Sunfield Ave\, Edison\, NY\, 08837\, United States
CATEGORIES:Convention
END:VEVENT
BEGIN:VEVENT
DTSTART;TZID=America/New_York:20181104T100000
DTEND;TZID=America/New_York:20181104T200000
DTSTAMP:20260420T213142
CREATED:20181031T130053Z
LAST-MODIFIED:20240309T194339Z
UID:36604-1541325600-1541361600@www.piercingken.com
SUMMARY:Canstruction New York @ Brookfield Place
DESCRIPTION:The “Canstruction” New York exhibit for 2018 is open to the public until 11/15 at the beautiful Brookfield Place. Do stop by and snap some photos for your Facebook or Instagram and consider donating some canned goods for the City Harvest charity as well. \n \nLike this:Like Loading...
URL:https://www.piercingken.com/event/canstruction-new-york-brookfield-place-17/
LOCATION:Brookfield Place\, 230 Vesey Street\, New York\, NY\, 10281\, United States
CATEGORIES:Art Fair
END:VEVENT
END:VCALENDAR