BEGIN:VCALENDAR
VERSION:2.0
PRODID:-//The Chronicles Of PiercingKen - ECPv6.15.20//NONSGML v1.0//EN
CALSCALE:GREGORIAN
METHOD:PUBLISH
X-WR-CALNAME:The Chronicles Of PiercingKen
X-ORIGINAL-URL:https://www.piercingken.com
X-WR-CALDESC:Events for The Chronicles Of PiercingKen
REFRESH-INTERVAL;VALUE=DURATION:PT1H
X-Robots-Tag:noindex
X-PUBLISHED-TTL:PT1H
BEGIN:VTIMEZONE
TZID:America/New_York
BEGIN:DAYLIGHT
TZOFFSETFROM:-0500
TZOFFSETTO:-0400
TZNAME:EDT
DTSTART:20180311T070000
END:DAYLIGHT
BEGIN:STANDARD
TZOFFSETFROM:-0400
TZOFFSETTO:-0500
TZNAME:EST
DTSTART:20181104T060000
END:STANDARD
BEGIN:DAYLIGHT
TZOFFSETFROM:-0500
TZOFFSETTO:-0400
TZNAME:EDT
DTSTART:20190310T070000
END:DAYLIGHT
BEGIN:STANDARD
TZOFFSETFROM:-0400
TZOFFSETTO:-0500
TZNAME:EST
DTSTART:20191103T060000
END:STANDARD
BEGIN:DAYLIGHT
TZOFFSETFROM:-0500
TZOFFSETTO:-0400
TZNAME:EDT
DTSTART:20200308T070000
END:DAYLIGHT
BEGIN:STANDARD
TZOFFSETFROM:-0400
TZOFFSETTO:-0500
TZNAME:EST
DTSTART:20201101T060000
END:STANDARD
END:VTIMEZONE
BEGIN:VEVENT
DTSTART;TZID=America/New_York:20190310T100000
DTEND;TZID=America/New_York:20190310T190000
DTSTAMP:20260419T103855
CREATED:20190201T143004Z
LAST-MODIFIED:20190201T161826Z
UID:38046-1552212000-1552244400@www.piercingken.com
SUMMARY:Big Apple Comic Con @ Penn Plaza Pavilion
DESCRIPTION:Shake away those winter blues with the fun filled\, cosplay loaded Big Apple Comic Con.  Find your best costumes and make sure your mobile is fully charged for Instagram/Facebook stories.  Come to one or both days and we’ll see you there at some point. \n \nLike this:Like Loading...
URL:https://www.piercingken.com/event/big-apple-comic-con-penn-plaza-pavilion-6/
LOCATION:Penn Plaza Pavilion\, 401-7th Avenue\, New York\, NY\, United States
CATEGORIES:Convention
END:VEVENT
END:VCALENDAR