BEGIN:VCALENDAR
VERSION:2.0
PRODID:-//The Chronicles Of PiercingKen - ECPv6.15.20//NONSGML v1.0//EN
CALSCALE:GREGORIAN
METHOD:PUBLISH
X-WR-CALNAME:The Chronicles Of PiercingKen
X-ORIGINAL-URL:https://www.piercingken.com
X-WR-CALDESC:Events for The Chronicles Of PiercingKen
REFRESH-INTERVAL;VALUE=DURATION:PT1H
X-Robots-Tag:noindex
X-PUBLISHED-TTL:PT1H
BEGIN:VTIMEZONE
TZID:America/New_York
BEGIN:DAYLIGHT
TZOFFSETFROM:-0500
TZOFFSETTO:-0400
TZNAME:EDT
DTSTART:20180311T070000
END:DAYLIGHT
BEGIN:STANDARD
TZOFFSETFROM:-0400
TZOFFSETTO:-0500
TZNAME:EST
DTSTART:20181104T060000
END:STANDARD
BEGIN:DAYLIGHT
TZOFFSETFROM:-0500
TZOFFSETTO:-0400
TZNAME:EDT
DTSTART:20190310T070000
END:DAYLIGHT
BEGIN:STANDARD
TZOFFSETFROM:-0400
TZOFFSETTO:-0500
TZNAME:EST
DTSTART:20191103T060000
END:STANDARD
BEGIN:DAYLIGHT
TZOFFSETFROM:-0500
TZOFFSETTO:-0400
TZNAME:EDT
DTSTART:20200308T070000
END:DAYLIGHT
BEGIN:STANDARD
TZOFFSETFROM:-0400
TZOFFSETTO:-0500
TZNAME:EST
DTSTART:20201101T060000
END:STANDARD
END:VTIMEZONE
BEGIN:VEVENT
DTSTART;TZID=America/New_York:20190324T100000
DTEND;TZID=America/New_York:20190324T170000
DTSTAMP:20260419T135859
CREATED:20190310T133015Z
LAST-MODIFIED:20190316T225519Z
UID:38780-1553421600-1553446800@www.piercingken.com
SUMMARY:Architectural Digest Design Show @ Pier 92 & 94
DESCRIPTION:The Architectual Digest Design Show will take over Pier 92 and 94 and bring you the latest and greatest from designer brands.  Find your inspiration and help make it happen in your personal world. \n \nLike this:Like Loading...
URL:https://www.piercingken.com/event/architectural-digest-design-show-pier-92-94-4/
LOCATION:Pier 94\, 711 12th Ave\, New York\, NY\, 10019\, United States
CATEGORIES:Convention
END:VEVENT
END:VCALENDAR