BEGIN:VCALENDAR
VERSION:2.0
PRODID:-//The Chronicles Of PiercingKen - ECPv6.15.20//NONSGML v1.0//EN
CALSCALE:GREGORIAN
METHOD:PUBLISH
X-WR-CALNAME:The Chronicles Of PiercingKen
X-ORIGINAL-URL:https://www.piercingken.com
X-WR-CALDESC:Events for The Chronicles Of PiercingKen
REFRESH-INTERVAL;VALUE=DURATION:PT1H
X-Robots-Tag:noindex
X-PUBLISHED-TTL:PT1H
BEGIN:VTIMEZONE
TZID:America/New_York
BEGIN:DAYLIGHT
TZOFFSETFROM:-0500
TZOFFSETTO:-0400
TZNAME:EDT
DTSTART:20180311T070000
END:DAYLIGHT
BEGIN:STANDARD
TZOFFSETFROM:-0400
TZOFFSETTO:-0500
TZNAME:EST
DTSTART:20181104T060000
END:STANDARD
BEGIN:DAYLIGHT
TZOFFSETFROM:-0500
TZOFFSETTO:-0400
TZNAME:EDT
DTSTART:20190310T070000
END:DAYLIGHT
BEGIN:STANDARD
TZOFFSETFROM:-0400
TZOFFSETTO:-0500
TZNAME:EST
DTSTART:20191103T060000
END:STANDARD
BEGIN:DAYLIGHT
TZOFFSETFROM:-0500
TZOFFSETTO:-0400
TZNAME:EDT
DTSTART:20200308T070000
END:DAYLIGHT
BEGIN:STANDARD
TZOFFSETFROM:-0400
TZOFFSETTO:-0500
TZNAME:EST
DTSTART:20201101T060000
END:STANDARD
END:VTIMEZONE
BEGIN:VEVENT
DTSTART;VALUE=DATE:20190405
DTEND;VALUE=DATE:20190406
DTSTAMP:20260419T120755
CREATED:20190301T130059Z
LAST-MODIFIED:20190302T002546Z
UID:38361-1554422400-1554508799@www.piercingken.com
SUMMARY:No Limits Tattoo Show @ Resorts World Casino
DESCRIPTION:The No Limits Tattoo Show will take over Resorts World Casino for three days.  If you are a fan of the art form or interested in getting a tattoo\, make this be your agenda item for the weekend.  Tattoos will be given on site but you must be 18+ in order to do so.   \n \nLike this:Like Loading...
URL:https://www.piercingken.com/event/no-limits-tattoo-show-resorts-world-casino/
LOCATION:Resorts World Casino\, 110-00 Rockaway Blvd.\, South Ozone Park\, NY\, 11420\, United States
CATEGORIES:Convention
END:VEVENT
BEGIN:VEVENT
DTSTART;TZID=America/New_York:20190405T090000
DTEND;TZID=America/New_York:20190405T160000
DTSTAMP:20260419T120755
CREATED:20190401T120048Z
LAST-MODIFIED:20190402T184337Z
UID:39151-1554454800-1554480000@www.piercingken.com
SUMMARY:WrestleCon @ New York Hilton Midtown
DESCRIPTION:Wrestlecon is an annual celebration of all things wrestling. It is an annual event with live wrestling\, meet and greets\, autograph signings and more! \n \nLike this:Like Loading...
URL:https://www.piercingken.com/event/wrestlecon-new-york-hilton-midtown/
LOCATION:New York Hilton Midtown\, 1335 Avenue Of The Americas\, New York\, NY\, 10606\, United States
CATEGORIES:Convention
END:VEVENT
BEGIN:VEVENT
DTSTART;TZID=America/New_York:20190405T180000
DTEND;TZID=America/New_York:20190405T180000
DTSTAMP:20260419T120755
CREATED:20190401T130045Z
LAST-MODIFIED:20190403T014452Z
UID:39172-1554487200-1554487200@www.piercingken.com
SUMMARY:WWE NXT TakeOver: New York @ Barclays Center
DESCRIPTION:Wrestlemania Week is taking over NYC and you don’t want to miss this exciting event in Brooklyn. \n \nLike this:Like Loading...
URL:https://www.piercingken.com/event/wwe-nxt-takeover-new-york-barclays-center/
LOCATION:Barclays Center\, 620 Atlantic Avenue\, Brooklyn\, NY\, 11217\, United States
CATEGORIES:Special Appearance
END:VEVENT
END:VCALENDAR