BEGIN:VCALENDAR
VERSION:2.0
PRODID:-//The Chronicles Of PiercingKen - ECPv6.15.20//NONSGML v1.0//EN
CALSCALE:GREGORIAN
METHOD:PUBLISH
X-ORIGINAL-URL:https://www.piercingken.com
X-WR-CALDESC:Events for The Chronicles Of PiercingKen
REFRESH-INTERVAL;VALUE=DURATION:PT1H
X-Robots-Tag:noindex
X-PUBLISHED-TTL:PT1H
BEGIN:VTIMEZONE
TZID:America/New_York
BEGIN:DAYLIGHT
TZOFFSETFROM:-0500
TZOFFSETTO:-0400
TZNAME:EDT
DTSTART:20180311T070000
END:DAYLIGHT
BEGIN:STANDARD
TZOFFSETFROM:-0400
TZOFFSETTO:-0500
TZNAME:EST
DTSTART:20181104T060000
END:STANDARD
BEGIN:DAYLIGHT
TZOFFSETFROM:-0500
TZOFFSETTO:-0400
TZNAME:EDT
DTSTART:20190310T070000
END:DAYLIGHT
BEGIN:STANDARD
TZOFFSETFROM:-0400
TZOFFSETTO:-0500
TZNAME:EST
DTSTART:20191103T060000
END:STANDARD
BEGIN:DAYLIGHT
TZOFFSETFROM:-0500
TZOFFSETTO:-0400
TZNAME:EDT
DTSTART:20200308T070000
END:DAYLIGHT
BEGIN:STANDARD
TZOFFSETFROM:-0400
TZOFFSETTO:-0500
TZNAME:EST
DTSTART:20201101T060000
END:STANDARD
END:VTIMEZONE
BEGIN:VEVENT
DTSTART;VALUE=DATE:20190602
DTEND;VALUE=DATE:20190603
DTSTAMP:20260420T182137
CREATED:20190109T190030Z
LAST-MODIFIED:20190201T135628Z
UID:38030-1559433600-1559519999@www.piercingken.com
SUMMARY:Governors Ball Music Festival @ Randall's Island Park
DESCRIPTION:The Governors Ball Music Festival is back for the musical attack on Randall’s Island Park for three days.  Day Three features the following performers: The Strokes\, Nas\, SZA\, Louis The Child\, Kaytranada\, Sheck Wes\, Beast Coast (Joey Bada$$ and Flatbush Zombies)\, Lily Allen\, Bazzi\, Noname\, Charli XCX\, Bob Moses\, SOB X RBE\, Chelsea Cutler\, 070shake\, Parcels\, Taylor Bennett\, Soccer Mommy\, The Underachievers\, Kirk Knight\, Nyck Caution\, Jack Harlow\, Aaron Aye\, Shaed\, Ric Wilson\, Mkultra – Check their website for set times and scheduling changes. \n \nLike this:Like Loading...
URL:https://www.piercingken.com/event/governors-ball-music-festival-randalls-island-park-3/
LOCATION:Randall’s Island Park\, 20 Randall’s Island Park\, New York\, NY\, 10035\, United States
CATEGORIES:Concert
END:VEVENT
BEGIN:VEVENT
DTSTART;VALUE=DATE:20190602
DTEND;VALUE=DATE:20190603
DTSTAMP:20260420T182137
CREATED:20190313T130047Z
LAST-MODIFIED:20190315T000113Z
UID:38638-1559433600-1559519999@www.piercingken.com
SUMMARY:Five Points Festival @ Brooklyn Expo Center
DESCRIPTION:Five Points Festival returns for its third year and is the place to be for those interested in designer collectibles. There are also good eats and drink to be found so don’t miss out. \n \nLike this:Like Loading...
URL:https://www.piercingken.com/event/five-points-festival-brooklyn-expo-center-4/
LOCATION:Brooklyn Expo Center\, 72 Noble Street\, Brooklyn\, NY\, 11222\, United States
CATEGORIES:Convention
END:VEVENT
END:VCALENDAR