BEGIN:VCALENDAR
VERSION:2.0
PRODID:-//The Chronicles Of PiercingKen - ECPv6.15.20//NONSGML v1.0//EN
CALSCALE:GREGORIAN
METHOD:PUBLISH
X-ORIGINAL-URL:https://www.piercingken.com
X-WR-CALDESC:Events for The Chronicles Of PiercingKen
REFRESH-INTERVAL;VALUE=DURATION:PT1H
X-Robots-Tag:noindex
X-PUBLISHED-TTL:PT1H
BEGIN:VTIMEZONE
TZID:America/New_York
BEGIN:DAYLIGHT
TZOFFSETFROM:-0500
TZOFFSETTO:-0400
TZNAME:EDT
DTSTART:20180311T070000
END:DAYLIGHT
BEGIN:STANDARD
TZOFFSETFROM:-0400
TZOFFSETTO:-0500
TZNAME:EST
DTSTART:20181104T060000
END:STANDARD
BEGIN:DAYLIGHT
TZOFFSETFROM:-0500
TZOFFSETTO:-0400
TZNAME:EDT
DTSTART:20190310T070000
END:DAYLIGHT
BEGIN:STANDARD
TZOFFSETFROM:-0400
TZOFFSETTO:-0500
TZNAME:EST
DTSTART:20191103T060000
END:STANDARD
BEGIN:DAYLIGHT
TZOFFSETFROM:-0500
TZOFFSETTO:-0400
TZNAME:EDT
DTSTART:20200308T070000
END:DAYLIGHT
BEGIN:STANDARD
TZOFFSETFROM:-0400
TZOFFSETTO:-0500
TZNAME:EST
DTSTART:20201101T060000
END:STANDARD
END:VTIMEZONE
BEGIN:VEVENT
DTSTART;VALUE=DATE:20190720
DTEND;VALUE=DATE:20190721
DTSTAMP:20260424T032815
CREATED:20190319T123005Z
LAST-MODIFIED:20250227T203516Z
UID:38983-1563580800-1563667199@www.piercingken.com
SUMMARY:NY Empire State Tattoo Expo @ New York Hilton Midtown
DESCRIPTION:The NY Empire State Tattoo Expo returns to the New York Hilton Midtown for three days of artistic expression.  Scores of vendors and tattoo artists will be on hand to offer their services and you can be inked at this event provided you are over “18” years of age with valid ID.  Come one day or all three\, as its an interesting time for sure. \n \nLike this:Like Loading...
URL:https://www.piercingken.com/event/ny-empire-state-tattoo-expo-new-york-hilton-midtown-11/
LOCATION:New York Hilton Midtown\, 1335 Avenue Of The Americas\, New York\, NY\, 10606\, United States
CATEGORIES:Convention
END:VEVENT
BEGIN:VEVENT
DTSTART;VALUE=DATE:20190720
DTEND;VALUE=DATE:20190721
DTSTAMP:20260424T032815
CREATED:20190525T123028Z
LAST-MODIFIED:20190716T155540Z
UID:40044-1563580800-1563667199@www.piercingken.com
SUMMARY:Comic-Con International: San Diego @ San Diego Convention Center
DESCRIPTION:The time is now for the Comic-Con International: San Diego or “SDCC” for short. Tons of panels\, vendors and cosplay to enjoy for four days in San Diego\, CA. Be sure to arrive early each day to maximize your Geektastic adventures. \n \nLike this:Like Loading...
URL:https://www.piercingken.com/event/comic-con-international-san-diego-san-diego-convention-center-11/
LOCATION:San Diego Convention Center\, 111 Harbor Drive\, San Diego\, CA\, 92101\, United States
CATEGORIES:Convention
END:VEVENT
BEGIN:VEVENT
DTSTART;VALUE=DATE:20190720
DTEND;VALUE=DATE:20190721
DTSTAMP:20260424T032815
CREATED:20190711T170032Z
LAST-MODIFIED:20200705T170036Z
UID:40509-1563580800-1563667199@www.piercingken.com
SUMMARY:CANCELLED:  OZY Fest @ Central Park Great Lawn
DESCRIPTION:This event has been cancelled by the City Of New York based on extreme heat being forecast for the weekend.  More HERE for those planning on attending. \nThe OZY Fest is here and taking over a substantial part of NYC’s own Central Park.  There will be music\, food and lots of lectures.  If this is your kind of fun\, I am sure you’ll want to be there.   \n \nLike this:Like Loading...
URL:https://www.piercingken.com/event/cancelled-ozy-fest-central-park-great-lawn/
LOCATION:Central Park Great Lawn\, 79th Street - 86th Street\, New York\, NY\, 10022\, United States
CATEGORIES:Festival - Fair
END:VEVENT
END:VCALENDAR