BEGIN:VCALENDAR
VERSION:2.0
PRODID:-//The Chronicles Of PiercingKen - ECPv6.15.20//NONSGML v1.0//EN
CALSCALE:GREGORIAN
METHOD:PUBLISH
X-ORIGINAL-URL:https://www.piercingken.com
X-WR-CALDESC:Events for The Chronicles Of PiercingKen
REFRESH-INTERVAL;VALUE=DURATION:PT1H
X-Robots-Tag:noindex
X-PUBLISHED-TTL:PT1H
BEGIN:VTIMEZONE
TZID:America/New_York
BEGIN:DAYLIGHT
TZOFFSETFROM:-0500
TZOFFSETTO:-0400
TZNAME:EDT
DTSTART:20180311T070000
END:DAYLIGHT
BEGIN:STANDARD
TZOFFSETFROM:-0400
TZOFFSETTO:-0500
TZNAME:EST
DTSTART:20181104T060000
END:STANDARD
BEGIN:DAYLIGHT
TZOFFSETFROM:-0500
TZOFFSETTO:-0400
TZNAME:EDT
DTSTART:20190310T070000
END:DAYLIGHT
BEGIN:STANDARD
TZOFFSETFROM:-0400
TZOFFSETTO:-0500
TZNAME:EST
DTSTART:20191103T060000
END:STANDARD
BEGIN:DAYLIGHT
TZOFFSETFROM:-0500
TZOFFSETTO:-0400
TZNAME:EDT
DTSTART:20200308T070000
END:DAYLIGHT
BEGIN:STANDARD
TZOFFSETFROM:-0400
TZOFFSETTO:-0500
TZNAME:EST
DTSTART:20201101T060000
END:STANDARD
END:VTIMEZONE
BEGIN:VEVENT
DTSTART;VALUE=DATE:20190902
DTEND;VALUE=DATE:20190903
DTSTAMP:20260419T140227
CREATED:20190722T133015Z
LAST-MODIFIED:20190722T183627Z
UID:40671-1567382400-1567468799@www.piercingken.com
SUMMARY:New York Renaissance Faire @ Tuxedo Park
DESCRIPTION:The New York Renaissance Faire is a recreation of a 16th century village filled with performers\, crafts\, games\, and food that gives guests the illusion of stepping back in time. The 42nd Annual New York Renaissance Faire features more than 125 performances on 20 stages\, and over 100 craftspeople\, all set within 65 acres of beautiful forest.  Children of a certain age come in at a discount and there is a season pass available as well.   \n \nLike this:Like Loading...
URL:https://www.piercingken.com/event/new-york-renaissance-faire-tuxedo-park-44/
LOCATION:Tuxedo Park\, 600 NY-17A\, Tuxedo\, NY\, 10987\, United States
CATEGORIES:Festival - Fair
END:VEVENT
END:VCALENDAR