BEGIN:VCALENDAR
VERSION:2.0
PRODID:-//The Chronicles Of PiercingKen - ECPv6.15.20//NONSGML v1.0//EN
CALSCALE:GREGORIAN
METHOD:PUBLISH
X-ORIGINAL-URL:https://www.piercingken.com
X-WR-CALDESC:Events for The Chronicles Of PiercingKen
REFRESH-INTERVAL;VALUE=DURATION:PT1H
X-Robots-Tag:noindex
X-PUBLISHED-TTL:PT1H
BEGIN:VTIMEZONE
TZID:America/New_York
BEGIN:DAYLIGHT
TZOFFSETFROM:-0500
TZOFFSETTO:-0400
TZNAME:EDT
DTSTART:20180311T070000
END:DAYLIGHT
BEGIN:STANDARD
TZOFFSETFROM:-0400
TZOFFSETTO:-0500
TZNAME:EST
DTSTART:20181104T060000
END:STANDARD
BEGIN:DAYLIGHT
TZOFFSETFROM:-0500
TZOFFSETTO:-0400
TZNAME:EDT
DTSTART:20190310T070000
END:DAYLIGHT
BEGIN:STANDARD
TZOFFSETFROM:-0400
TZOFFSETTO:-0500
TZNAME:EST
DTSTART:20191103T060000
END:STANDARD
BEGIN:DAYLIGHT
TZOFFSETFROM:-0500
TZOFFSETTO:-0400
TZNAME:EDT
DTSTART:20200308T070000
END:DAYLIGHT
BEGIN:STANDARD
TZOFFSETFROM:-0400
TZOFFSETTO:-0500
TZNAME:EST
DTSTART:20201101T060000
END:STANDARD
END:VTIMEZONE
BEGIN:VEVENT
DTSTART;VALUE=DATE:20190907
DTEND;VALUE=DATE:20190908
DTSTAMP:20260419T172600
CREATED:20190706T123003Z
LAST-MODIFIED:20190707T013132Z
UID:40406-1567814400-1567900799@www.piercingken.com
SUMMARY:RuPaul's DragCon @Javits Center
DESCRIPTION:RuPaul’s DragCon is the first convention celebrating drag\, queer culture\, & self-expression!   \n \nLike this:Like Loading...
URL:https://www.piercingken.com/event/rupauls-dragcon-javits-center-2/
LOCATION:Jacob K. Javits Convention Center\, 655 W 34th St.\, New York\,\, NY\, 10001\, United States
CATEGORIES:Convention
END:VEVENT
BEGIN:VEVENT
DTSTART;VALUE=DATE:20190907
DTEND;VALUE=DATE:20190908
DTSTAMP:20260419T172600
CREATED:20190722T134513Z
LAST-MODIFIED:20190722T184907Z
UID:40672-1567814400-1567900799@www.piercingken.com
SUMMARY:New York Renaissance Faire @ Tuxedo Park
DESCRIPTION:The New York Renaissance Faire is a recreation of a 16th century village filled with performers\, crafts\, games\, and food that gives guests the illusion of stepping back in time. The 42nd Annual New York Renaissance Faire features more than 125 performances on 20 stages\, and over 100 craftspeople\, all set within 65 acres of beautiful forest.  Children of a certain age come in at a discount and there is a season pass available as well.   \n \nLike this:Like Loading...
URL:https://www.piercingken.com/event/new-york-renaissance-faire-tuxedo-park-45/
LOCATION:Tuxedo Park\, 600 NY-17A\, Tuxedo\, NY\, 10987\, United States
CATEGORIES:Festival - Fair
END:VEVENT
BEGIN:VEVENT
DTSTART;TZID=America/New_York:20190907T130000
DTEND;TZID=America/New_York:20190907T170000
DTSTAMP:20260419T172600
CREATED:20190830T123033Z
LAST-MODIFIED:20190907T014810Z
UID:41192-1567861200-1567875600@www.piercingken.com
SUMMARY:Style X Fashion Week @ Sony Hall
DESCRIPTION:The Style X Fashion Week runways shows are here and will take place at the beautiful Sony Hall in Midtown\, just off of Times Square.  Get your tickets and find the best place in the venue to enjoy the latest in hot designers of the time.   \n \nLike this:Like Loading...
URL:https://www.piercingken.com/event/style-x-fashion-week-sony-hall-2/
LOCATION:Sony Hall\, 235 West 46th Street\, New York\, NY\, 10036\, United States
CATEGORIES:Special Appearance
END:VEVENT
END:VCALENDAR