BEGIN:VCALENDAR
VERSION:2.0
PRODID:-//The Chronicles Of PiercingKen - ECPv6.15.20//NONSGML v1.0//EN
CALSCALE:GREGORIAN
METHOD:PUBLISH
X-ORIGINAL-URL:https://www.piercingken.com
X-WR-CALDESC:Events for The Chronicles Of PiercingKen
REFRESH-INTERVAL;VALUE=DURATION:PT1H
X-Robots-Tag:noindex
X-PUBLISHED-TTL:PT1H
BEGIN:VTIMEZONE
TZID:America/New_York
BEGIN:DAYLIGHT
TZOFFSETFROM:-0500
TZOFFSETTO:-0400
TZNAME:EDT
DTSTART:20180311T070000
END:DAYLIGHT
BEGIN:STANDARD
TZOFFSETFROM:-0400
TZOFFSETTO:-0500
TZNAME:EST
DTSTART:20181104T060000
END:STANDARD
BEGIN:DAYLIGHT
TZOFFSETFROM:-0500
TZOFFSETTO:-0400
TZNAME:EDT
DTSTART:20190310T070000
END:DAYLIGHT
BEGIN:STANDARD
TZOFFSETFROM:-0400
TZOFFSETTO:-0500
TZNAME:EST
DTSTART:20191103T060000
END:STANDARD
BEGIN:DAYLIGHT
TZOFFSETFROM:-0500
TZOFFSETTO:-0400
TZNAME:EDT
DTSTART:20200308T070000
END:DAYLIGHT
BEGIN:STANDARD
TZOFFSETFROM:-0400
TZOFFSETTO:-0500
TZNAME:EST
DTSTART:20201101T060000
END:STANDARD
END:VTIMEZONE
BEGIN:VEVENT
DTSTART;VALUE=DATE:20190912
DTEND;VALUE=DATE:20190913
DTSTAMP:20260419T154606
CREATED:20190901T120054Z
LAST-MODIFIED:20190901T221755Z
UID:41201-1568246400-1568332799@www.piercingken.com
SUMMARY:TTPM @ Metropolitan Pavilion
DESCRIPTION:The TTPM Holiday Showcase happens today and while this event is an industry and media exclusive happening\, we announce it here so you can begin to peruse your favorite entertainment sites and their socials to see what is necessary for your holiday gift list.  Our #shamelessplug suggests that you sign up to ours and see what we see fast on Facebook\, Instagram and Twitter. \n \nLike this:Like Loading...
URL:https://www.piercingken.com/event/ttpm-metropolitan-pavilion/
LOCATION:NY
CATEGORIES:Special Appearance
END:VEVENT
BEGIN:VEVENT
DTSTART;TZID=America/New_York:20190912T200000
DTEND;TZID=America/New_York:20190912T200000
DTSTAMP:20260419T154606
CREATED:20190507T134502Z
LAST-MODIFIED:20190613T174942Z
UID:40132-1568318400-1568318400@www.piercingken.com
SUMMARY:Madonna @ BAM Howard Gilman Opera House
DESCRIPTION:Madonna brings her “Madame X” Tour to Brooklyn with a lengthy residency of “17” performances.  Don’t miss the legendary entertainer in this intimate space as she delivers both new and classic material at a show that one is not likely to ever forget.  Be sure to come to one or more shows if she suits your fancy. \n \nLike this:Like Loading...
URL:https://www.piercingken.com/event/madonna-bam-howard-gilman-opera-house/
LOCATION:BAM Howard Gilman Opera House\, 30 Lafayette Ave\, Brooklyn\, NY\, 11217\, United States
CATEGORIES:Concert
END:VEVENT
END:VCALENDAR