BEGIN:VCALENDAR
VERSION:2.0
PRODID:-//The Chronicles Of PiercingKen - ECPv6.15.20//NONSGML v1.0//EN
CALSCALE:GREGORIAN
METHOD:PUBLISH
X-ORIGINAL-URL:https://www.piercingken.com
X-WR-CALDESC:Events for The Chronicles Of PiercingKen
REFRESH-INTERVAL;VALUE=DURATION:PT1H
X-Robots-Tag:noindex
X-PUBLISHED-TTL:PT1H
BEGIN:VTIMEZONE
TZID:America/New_York
BEGIN:DAYLIGHT
TZOFFSETFROM:-0500
TZOFFSETTO:-0400
TZNAME:EDT
DTSTART:20180311T070000
END:DAYLIGHT
BEGIN:STANDARD
TZOFFSETFROM:-0400
TZOFFSETTO:-0500
TZNAME:EST
DTSTART:20181104T060000
END:STANDARD
BEGIN:DAYLIGHT
TZOFFSETFROM:-0500
TZOFFSETTO:-0400
TZNAME:EDT
DTSTART:20190310T070000
END:DAYLIGHT
BEGIN:STANDARD
TZOFFSETFROM:-0400
TZOFFSETTO:-0500
TZNAME:EST
DTSTART:20191103T060000
END:STANDARD
BEGIN:DAYLIGHT
TZOFFSETFROM:-0500
TZOFFSETTO:-0400
TZNAME:EDT
DTSTART:20200308T070000
END:DAYLIGHT
BEGIN:STANDARD
TZOFFSETFROM:-0400
TZOFFSETTO:-0500
TZNAME:EST
DTSTART:20201101T060000
END:STANDARD
END:VTIMEZONE
BEGIN:VEVENT
DTSTART;VALUE=DATE:20190919
DTEND;VALUE=DATE:20190920
DTSTAMP:20260419T203213
CREATED:20190905T120035Z
LAST-MODIFIED:20250921T173517Z
UID:59572-1568851200-1568937599@www.piercingken.com
SUMMARY:Greek Cultural Festival @ Holy Cross Greek Orthodox Church
DESCRIPTION:If you’re in or nearby Bay Ridge\, Brooklyn you might want to come pay a visit to the annual “Greek Cultural Festival” that takes place at the Holy Cross Greek Orthodox Church and the blocks immediately around it. It’s a good time for family and friends with tasty food\, drink\, events and music.  Opa! \n \nLike this:Like Loading...
URL:https://www.piercingken.com/event/greek-cultural-festival-holy-cross-greek-orthodox-church-9/
LOCATION:Holy Cross Greek Orthodox Church\, 8401 Ridge Blvd.\, Brooklyn\, NY\, 11209\, United States
CATEGORIES:Festival - Fair
END:VEVENT
BEGIN:VEVENT
DTSTART;TZID=America/New_York:20190919T200000
DTEND;TZID=America/New_York:20190919T200000
DTSTAMP:20260419T203213
CREATED:20190507T144518Z
LAST-MODIFIED:20190613T180143Z
UID:40136-1568923200-1568923200@www.piercingken.com
SUMMARY:Madonna @ BAM Howard Gilman Opera House
DESCRIPTION:Madonna brings her “Madame X” Tour to Brooklyn with a lengthy residency of “17” performances.  Don’t miss the legendary entertainer in this intimate space as she delivers both new and classic material at a show that one is not likely to ever forget.  Be sure to come to one or more shows if she suits your fancy. \n \nLike this:Like Loading...
URL:https://www.piercingken.com/event/madonna-bam-howard-gilman-opera-house-5/
LOCATION:BAM Howard Gilman Opera House\, 30 Lafayette Ave\, Brooklyn\, NY\, 11217\, United States
CATEGORIES:Concert
END:VEVENT
END:VCALENDAR