BEGIN:VCALENDAR
VERSION:2.0
PRODID:-//The Chronicles Of PiercingKen - ECPv6.15.20//NONSGML v1.0//EN
CALSCALE:GREGORIAN
METHOD:PUBLISH
X-ORIGINAL-URL:https://www.piercingken.com
X-WR-CALDESC:Events for The Chronicles Of PiercingKen
REFRESH-INTERVAL;VALUE=DURATION:PT1H
X-Robots-Tag:noindex
X-PUBLISHED-TTL:PT1H
BEGIN:VTIMEZONE
TZID:America/New_York
BEGIN:DAYLIGHT
TZOFFSETFROM:-0500
TZOFFSETTO:-0400
TZNAME:EDT
DTSTART:20180311T070000
END:DAYLIGHT
BEGIN:STANDARD
TZOFFSETFROM:-0400
TZOFFSETTO:-0500
TZNAME:EST
DTSTART:20181104T060000
END:STANDARD
BEGIN:DAYLIGHT
TZOFFSETFROM:-0500
TZOFFSETTO:-0400
TZNAME:EDT
DTSTART:20190310T070000
END:DAYLIGHT
BEGIN:STANDARD
TZOFFSETFROM:-0400
TZOFFSETTO:-0500
TZNAME:EST
DTSTART:20191103T060000
END:STANDARD
BEGIN:DAYLIGHT
TZOFFSETFROM:-0500
TZOFFSETTO:-0400
TZNAME:EDT
DTSTART:20200308T070000
END:DAYLIGHT
BEGIN:STANDARD
TZOFFSETFROM:-0400
TZOFFSETTO:-0500
TZNAME:EST
DTSTART:20201101T060000
END:STANDARD
END:VTIMEZONE
BEGIN:VEVENT
DTSTART;VALUE=DATE:20190922
DTEND;VALUE=DATE:20190923
DTSTAMP:20260424T171951
CREATED:20190905T124505Z
LAST-MODIFIED:20250921T211813Z
UID:59575-1569110400-1569196799@www.piercingken.com
SUMMARY:Greek Cultural Festival @ Holy Cross Greek Orthodox Church
DESCRIPTION:If you’re in or nearby Bay Ridge\, Brooklyn you might want to come pay a visit to the annual “Greek Cultural Festival” that takes place at the Holy Cross Greek Orthodox Church and the blocks immediately around it. It’s a good time for family and friends with tasty food\, drink\, events and music.  Opa! \n \nLike this:Like Loading...
URL:https://www.piercingken.com/event/greek-cultural-festival-holy-cross-greek-orthodox-church-12/
LOCATION:Holy Cross Greek Orthodox Church\, 8401 Ridge Blvd.\, Brooklyn\, NY\, 11209\, United States
CATEGORIES:Festival - Fair
END:VEVENT
BEGIN:VEVENT
DTSTART;VALUE=DATE:20190922
DTEND;VALUE=DATE:20190923
DTSTAMP:20260424T171951
CREATED:20190718T203039Z
LAST-MODIFIED:20190718T202448Z
UID:40589-1569110400-1569196799@www.piercingken.com
SUMMARY:Sexual Health Expo @ Brooklyn Expo Center
DESCRIPTION:Per the website\, SHE is a groundbreaking event dedicated to promoting sexual health and wellness\, Sexual Health Expo (SHE) is an upscale event that puts a stylish touch on sex-ed. Anchored by exclusive workshops hosted by the nation’s top “sexperts” and exhibition halls featuring cutting-edge pleasure product brands.  While General Admission is free after registering\, a VIP experience puts you in front of the line and gives you a goodie bag. \n \nLike this:Like Loading...
URL:https://www.piercingken.com/event/sexual-health-expo-brooklyn-expo-center-2/
LOCATION:Brooklyn Expo Center\, 72 Noble Street\, Brooklyn\, NY\, 11222\, United States
CATEGORIES:Convention
END:VEVENT
BEGIN:VEVENT
DTSTART;VALUE=DATE:20190922
DTEND;VALUE=DATE:20190923
DTSTAMP:20260424T171951
CREATED:20190722T150055Z
LAST-MODIFIED:20190722T190831Z
UID:40684-1569110400-1569196799@www.piercingken.com
SUMMARY:New York Renaissance Faire @ Tuxedo Park
DESCRIPTION:The New York Renaissance Faire is a recreation of a 16th century village filled with performers\, crafts\, games\, and food that gives guests the illusion of stepping back in time. The 42nd Annual New York Renaissance Faire features more than 125 performances on 20 stages\, and over 100 craftspeople\, all set within 65 acres of beautiful forest.  Children of a certain age come in at a discount and there is a season pass available as well.   \n \nLike this:Like Loading...
URL:https://www.piercingken.com/event/new-york-renaissance-faire-tuxedo-park-50/
LOCATION:Tuxedo Park\, 600 NY-17A\, Tuxedo\, NY\, 10987\, United States
CATEGORIES:Festival - Fair
END:VEVENT
BEGIN:VEVENT
DTSTART;TZID=America/New_York:20190922T200000
DTEND;TZID=America/New_York:20190922T200000
DTSTAMP:20260424T171951
CREATED:20190507T151527Z
LAST-MODIFIED:20190613T180354Z
UID:40140-1569182400-1569182400@www.piercingken.com
SUMMARY:Madonna @ BAM Howard Gilman Opera House
DESCRIPTION:Madonna brings her “Madame X” Tour to Brooklyn with a lengthy residency of “17” performances.  Don’t miss the legendary entertainer in this intimate space as she delivers both new and classic material at a show that one is not likely to ever forget.  Be sure to come to one or more shows if she suits your fancy. \n \nLike this:Like Loading...
URL:https://www.piercingken.com/event/madonna-bam-howard-gilman-opera-house-7/
LOCATION:BAM Howard Gilman Opera House\, 30 Lafayette Ave\, Brooklyn\, NY\, 11217\, United States
CATEGORIES:Concert
END:VEVENT
END:VCALENDAR