BEGIN:VCALENDAR
VERSION:2.0
PRODID:-//The Chronicles Of PiercingKen - ECPv6.15.20//NONSGML v1.0//EN
CALSCALE:GREGORIAN
METHOD:PUBLISH
X-WR-CALNAME:The Chronicles Of PiercingKen
X-ORIGINAL-URL:https://www.piercingken.com
X-WR-CALDESC:Events for The Chronicles Of PiercingKen
REFRESH-INTERVAL;VALUE=DURATION:PT1H
X-Robots-Tag:noindex
X-PUBLISHED-TTL:PT1H
BEGIN:VTIMEZONE
TZID:America/New_York
BEGIN:DAYLIGHT
TZOFFSETFROM:-0500
TZOFFSETTO:-0400
TZNAME:EDT
DTSTART:20180311T070000
END:DAYLIGHT
BEGIN:STANDARD
TZOFFSETFROM:-0400
TZOFFSETTO:-0500
TZNAME:EST
DTSTART:20181104T060000
END:STANDARD
BEGIN:DAYLIGHT
TZOFFSETFROM:-0500
TZOFFSETTO:-0400
TZNAME:EDT
DTSTART:20190310T070000
END:DAYLIGHT
BEGIN:STANDARD
TZOFFSETFROM:-0400
TZOFFSETTO:-0500
TZNAME:EST
DTSTART:20191103T060000
END:STANDARD
BEGIN:DAYLIGHT
TZOFFSETFROM:-0500
TZOFFSETTO:-0400
TZNAME:EDT
DTSTART:20200308T070000
END:DAYLIGHT
BEGIN:STANDARD
TZOFFSETFROM:-0400
TZOFFSETTO:-0500
TZNAME:EST
DTSTART:20201101T060000
END:STANDARD
END:VTIMEZONE
BEGIN:VEVENT
DTSTART;VALUE=DATE:20190928
DTEND;VALUE=DATE:20190929
DTSTAMP:20260419T090829
CREATED:20190901T124509Z
LAST-MODIFIED:20240926T024917Z
UID:56536-1569628800-1569715199@www.piercingken.com
SUMMARY:Affordable Art Fair NYC @ Metropolitan Pavilion
DESCRIPTION:The Affordable Art Fair brings its Spring show to the Metropolitan Pavilion and its the perfect place to browse some amazing art and talk to the gallery owners and the artists. Whether your a novice or a connoisseur\, it’s an inspiring exploration for all. \n \nLike this:Like Loading...
URL:https://www.piercingken.com/event/affordable-art-fair-nyc-metropolitan-pavilion-9/
LOCATION:Metropolitan Pavilion\, 125 W 18th St.\, New York\,\, NY\, 10011\, United States
CATEGORIES:Art Fair
END:VEVENT
BEGIN:VEVENT
DTSTART;VALUE=DATE:20190928
DTEND;VALUE=DATE:20190929
DTSTAMP:20260419T090829
CREATED:20190722T151558Z
LAST-MODIFIED:20190722T192757Z
UID:40685-1569628800-1569715199@www.piercingken.com
SUMMARY:New York Renaissance Faire @ Tuxedo Park
DESCRIPTION:The New York Renaissance Faire is a recreation of a 16th century village filled with performers\, crafts\, games\, and food that gives guests the illusion of stepping back in time. The 42nd Annual New York Renaissance Faire features more than 125 performances on 20 stages\, and over 100 craftspeople\, all set within 65 acres of beautiful forest.  Children of a certain age come in at a discount and there is a season pass available as well.   \n \nLike this:Like Loading...
URL:https://www.piercingken.com/event/new-york-renaissance-faire-tuxedo-park-51/
LOCATION:Tuxedo Park\, 600 NY-17A\, Tuxedo\, NY\, 10987\, United States
CATEGORIES:Festival - Fair
END:VEVENT
BEGIN:VEVENT
DTSTART;VALUE=DATE:20190928
DTEND;VALUE=DATE:20190929
DTSTAMP:20260419T090829
CREATED:20190829T123032Z
LAST-MODIFIED:20190829T200636Z
UID:41170-1569628800-1569715199@www.piercingken.com
SUMMARY:Billy Bragg @ Bowery Ballroom
DESCRIPTION:The English singer/songwriter will bring his brand of Folk\, Punk and Activism to life for his fans for three nights at the Bowery Ballroom.  Come once\, twice or to all three.   \n \nLike this:Like Loading...
URL:https://www.piercingken.com/event/billy-bragg-bowery-ballroom-3/
LOCATION:Bowery Ballroom\, 6 Delancy Street\, New York\, NY\, 10002\, United States
CATEGORIES:Concert
END:VEVENT
BEGIN:VEVENT
DTSTART;TZID=America/New_York:20190928T100000
DTEND;TZID=America/New_York:20190928T170000
DTSTAMP:20260419T090829
CREATED:20190801T023003Z
LAST-MODIFIED:20210929T172537Z
UID:40845-1569664800-1569690000@www.piercingken.com
SUMMARY:NYC Pagan Pride Day 2019 @ Battery Park
DESCRIPTION:NYC Pagan Pride Day 2019!! We celebrate the harvest season as only New York City can! Our Annual Festival With Vendors\, Workshops\, Speakers\, Open Ritual\, Performers! An Amazing Day Filled With Amazing People! Pagan Pride Day is free to the public. The Pagan book exchange will be in effect once again to fund raise for City Harvest and New York’s homeless population.  The exact location for this event will be at the Castle Clinton National Monument. \n \nLike this:Like Loading...
URL:https://www.piercingken.com/event/nyc-pagan-pride-day-2019-battery-park/
LOCATION:Battery Park\, New York\, NY\, 10004\, United States
CATEGORIES:Festival - Fair
END:VEVENT
BEGIN:VEVENT
DTSTART;TZID=America/New_York:20190928T190000
DTEND;TZID=America/New_York:20190928T190000
DTSTAMP:20260419T090829
CREATED:20190901T130056Z
LAST-MODIFIED:20190901T221313Z
UID:41205-1569697200-1569697200@www.piercingken.com
SUMMARY:New York Burlesque Festival @ Sony Hall
DESCRIPTION:The 17th Annual NY Burlesque Festival hits Sony Hall.  Don’t miss it. \n \nLike this:Like Loading...
URL:https://www.piercingken.com/event/new-york-burlesque-festival-sony-hall/
LOCATION:Sony Hall\, 235 West 46th Street\, New York\, NY\, 10036\, United States
CATEGORIES:Special Appearance
END:VEVENT
BEGIN:VEVENT
DTSTART;TZID=America/New_York:20190928T200000
DTEND;TZID=America/New_York:20190928T200000
DTSTAMP:20260419T090829
CREATED:20190507T161548Z
LAST-MODIFIED:20190613T181336Z
UID:40144-1569700800-1569700800@www.piercingken.com
SUMMARY:Madonna @ BAM Howard Gilman Opera House
DESCRIPTION:Madonna brings her “Madame X” Tour to Brooklyn with a lengthy residency of “17” performances.  Don’t miss the legendary entertainer in this intimate space as she delivers both new and classic material at a show that one is not likely to ever forget.  Be sure to come to one or more shows if she suits your fancy. \n \nLike this:Like Loading...
URL:https://www.piercingken.com/event/madonna-bam-howard-gilman-opera-house-11/
LOCATION:BAM Howard Gilman Opera House\, 30 Lafayette Ave\, Brooklyn\, NY\, 11217\, United States
CATEGORIES:Concert
END:VEVENT
END:VCALENDAR