BEGIN:VCALENDAR
VERSION:2.0
PRODID:-//The Chronicles Of PiercingKen - ECPv6.15.20//NONSGML v1.0//EN
CALSCALE:GREGORIAN
METHOD:PUBLISH
X-ORIGINAL-URL:https://www.piercingken.com
X-WR-CALDESC:Events for The Chronicles Of PiercingKen
REFRESH-INTERVAL;VALUE=DURATION:PT1H
X-Robots-Tag:noindex
X-PUBLISHED-TTL:PT1H
BEGIN:VTIMEZONE
TZID:America/New_York
BEGIN:DAYLIGHT
TZOFFSETFROM:-0500
TZOFFSETTO:-0400
TZNAME:EDT
DTSTART:20190310T070000
END:DAYLIGHT
BEGIN:STANDARD
TZOFFSETFROM:-0400
TZOFFSETTO:-0500
TZNAME:EST
DTSTART:20191103T060000
END:STANDARD
BEGIN:DAYLIGHT
TZOFFSETFROM:-0500
TZOFFSETTO:-0400
TZNAME:EDT
DTSTART:20200308T070000
END:DAYLIGHT
BEGIN:STANDARD
TZOFFSETFROM:-0400
TZOFFSETTO:-0500
TZNAME:EST
DTSTART:20201101T060000
END:STANDARD
BEGIN:DAYLIGHT
TZOFFSETFROM:-0500
TZOFFSETTO:-0400
TZNAME:EDT
DTSTART:20210314T070000
END:DAYLIGHT
BEGIN:STANDARD
TZOFFSETFROM:-0400
TZOFFSETTO:-0500
TZNAME:EST
DTSTART:20211107T060000
END:STANDARD
END:VTIMEZONE
BEGIN:VEVENT
DTSTART;VALUE=DATE:20200328
DTEND;VALUE=DATE:20200329
DTSTAMP:20260425T114928
CREATED:20191105T133026Z
LAST-MODIFIED:20200313T022308Z
UID:41667-1585353600-1585439999@www.piercingken.com
SUMMARY:POSTPONED: Dark Side Of The Con @ Sheraton Hotel Parsippany
DESCRIPTION:Based on concerns about the Coronavirus Pandemic\, the 2020 Dark Side Of The Con has been postponed to a later and as yet unspecified date.  Please stay tuned to our calendar for any news about this events return.   \nThe Dark Side Of The Con is a three-day Goth and Alternative Convention presented by VampireFreaks. It will feature vendors\, cosplay\, contests\, special events\, music and more. If this is your scene then you know you need to be there.  \n \nLike this:Like Loading...
URL:https://www.piercingken.com/event/postponed-dark-side-of-the-con-sheraton-hotel-parsippany-2/
LOCATION:Sheraton Parsippany Hotel\, 199 Smith Road\, Parsippany\, NJ\, 07054\, United States
CATEGORIES:Convention
END:VEVENT
END:VCALENDAR