BEGIN:VCALENDAR
VERSION:2.0
PRODID:-//The Chronicles Of PiercingKen - ECPv6.15.20//NONSGML v1.0//EN
CALSCALE:GREGORIAN
METHOD:PUBLISH
X-WR-CALNAME:The Chronicles Of PiercingKen
X-ORIGINAL-URL:https://www.piercingken.com
X-WR-CALDESC:Events for The Chronicles Of PiercingKen
REFRESH-INTERVAL;VALUE=DURATION:PT1H
X-Robots-Tag:noindex
X-PUBLISHED-TTL:PT1H
BEGIN:VTIMEZONE
TZID:America/New_York
BEGIN:DAYLIGHT
TZOFFSETFROM:-0500
TZOFFSETTO:-0400
TZNAME:EDT
DTSTART:20190310T070000
END:DAYLIGHT
BEGIN:STANDARD
TZOFFSETFROM:-0400
TZOFFSETTO:-0500
TZNAME:EST
DTSTART:20191103T060000
END:STANDARD
BEGIN:DAYLIGHT
TZOFFSETFROM:-0500
TZOFFSETTO:-0400
TZNAME:EDT
DTSTART:20200308T070000
END:DAYLIGHT
BEGIN:STANDARD
TZOFFSETFROM:-0400
TZOFFSETTO:-0500
TZNAME:EST
DTSTART:20201101T060000
END:STANDARD
BEGIN:DAYLIGHT
TZOFFSETFROM:-0500
TZOFFSETTO:-0400
TZNAME:EDT
DTSTART:20210314T070000
END:DAYLIGHT
BEGIN:STANDARD
TZOFFSETFROM:-0400
TZOFFSETTO:-0500
TZNAME:EST
DTSTART:20211107T060000
END:STANDARD
END:VTIMEZONE
BEGIN:VEVENT
DTSTART;VALUE=DATE:20200404
DTEND;VALUE=DATE:20200405
DTSTAMP:20260420T073239
CREATED:20200315T120021Z
LAST-MODIFIED:20240705T200423Z
UID:53468-1585958400-1586044799@www.piercingken.com
SUMMARY:PiercingMetal Anniversary @ The Internet
DESCRIPTION:Today is the 15th Anniversary of the PiercingMetal website.  We thank those who’ve found the site to their liking and have spent some time perusing its wealth of content.  Remember that it can be followed on the web and on Social Media using these profiles – Facebook\, Twitter\, Instagram\, YouTube and TikTok. \n \nLike this:Like Loading...
URL:https://www.piercingken.com/event/piercingmetal-anniversary-the-internet-5/
LOCATION:NY
CATEGORIES:Special Appearance
END:VEVENT
BEGIN:VEVENT
DTSTART;VALUE=DATE:20200404
DTEND;VALUE=DATE:20200405
DTSTAMP:20260420T073239
CREATED:20200308T130036Z
LAST-MODIFIED:20200315T165948Z
UID:43442-1585958400-1586044799@www.piercingken.com
SUMMARY:POSTPONED: Big Apple Comic Con @ New Yorker Hotel
DESCRIPTION:The Big Apple Comic Con has been postponed amid the growing concerns around the Coronavirus (Covid-19) Pandemic.  There is no rescheduled date at the time of this update but stay tuned in to this calendar for the latest on events and concerts as we learn of them. \nIt’s that time of the year my fellow geeks and that means the Big Apple Comic Con will be taking over for the weekend at their brand new home at the New Yorker Hotel. Come and join the fun as vendors\, panels\, comic book artists and lots of cosplayers converge in a single place.  \n \nLike this:Like Loading...
URL:https://www.piercingken.com/event/postponed-big-apple-comic-con-new-yorker-hotel/
LOCATION:New Yorker Hotel\, 481 8th Ave\, New York\, NY\, 10001\, United States
CATEGORIES:Convention
END:VEVENT
END:VCALENDAR