BEGIN:VCALENDAR
VERSION:2.0
PRODID:-//The Chronicles Of PiercingKen - ECPv6.15.20//NONSGML v1.0//EN
CALSCALE:GREGORIAN
METHOD:PUBLISH
X-ORIGINAL-URL:https://www.piercingken.com
X-WR-CALDESC:Events for The Chronicles Of PiercingKen
REFRESH-INTERVAL;VALUE=DURATION:PT1H
X-Robots-Tag:noindex
X-PUBLISHED-TTL:PT1H
BEGIN:VTIMEZONE
TZID:America/New_York
BEGIN:DAYLIGHT
TZOFFSETFROM:-0500
TZOFFSETTO:-0400
TZNAME:EDT
DTSTART:20190310T070000
END:DAYLIGHT
BEGIN:STANDARD
TZOFFSETFROM:-0400
TZOFFSETTO:-0500
TZNAME:EST
DTSTART:20191103T060000
END:STANDARD
BEGIN:DAYLIGHT
TZOFFSETFROM:-0500
TZOFFSETTO:-0400
TZNAME:EDT
DTSTART:20200308T070000
END:DAYLIGHT
BEGIN:STANDARD
TZOFFSETFROM:-0400
TZOFFSETTO:-0500
TZNAME:EST
DTSTART:20201101T060000
END:STANDARD
BEGIN:DAYLIGHT
TZOFFSETFROM:-0500
TZOFFSETTO:-0400
TZNAME:EDT
DTSTART:20210314T070000
END:DAYLIGHT
BEGIN:STANDARD
TZOFFSETFROM:-0400
TZOFFSETTO:-0500
TZNAME:EST
DTSTART:20211107T060000
END:STANDARD
END:VTIMEZONE
BEGIN:VEVENT
DTSTART;VALUE=DATE:20200620
DTEND;VALUE=DATE:20200621
DTSTAMP:20260421T003504
CREATED:20200108T130042Z
LAST-MODIFIED:20200531T214111Z
UID:42431-1592611200-1592697599@www.piercingken.com
SUMMARY:CANCELLED: Brooklyn Comic Con @ Brooklyn Expo Center
DESCRIPTION:The continuing issues with the Coronavirus Pandemmic finds the organizers of the Brooklyn Comic Con cancelling this years event.  It will return next year in a new location.  Refunds are available at point of purchase.  Stay tuned to their Official Socials and resources like this calendar to see the latest listings and any changes to them. \nThe Brooklyn Comic Con will take over the Brooklyn Expo Center this weekend and will be the place to be for all the like-minded geeks\, cosplayers and comic book industry enthusiasts.   \n \nLike this:Like Loading...
URL:https://www.piercingken.com/event/cancelled-brooklyn-comic-con-brooklyn-expo-center/
LOCATION:Brooklyn Expo Center\, 72 Noble Street\, Brooklyn\, NY\, 11222\, United States
CATEGORIES:Convention
END:VEVENT
END:VCALENDAR