BEGIN:VCALENDAR
VERSION:2.0
PRODID:-//The Chronicles Of PiercingKen - ECPv6.15.20//NONSGML v1.0//EN
CALSCALE:GREGORIAN
METHOD:PUBLISH
X-ORIGINAL-URL:https://www.piercingken.com
X-WR-CALDESC:Events for The Chronicles Of PiercingKen
REFRESH-INTERVAL;VALUE=DURATION:PT1H
X-Robots-Tag:noindex
X-PUBLISHED-TTL:PT1H
BEGIN:VTIMEZONE
TZID:America/New_York
BEGIN:DAYLIGHT
TZOFFSETFROM:-0500
TZOFFSETTO:-0400
TZNAME:EDT
DTSTART:20190310T070000
END:DAYLIGHT
BEGIN:STANDARD
TZOFFSETFROM:-0400
TZOFFSETTO:-0500
TZNAME:EST
DTSTART:20191103T060000
END:STANDARD
BEGIN:DAYLIGHT
TZOFFSETFROM:-0500
TZOFFSETTO:-0400
TZNAME:EDT
DTSTART:20200308T070000
END:DAYLIGHT
BEGIN:STANDARD
TZOFFSETFROM:-0400
TZOFFSETTO:-0500
TZNAME:EST
DTSTART:20201101T060000
END:STANDARD
BEGIN:DAYLIGHT
TZOFFSETFROM:-0500
TZOFFSETTO:-0400
TZNAME:EDT
DTSTART:20210314T070000
END:DAYLIGHT
BEGIN:STANDARD
TZOFFSETFROM:-0400
TZOFFSETTO:-0500
TZNAME:EST
DTSTART:20211107T060000
END:STANDARD
END:VTIMEZONE
BEGIN:VEVENT
DTSTART;VALUE=DATE:20200827
DTEND;VALUE=DATE:20200828
DTSTAMP:20260424T225802
CREATED:20190614T120051Z
LAST-MODIFIED:20200622T215907Z
UID:45266-1598486400-1598572799@www.piercingken.com
SUMMARY:CANCELLED: "Star Wars" Celebration @ Anaheim Convention Center
DESCRIPTION:Due to the continuing issues surrounding the Coronavirus Pandemic\, the 2020 Star Wars Celebration has been cancelled by the event organizers (statement HERE).  Refunds or transfers available at point of purchase.  The event will return in 2022 so keep tuned into their social networks and resources like this calendar for the latest listing information. \n \nReturn to the Galaxy far\, far away and be joined by legions of rebels\, insidious Empire and First Order types and hordes of alien lifeforms as the “Star Wars” Celebration for 2020 will take place at the spacious Anaheim Convention Center in sunny California.  If you are looking for a convention that is strong in the ways of The Force\, then you know where you need to be.  May The Force Be With You Always. \nLike this:Like Loading...
URL:https://www.piercingken.com/event/cancelled-star-wars-celebration-anaheim-convention-center/
LOCATION:Anaheim Convention Center\, 800 West Katella Avenue\, Anaheim\, CA\, 92802\, United States
CATEGORIES:Convention
END:VEVENT
END:VCALENDAR