BEGIN:VCALENDAR
VERSION:2.0
PRODID:-//The Chronicles Of PiercingKen - ECPv6.15.20//NONSGML v1.0//EN
CALSCALE:GREGORIAN
METHOD:PUBLISH
X-WR-CALNAME:The Chronicles Of PiercingKen
X-ORIGINAL-URL:https://www.piercingken.com
X-WR-CALDESC:Events for The Chronicles Of PiercingKen
REFRESH-INTERVAL;VALUE=DURATION:PT1H
X-Robots-Tag:noindex
X-PUBLISHED-TTL:PT1H
BEGIN:VTIMEZONE
TZID:America/New_York
BEGIN:DAYLIGHT
TZOFFSETFROM:-0500
TZOFFSETTO:-0400
TZNAME:EDT
DTSTART:20200308T070000
END:DAYLIGHT
BEGIN:STANDARD
TZOFFSETFROM:-0400
TZOFFSETTO:-0500
TZNAME:EST
DTSTART:20201101T060000
END:STANDARD
BEGIN:DAYLIGHT
TZOFFSETFROM:-0500
TZOFFSETTO:-0400
TZNAME:EDT
DTSTART:20210314T070000
END:DAYLIGHT
BEGIN:STANDARD
TZOFFSETFROM:-0400
TZOFFSETTO:-0500
TZNAME:EST
DTSTART:20211107T060000
END:STANDARD
BEGIN:DAYLIGHT
TZOFFSETFROM:-0500
TZOFFSETTO:-0400
TZNAME:EDT
DTSTART:20220313T070000
END:DAYLIGHT
BEGIN:STANDARD
TZOFFSETFROM:-0400
TZOFFSETTO:-0500
TZNAME:EST
DTSTART:20221106T060000
END:STANDARD
END:VTIMEZONE
BEGIN:VEVENT
DTSTART;VALUE=DATE:20210504
DTEND;VALUE=DATE:20210505
DTSTAMP:20260419T201853
CREATED:20201028T124549Z
LAST-MODIFIED:20250206T232113Z
UID:47474-1620086400-1620172799@www.piercingken.com
SUMMARY:CANCELLED: Toy Fair @ Jacob Javits Center
DESCRIPTION:Despite the best laid plans\, the Toy Association has decided to cancel the Interim NYC event and look to 2022 for a larger trade show in the city.  More details can be found in the press release that was posted on “The Chronicles” HERE.  Stay tuned to listings such as this one for the very latest scheduled events and any changes or cancellations to them.  As soon as we know updates\, we will get them online for the readership. \n \nAfter postponing the originally scheduled Toy Fair that was set for February of this year\, a scaled-down affair will take place in the Javits over these four days.  As this is a trade show\, it is only industry and select press so you’ll want to follow your favorite toy companies and sites like this one on their social networks of Facebook and Instagram to be brought into the mix. \nLike this:Like Loading...
URL:https://www.piercingken.com/event/cancelled-toy-fair-jacob-javits-center-4/
LOCATION:Jacob K. Javits Convention Center\, 655 W 34th St.\, New York\,\, NY\, 10001\, United States
CATEGORIES:Trade Show
END:VEVENT
END:VCALENDAR