BEGIN:VCALENDAR
VERSION:2.0
PRODID:-//The Chronicles Of PiercingKen - ECPv6.15.20//NONSGML v1.0//EN
CALSCALE:GREGORIAN
METHOD:PUBLISH
X-WR-CALNAME:The Chronicles Of PiercingKen
X-ORIGINAL-URL:https://www.piercingken.com
X-WR-CALDESC:Events for The Chronicles Of PiercingKen
REFRESH-INTERVAL;VALUE=DURATION:PT1H
X-Robots-Tag:noindex
X-PUBLISHED-TTL:PT1H
BEGIN:VTIMEZONE
TZID:America/New_York
BEGIN:DAYLIGHT
TZOFFSETFROM:-0500
TZOFFSETTO:-0400
TZNAME:EDT
DTSTART:20200308T070000
END:DAYLIGHT
BEGIN:STANDARD
TZOFFSETFROM:-0400
TZOFFSETTO:-0500
TZNAME:EST
DTSTART:20201101T060000
END:STANDARD
BEGIN:DAYLIGHT
TZOFFSETFROM:-0500
TZOFFSETTO:-0400
TZNAME:EDT
DTSTART:20210314T070000
END:DAYLIGHT
BEGIN:STANDARD
TZOFFSETFROM:-0400
TZOFFSETTO:-0500
TZNAME:EST
DTSTART:20211107T060000
END:STANDARD
BEGIN:DAYLIGHT
TZOFFSETFROM:-0500
TZOFFSETTO:-0400
TZNAME:EDT
DTSTART:20220313T070000
END:DAYLIGHT
BEGIN:STANDARD
TZOFFSETFROM:-0400
TZOFFSETTO:-0500
TZNAME:EST
DTSTART:20221106T060000
END:STANDARD
END:VTIMEZONE
BEGIN:VEVENT
DTSTART;VALUE=DATE:20210521
DTEND;VALUE=DATE:20210522
DTSTAMP:20260419T233141
CREATED:20210501T123046Z
LAST-MODIFIED:20240926T025122Z
UID:47956-1621555200-1621641599@www.piercingken.com
SUMMARY:Affordable Art Fair NYC @ Metropolitan Pavilion
DESCRIPTION:The Affordable Art Fair NYC will return to the Metropolitan Pavilion in May for its Spring edition\, welcoming local\, national and international exhibitors\, to showcase original contemporary work from hundreds of contemporary artists.  \n \nLike this:Like Loading...
URL:https://www.piercingken.com/event/affordable-art-fair-nyc-metropolitan-pavilion-12/
LOCATION:Metropolitan Pavilion\, 125 W 18th St.\, New York\,\, NY\, 10011\, United States
CATEGORIES:Art Fair
END:VEVENT
BEGIN:VEVENT
DTSTART;VALUE=DATE:20210521
DTEND;VALUE=DATE:20210522
DTSTAMP:20260419T233141
CREATED:20210115T130025Z
LAST-MODIFIED:20210501T172107Z
UID:48206-1621555200-1621641599@www.piercingken.com
SUMMARY:RESCHEDULED: New York Tattoo Convention @ Brooklyn Expo Center
DESCRIPTION:Due to the continuing issues with public assembly and events such as this one\, the Organizers of the New York Tattoo Convention have pushed the schedule to September of this year.  Stay tuned to listings such as these for the very latest updates\, changes and cancellations. \n \nThe hopes are high for the New York Tattoo Convention which will take place as the Summer days dawn upon us at the always fun to visit Brooklyn Expo Center.  Be sure to check their policies via their Facebook regarding social distancing and other safety measures during this chaotic time.  ID will be necessary for those hoping to get a tattoo.   \nLike this:Like Loading...
URL:https://www.piercingken.com/event/rescheduled-new-york-tattoo-convention-brooklyn-expo-center/
LOCATION:Brooklyn Expo Center\, 72 Noble Street\, Brooklyn\, NY\, 11222\, United States
CATEGORIES:Convention
END:VEVENT
END:VCALENDAR