BEGIN:VCALENDAR
VERSION:2.0
PRODID:-//The Chronicles Of PiercingKen - ECPv6.15.20//NONSGML v1.0//EN
CALSCALE:GREGORIAN
METHOD:PUBLISH
X-ORIGINAL-URL:https://www.piercingken.com
X-WR-CALDESC:Events for The Chronicles Of PiercingKen
REFRESH-INTERVAL;VALUE=DURATION:PT1H
X-Robots-Tag:noindex
X-PUBLISHED-TTL:PT1H
BEGIN:VTIMEZONE
TZID:America/New_York
BEGIN:DAYLIGHT
TZOFFSETFROM:-0500
TZOFFSETTO:-0400
TZNAME:EDT
DTSTART:20200308T070000
END:DAYLIGHT
BEGIN:STANDARD
TZOFFSETFROM:-0400
TZOFFSETTO:-0500
TZNAME:EST
DTSTART:20201101T060000
END:STANDARD
BEGIN:DAYLIGHT
TZOFFSETFROM:-0500
TZOFFSETTO:-0400
TZNAME:EDT
DTSTART:20210314T070000
END:DAYLIGHT
BEGIN:STANDARD
TZOFFSETFROM:-0400
TZOFFSETTO:-0500
TZNAME:EST
DTSTART:20211107T060000
END:STANDARD
BEGIN:DAYLIGHT
TZOFFSETFROM:-0500
TZOFFSETTO:-0400
TZNAME:EDT
DTSTART:20220313T070000
END:DAYLIGHT
BEGIN:STANDARD
TZOFFSETFROM:-0400
TZOFFSETTO:-0500
TZNAME:EST
DTSTART:20221106T060000
END:STANDARD
END:VTIMEZONE
BEGIN:VEVENT
DTSTART;VALUE=DATE:20210522
DTEND;VALUE=DATE:20210523
DTSTAMP:20260420T012922
CREATED:20210501T043003Z
LAST-MODIFIED:20250327T190921Z
UID:53043-1621641600-1621727999@www.piercingken.com
SUMMARY:The Chronicles Of PiercingKen Anniversary @ The Internet
DESCRIPTION:Today is the 11th Anniversary of “The Chronicles Of Piercing Ken” Lifestyle Blog. Thanks to all of our readers and passerby for the support and interest. We greatly appreciate you spending a little time here. \nBe sure to follow us on Social Media using these profiles – Facebook\, Twitter\, Instagram and YouTube \n \nLike this:Like Loading...
URL:https://www.piercingken.com/event/the-chronicles-of-piercingken-anniversary-the-internet-7/
LOCATION:NY
CATEGORIES:Special Appearance
END:VEVENT
BEGIN:VEVENT
DTSTART;VALUE=DATE:20210522
DTEND;VALUE=DATE:20210523
DTSTAMP:20260420T012922
CREATED:20210501T124518Z
LAST-MODIFIED:20240926T025134Z
UID:47957-1621641600-1621727999@www.piercingken.com
SUMMARY:Affordable Art Fair NYC @ Metropolitan Pavilion
DESCRIPTION:The Affordable Art Fair NYC will return to the Metropolitan Pavilion in May for its Spring edition\, welcoming local\, national and international exhibitors\, to showcase original contemporary work from hundreds of contemporary artists.  \n \nLike this:Like Loading...
URL:https://www.piercingken.com/event/affordable-art-fair-nyc-metropolitan-pavilion-13/
LOCATION:Metropolitan Pavilion\, 125 W 18th St.\, New York\,\, NY\, 10011\, United States
CATEGORIES:Art Fair
END:VEVENT
BEGIN:VEVENT
DTSTART;VALUE=DATE:20210522
DTEND;VALUE=DATE:20210523
DTSTAMP:20260420T012922
CREATED:20210115T131544Z
LAST-MODIFIED:20210501T172202Z
UID:48208-1621641600-1621727999@www.piercingken.com
SUMMARY:RESCHEDULED: New York Tattoo Convention @ Brooklyn Expo Center
DESCRIPTION:Due to the continuing issues with public assembly and events such as this one\, the Organizers of the New York Tattoo Convention have pushed the schedule to September of this year.  Stay tuned to listings such as these for the very latest updates\, changes and cancellations. \n \nThe hopes are high for the New York Tattoo Convention which will take place as the Summer days dawn upon us at the always fun to visit Brooklyn Expo Center.  Be sure to check their policies via their Facebook regarding social distancing and other safety measures during this chaotic time.  ID will be necessary for those hoping to get a tattoo.  \nLike this:Like Loading...
URL:https://www.piercingken.com/event/rescheduled-new-york-tattoo-convention-brooklyn-expo-center-2/
LOCATION:Brooklyn Expo Center\, 72 Noble Street\, Brooklyn\, NY\, 11222\, United States
CATEGORIES:Convention
END:VEVENT
END:VCALENDAR