BEGIN:VCALENDAR
VERSION:2.0
PRODID:-//The Chronicles Of PiercingKen - ECPv6.15.20//NONSGML v1.0//EN
CALSCALE:GREGORIAN
METHOD:PUBLISH
X-ORIGINAL-URL:https://www.piercingken.com
X-WR-CALDESC:Events for The Chronicles Of PiercingKen
REFRESH-INTERVAL;VALUE=DURATION:PT1H
X-Robots-Tag:noindex
X-PUBLISHED-TTL:PT1H
BEGIN:VTIMEZONE
TZID:America/New_York
BEGIN:DAYLIGHT
TZOFFSETFROM:-0500
TZOFFSETTO:-0400
TZNAME:EDT
DTSTART:20200308T070000
END:DAYLIGHT
BEGIN:STANDARD
TZOFFSETFROM:-0400
TZOFFSETTO:-0500
TZNAME:EST
DTSTART:20201101T060000
END:STANDARD
BEGIN:DAYLIGHT
TZOFFSETFROM:-0500
TZOFFSETTO:-0400
TZNAME:EDT
DTSTART:20210314T070000
END:DAYLIGHT
BEGIN:STANDARD
TZOFFSETFROM:-0400
TZOFFSETTO:-0500
TZNAME:EST
DTSTART:20211107T060000
END:STANDARD
BEGIN:DAYLIGHT
TZOFFSETFROM:-0500
TZOFFSETTO:-0400
TZNAME:EDT
DTSTART:20220313T070000
END:DAYLIGHT
BEGIN:STANDARD
TZOFFSETFROM:-0400
TZOFFSETTO:-0500
TZNAME:EST
DTSTART:20221106T060000
END:STANDARD
END:VTIMEZONE
BEGIN:VEVENT
DTSTART;VALUE=DATE:20211106
DTEND;VALUE=DATE:20211107
DTSTAMP:20260424T175511
CREATED:20211002T123051Z
LAST-MODIFIED:20211013T133710Z
UID:49789-1636156800-1636243199@www.piercingken.com
SUMMARY:The Other Art Fair @ Brooklyn Expo Center
DESCRIPTION:The Other Art Fair lands in Greenpoint\, Brooklyn at the spacious Brooklyn Expo Center.  It’s presented by Saatchi Art and you’re going to want to be there and then enjoy some of the neighborhood spots as well.   \n \nLike this:Like Loading...
URL:https://www.piercingken.com/event/the-other-art-fair-brooklyn-expo-center-3/
LOCATION:Brooklyn Expo Center\, 72 Noble Street\, Brooklyn\, NY\, 11222\, United States
CATEGORIES:Art Fair
END:VEVENT
BEGIN:VEVENT
DTSTART;VALUE=DATE:20211106
DTEND;VALUE=DATE:20211107
DTSTAMP:20260424T175511
CREATED:20211015T130013Z
LAST-MODIFIED:20230207T011218Z
UID:49819-1636156800-1636243199@www.piercingken.com
SUMMARY:CWCBExpo @ Javits Center
DESCRIPTION:The CWCBExpo returns to New York City at the famed Javits Center.  This trade show will be the best place to learn about the latest trends in the CBD industry.  Please be aware that strict Covid-19 protocols will be in place and enforced during this event. \nLike this:Like Loading...
URL:https://www.piercingken.com/event/cwcbexpo-javits-center-6/
LOCATION:Jacob K. Javits Convention Center\, 655 W 34th St.\, New York\,\, NY\, 10001\, United States
CATEGORIES:Trade Show
END:VEVENT
BEGIN:VEVENT
DTSTART;TZID=America/New_York:20211106T100000
DTEND;TZID=America/New_York:20211106T200000
DTSTAMP:20260424T175511
CREATED:20211101T123035Z
LAST-MODIFIED:20240309T182506Z
UID:49910-1636192800-1636228800@www.piercingken.com
SUMMARY:Canstruction New York @ Brookfield Place
DESCRIPTION:After going virtual in 2020 due to the Coronavirus Pandemic\, the annual Canstruction New York exhibit has returned to being an in-person event and will run from November 4th-15th at the beautiful Brookfield Place.  Come see all of the “16” amazing sculptures and bring along a couple of cans of non-perishable goods to donate.  All exhibits and donations will go to New York’s own City Harvest. \n \nLike this:Like Loading...
URL:https://www.piercingken.com/event/canstruction-new-york-brookfield-place-45/
LOCATION:Brookfield Place\, 230 Vesey Street\, New York\, NY\, 10281\, United States
CATEGORIES:Art Fair
END:VEVENT
END:VCALENDAR