BEGIN:VCALENDAR
VERSION:2.0
PRODID:-//The Chronicles Of PiercingKen - ECPv6.15.20//NONSGML v1.0//EN
CALSCALE:GREGORIAN
METHOD:PUBLISH
X-ORIGINAL-URL:https://www.piercingken.com
X-WR-CALDESC:Events for The Chronicles Of PiercingKen
REFRESH-INTERVAL;VALUE=DURATION:PT1H
X-Robots-Tag:noindex
X-PUBLISHED-TTL:PT1H
BEGIN:VTIMEZONE
TZID:America/New_York
BEGIN:DAYLIGHT
TZOFFSETFROM:-0500
TZOFFSETTO:-0400
TZNAME:EDT
DTSTART:20210314T070000
END:DAYLIGHT
BEGIN:STANDARD
TZOFFSETFROM:-0400
TZOFFSETTO:-0500
TZNAME:EST
DTSTART:20211107T060000
END:STANDARD
BEGIN:DAYLIGHT
TZOFFSETFROM:-0500
TZOFFSETTO:-0400
TZNAME:EDT
DTSTART:20220313T070000
END:DAYLIGHT
BEGIN:STANDARD
TZOFFSETFROM:-0400
TZOFFSETTO:-0500
TZNAME:EST
DTSTART:20221106T060000
END:STANDARD
BEGIN:DAYLIGHT
TZOFFSETFROM:-0500
TZOFFSETTO:-0400
TZNAME:EDT
DTSTART:20230312T070000
END:DAYLIGHT
BEGIN:STANDARD
TZOFFSETFROM:-0400
TZOFFSETTO:-0500
TZNAME:EST
DTSTART:20231105T060000
END:STANDARD
END:VTIMEZONE
BEGIN:VEVENT
DTSTART;VALUE=DATE:20220506
DTEND;VALUE=DATE:20220507
DTSTAMP:20260422T072629
CREATED:20220501T120026Z
LAST-MODIFIED:20250227T203455Z
UID:50923-1651795200-1651881599@www.piercingken.com
SUMMARY:NY Empire State Tattoo Expo @ New York Hilton Midtown
DESCRIPTION:The New York Empire State Tattoo Expo has returned to the New York Hilton Midtown as an in-person event and will be the place to meet a variety of artists or just peruse the craft if it interests you.  Burlesque performances and scores of vendors will be there as well.  You must be 18+ to get any ink so be sure to have proper identification.  \n \nLike this:Like Loading...
URL:https://www.piercingken.com/event/ny-empire-state-tattoo-expo-new-york-hilton-midtown-13/
LOCATION:New York Hilton Midtown\, 1335 Avenue Of The Americas\, New York\, NY\, 10606\, United States
CATEGORIES:Convention
END:VEVENT
END:VCALENDAR