BEGIN:VCALENDAR
VERSION:2.0
PRODID:-//The Chronicles Of PiercingKen - ECPv6.15.20//NONSGML v1.0//EN
CALSCALE:GREGORIAN
METHOD:PUBLISH
X-WR-CALNAME:The Chronicles Of PiercingKen
X-ORIGINAL-URL:https://www.piercingken.com
X-WR-CALDESC:Events for The Chronicles Of PiercingKen
REFRESH-INTERVAL;VALUE=DURATION:PT1H
X-Robots-Tag:noindex
X-PUBLISHED-TTL:PT1H
BEGIN:VTIMEZONE
TZID:America/New_York
BEGIN:DAYLIGHT
TZOFFSETFROM:-0500
TZOFFSETTO:-0400
TZNAME:EDT
DTSTART:20220313T070000
END:DAYLIGHT
BEGIN:STANDARD
TZOFFSETFROM:-0400
TZOFFSETTO:-0500
TZNAME:EST
DTSTART:20221106T060000
END:STANDARD
BEGIN:DAYLIGHT
TZOFFSETFROM:-0500
TZOFFSETTO:-0400
TZNAME:EDT
DTSTART:20230312T070000
END:DAYLIGHT
BEGIN:STANDARD
TZOFFSETFROM:-0400
TZOFFSETTO:-0500
TZNAME:EST
DTSTART:20231105T060000
END:STANDARD
BEGIN:DAYLIGHT
TZOFFSETFROM:-0500
TZOFFSETTO:-0400
TZNAME:EDT
DTSTART:20240310T070000
END:DAYLIGHT
BEGIN:STANDARD
TZOFFSETFROM:-0400
TZOFFSETTO:-0500
TZNAME:EST
DTSTART:20241103T060000
END:STANDARD
END:VTIMEZONE
BEGIN:VEVENT
DTSTART;VALUE=DATE:20230813
DTEND;VALUE=DATE:20230814
DTSTAMP:20260421T135724
CREATED:20230507T123021Z
LAST-MODIFIED:20260314T155347Z
UID:53307-1691884800-1691971199@www.piercingken.com
SUMMARY:Flame Con @ Sheraton Times Square
DESCRIPTION:The Flame Con is here and taking over the Sheraton Times Square once again for two full days of comic convention fun.  Presented by Geeks OUT\, Flame Con is the largest LGBTQ+ comic convention but all are welcome to enjoy it’s awesomeness. \n \nLike this:Like Loading...
URL:https://www.piercingken.com/event/flame-con-sheraton-times-square-8/
LOCATION:Sheraton Times Square\, 811-7th Ave\, New York\, NY\, 10019\, United States
CATEGORIES:Convention
END:VEVENT
BEGIN:VEVENT
DTSTART;VALUE=DATE:20230813
DTEND;VALUE=DATE:20230814
DTSTAMP:20260421T135724
CREATED:20230731T120050Z
LAST-MODIFIED:20250105T165924Z
UID:53831-1691884800-1691971199@www.piercingken.com
SUMMARY:Shoppe Object @ Pier 36
DESCRIPTION:The Shoppe Object returns for its regular Summer Market at Pier 36.  As this is a trade show\, its industry only and select press so you’re going to peruse the exhibitors via their link and follow their social media profiles to see what the latest is going to be. \n \nLike this:Like Loading...
URL:https://www.piercingken.com/event/shoppe-object-pier-36-16/
LOCATION:Pier 36\, 299 South Street\, New York\, NY\, 10002\, United States
CATEGORIES:Trade Show
END:VEVENT
BEGIN:VEVENT
DTSTART;TZID=America/New_York:20230813T100000
DTEND;TZID=America/New_York:20230813T180000
DTSTAMP:20260421T135724
CREATED:20230720T120014Z
LAST-MODIFIED:20240626T200339Z
UID:53766-1691920800-1691949600@www.piercingken.com
SUMMARY:NY NOW @ Javits Center
DESCRIPTION:The NY NOW Summer Market is on at the Javits Center and will be the place to explore all sorts of interesting items for home and everyday use.  As this is a trade show\, its only open to trade professionals and the media.  You’ll need to follow their social media accounts or your favorite lifestyle bloggers to learn what is going on inside. \n \nLike this:Like Loading...
URL:https://www.piercingken.com/event/ny-now-javits-center-32/
LOCATION:Jacob K. Javits Convention Center\, 655 W 34th St.\, New York\,\, NY\, 10001\, United States
CATEGORIES:Trade Show
END:VEVENT
END:VCALENDAR