BEGIN:VCALENDAR
VERSION:2.0
PRODID:-//The Chronicles Of PiercingKen - ECPv6.15.20//NONSGML v1.0//EN
CALSCALE:GREGORIAN
METHOD:PUBLISH
X-ORIGINAL-URL:https://www.piercingken.com
X-WR-CALDESC:Events for The Chronicles Of PiercingKen
REFRESH-INTERVAL;VALUE=DURATION:PT1H
X-Robots-Tag:noindex
X-PUBLISHED-TTL:PT1H
BEGIN:VTIMEZONE
TZID:America/New_York
BEGIN:DAYLIGHT
TZOFFSETFROM:-0500
TZOFFSETTO:-0400
TZNAME:EDT
DTSTART:20220313T070000
END:DAYLIGHT
BEGIN:STANDARD
TZOFFSETFROM:-0400
TZOFFSETTO:-0500
TZNAME:EST
DTSTART:20221106T060000
END:STANDARD
BEGIN:DAYLIGHT
TZOFFSETFROM:-0500
TZOFFSETTO:-0400
TZNAME:EDT
DTSTART:20230312T070000
END:DAYLIGHT
BEGIN:STANDARD
TZOFFSETFROM:-0400
TZOFFSETTO:-0500
TZNAME:EST
DTSTART:20231105T060000
END:STANDARD
BEGIN:DAYLIGHT
TZOFFSETFROM:-0500
TZOFFSETTO:-0400
TZNAME:EDT
DTSTART:20240310T070000
END:DAYLIGHT
BEGIN:STANDARD
TZOFFSETFROM:-0400
TZOFFSETTO:-0500
TZNAME:EST
DTSTART:20241103T060000
END:STANDARD
END:VTIMEZONE
BEGIN:VEVENT
DTSTART;VALUE=DATE:20231026
DTEND;VALUE=DATE:20231027
DTSTAMP:20260423T151914
CREATED:20230904T120053Z
LAST-MODIFIED:20250105T222258Z
UID:54279-1698278400-1698364799@www.piercingken.com
SUMMARY:New York International Travel Show @ Javits Center
DESCRIPTION:The New York International Travel Show returns for its 2023 event and will assist the travel hungry in finding some destinations to go and learn about places that they might have been most interested in.  If you’re a travel nerd\, then be sure to head to this convention. \n \nLike this:Like Loading...
URL:https://www.piercingken.com/event/new-york-international-travel-show-javits-center/
LOCATION:Jacob K. Javits Convention Center\, 655 W 34th St.\, New York\,\, NY\, 10001\, United States
CATEGORIES:Convention
END:VEVENT
BEGIN:VEVENT
DTSTART;VALUE=DATE:20231026
DTEND;VALUE=DATE:20231027
DTSTAMP:20260423T151914
CREATED:20231001T120009Z
LAST-MODIFIED:20250905T180019Z
UID:59426-1698278400-1698364799@www.piercingken.com
SUMMARY:IFPDA Print Fair @ Javits Center
DESCRIPTION:Like this:Like Loading...
URL:https://www.piercingken.com/event/ifpda-print-fair-javits-center-5/
LOCATION:Jacob K. Javits Convention Center\, 655 W 34th St.\, New York\,\, NY\, 10001\, United States
CATEGORIES:Art Fair
END:VEVENT
BEGIN:VEVENT
DTSTART;VALUE=DATE:20231026
DTEND;VALUE=DATE:20231027
DTSTAMP:20260423T151914
CREATED:20231001T130043Z
LAST-MODIFIED:20241001T182621Z
UID:56613-1698278400-1698364799@www.piercingken.com
SUMMARY:AES Show NY @ Javits Center
DESCRIPTION:The AES Show NY is an annual convention held by the Audio Engineering Society and this year they will celebrate their 75th Anniversary.  If you’re an audiophile you’ll want to look into this specialized trade show.   \n \nLike this:Like Loading...
URL:https://www.piercingken.com/event/aes-show-ny-javits-center-2/
LOCATION:Jacob K. Javits Convention Center\, 655 W 34th St.\, New York\,\, NY\, 10001\, United States
CATEGORIES:Trade Show
END:VEVENT
BEGIN:VEVENT
DTSTART;VALUE=DATE:20231026
DTEND;VALUE=DATE:20231027
DTSTAMP:20260423T151914
CREATED:20231001T121509Z
LAST-MODIFIED:20231024T231354Z
UID:54631-1698278400-1698364799@www.piercingken.com
SUMMARY:AES @ Javits Center
DESCRIPTION:The Audio Engineering Society show returns to the Javits Center for three days.  If you’re in the field or just interested\, consider paying a visit to this one. \nLike this:Like Loading...
URL:https://www.piercingken.com/event/aes-javits-center-2/
LOCATION:Jacob K. Javits Convention Center\, 655 W 34th St.\, New York\,\, NY\, 10001\, United States
CATEGORIES:Convention
END:VEVENT
BEGIN:VEVENT
DTSTART;VALUE=DATE:20231026
DTEND;VALUE=DATE:20231027
DTSTAMP:20260423T151914
CREATED:20231001T123035Z
LAST-MODIFIED:20241001T172351Z
UID:56600-1698278400-1698364799@www.piercingken.com
SUMMARY:NAB Show @ Javits Center
DESCRIPTION:According to their website\, “NAB Show is an annual trade show produced by the National Association of Broadcasters” and its tagline is  “Where Content Comes to Life”.  If you’re a professional or an ingenue to the craft\, this will be your place to learn about the latest developments and mingle and network with other professionals. \n \nLike this:Like Loading...
URL:https://www.piercingken.com/event/nab-show-javits-center-3/
LOCATION:Jacob K. Javits Convention Center\, 655 W 34th St.\, New York\,\, NY\, 10001\, United States
CATEGORIES:Trade Show
END:VEVENT
END:VCALENDAR