BEGIN:VCALENDAR
VERSION:2.0
PRODID:-//The Chronicles Of PiercingKen - ECPv6.15.20//NONSGML v1.0//EN
CALSCALE:GREGORIAN
METHOD:PUBLISH
X-ORIGINAL-URL:https://www.piercingken.com
X-WR-CALDESC:Events for The Chronicles Of PiercingKen
REFRESH-INTERVAL;VALUE=DURATION:PT1H
X-Robots-Tag:noindex
X-PUBLISHED-TTL:PT1H
BEGIN:VTIMEZONE
TZID:America/New_York
BEGIN:DAYLIGHT
TZOFFSETFROM:-0500
TZOFFSETTO:-0400
TZNAME:EDT
DTSTART:20240310T070000
END:DAYLIGHT
BEGIN:STANDARD
TZOFFSETFROM:-0400
TZOFFSETTO:-0500
TZNAME:EST
DTSTART:20241103T060000
END:STANDARD
BEGIN:DAYLIGHT
TZOFFSETFROM:-0500
TZOFFSETTO:-0400
TZNAME:EDT
DTSTART:20250309T070000
END:DAYLIGHT
BEGIN:STANDARD
TZOFFSETFROM:-0400
TZOFFSETTO:-0500
TZNAME:EST
DTSTART:20251102T060000
END:STANDARD
BEGIN:DAYLIGHT
TZOFFSETFROM:-0500
TZOFFSETTO:-0400
TZNAME:EDT
DTSTART:20260308T070000
END:DAYLIGHT
BEGIN:STANDARD
TZOFFSETFROM:-0400
TZOFFSETTO:-0500
TZNAME:EST
DTSTART:20261101T060000
END:STANDARD
END:VTIMEZONE
BEGIN:VEVENT
DTSTART;VALUE=DATE:20250321
DTEND;VALUE=DATE:20250322
DTSTAMP:20260422T175500
CREATED:20241015T120045Z
LAST-MODIFIED:20250117T041621Z
UID:57688-1742515200-1742601599@www.piercingken.com
SUMMARY:Salon du Chocolat NYC @ Javits Center
DESCRIPTION:After the 2024 postponement\, the “Salon du Chocolat” has returned and is at Javits Center ready to sate the desires of chocolate lovers from far and wide.  Dozens of exhibitors and chocolatier experts will be on point so be ready to spend some money and sample the chocolatey goodness.   \n \nLike this:Like Loading...
URL:https://www.piercingken.com/event/salon-du-chocolat-nyc-javits-center-5/
LOCATION:Jacob K. Javits Convention Center\, 655 W 34th St.\, New York\,\, NY\, 10001\, United States
CATEGORIES:Festival - Fair
END:VEVENT
BEGIN:VEVENT
DTSTART;VALUE=DATE:20250321
DTEND;VALUE=DATE:20250322
DTSTAMP:20260422T175500
CREATED:20250221T133025Z
LAST-MODIFIED:20250320T034529Z
UID:58244-1742515200-1742601599@www.piercingken.com
SUMMARY:Affordable Art Fair NYC @ Metropolitan Pavilion
DESCRIPTION:The Affordable Art Fair returns to the Metropolitan Pavilion for its Fall Showcase.  It’s the best place to see some of the amazing galleries from NYC and beyond.  Today is a general public day. \n \nLike this:Like Loading...
URL:https://www.piercingken.com/event/affordable-art-fair-nyc-metropolitan-pavilion-32/
LOCATION:Metropolitan Pavilion\, 125 W 18th St.\, New York\,\, NY\, 10011\, United States
CATEGORIES:Art Fair
END:VEVENT
END:VCALENDAR