BEGIN:VCALENDAR
VERSION:2.0
PRODID:-//The Chronicles Of PiercingKen - ECPv6.15.20//NONSGML v1.0//EN
CALSCALE:GREGORIAN
METHOD:PUBLISH
X-ORIGINAL-URL:https://www.piercingken.com
X-WR-CALDESC:Events for The Chronicles Of PiercingKen
REFRESH-INTERVAL;VALUE=DURATION:PT1H
X-Robots-Tag:noindex
X-PUBLISHED-TTL:PT1H
BEGIN:VTIMEZONE
TZID:America/New_York
BEGIN:DAYLIGHT
TZOFFSETFROM:-0500
TZOFFSETTO:-0400
TZNAME:EDT
DTSTART:20200308T070000
END:DAYLIGHT
BEGIN:STANDARD
TZOFFSETFROM:-0400
TZOFFSETTO:-0500
TZNAME:EST
DTSTART:20201101T060000
END:STANDARD
BEGIN:DAYLIGHT
TZOFFSETFROM:-0500
TZOFFSETTO:-0400
TZNAME:EDT
DTSTART:20210314T070000
END:DAYLIGHT
BEGIN:STANDARD
TZOFFSETFROM:-0400
TZOFFSETTO:-0500
TZNAME:EST
DTSTART:20211107T060000
END:STANDARD
BEGIN:DAYLIGHT
TZOFFSETFROM:-0500
TZOFFSETTO:-0400
TZNAME:EDT
DTSTART:20220313T070000
END:DAYLIGHT
BEGIN:STANDARD
TZOFFSETFROM:-0400
TZOFFSETTO:-0500
TZNAME:EST
DTSTART:20221106T060000
END:STANDARD
END:VTIMEZONE
BEGIN:VEVENT
DTSTART;VALUE=DATE:20210924
DTEND;VALUE=DATE:20210925
DTSTAMP:20260422T221715
CREATED:20210901T120032Z
LAST-MODIFIED:20210925T145636Z
UID:49688-1632441600-1632527999@www.piercingken.com
SUMMARY:Governors Ball Music Festival @ Citi Field
DESCRIPTION:The Governors Ball Music Festival will take place at Citi Field this time around and features an all-day program of the nations hottest talent.  Please be advised that strict Covid-19 protocols and regulations will be enforced if you plan on attending. \n \nLike this:Like Loading...
URL:https://www.piercingken.com/event/governors-ball-music-festival-citi-field/
LOCATION:Citi Field\, 123-01 Roosevelt Ave.\, Queens\, NY\, 11368\, United States
CATEGORIES:Concert
END:VEVENT
END:VCALENDAR