BEGIN:VCALENDAR
VERSION:2.0
PRODID:-//The Chronicles Of PiercingKen - ECPv6.15.20//NONSGML v1.0//EN
CALSCALE:GREGORIAN
METHOD:PUBLISH
X-ORIGINAL-URL:https://www.piercingken.com
X-WR-CALDESC:Events for The Chronicles Of PiercingKen
REFRESH-INTERVAL;VALUE=DURATION:PT1H
X-Robots-Tag:noindex
X-PUBLISHED-TTL:PT1H
BEGIN:VTIMEZONE
TZID:America/New_York
BEGIN:DAYLIGHT
TZOFFSETFROM:-0500
TZOFFSETTO:-0400
TZNAME:EDT
DTSTART:20180311T070000
END:DAYLIGHT
BEGIN:STANDARD
TZOFFSETFROM:-0400
TZOFFSETTO:-0500
TZNAME:EST
DTSTART:20181104T060000
END:STANDARD
BEGIN:DAYLIGHT
TZOFFSETFROM:-0500
TZOFFSETTO:-0400
TZNAME:EDT
DTSTART:20190310T070000
END:DAYLIGHT
BEGIN:STANDARD
TZOFFSETFROM:-0400
TZOFFSETTO:-0500
TZNAME:EST
DTSTART:20191103T060000
END:STANDARD
BEGIN:DAYLIGHT
TZOFFSETFROM:-0500
TZOFFSETTO:-0400
TZNAME:EDT
DTSTART:20200308T070000
END:DAYLIGHT
BEGIN:STANDARD
TZOFFSETFROM:-0400
TZOFFSETTO:-0500
TZNAME:EST
DTSTART:20201101T060000
END:STANDARD
BEGIN:DAYLIGHT
TZOFFSETFROM:-0500
TZOFFSETTO:-0400
TZNAME:EDT
DTSTART:20210314T070000
END:DAYLIGHT
BEGIN:STANDARD
TZOFFSETFROM:-0400
TZOFFSETTO:-0500
TZNAME:EST
DTSTART:20211107T060000
END:STANDARD
END:VTIMEZONE
BEGIN:VEVENT
DTSTART;VALUE=DATE:20191006
DTEND;VALUE=DATE:20191007
DTSTAMP:20260423T111409
CREATED:20190429T124558Z
LAST-MODIFIED:20201121T142138Z
UID:47074-1570320000-1570406399@www.piercingken.com
SUMMARY:Hugh Jackman @ Prudential Center
DESCRIPTION:Hugh Jackman brings his “The Man. The Music. The Show.” World Tour to New Jersey.  Don’t miss this exciting performer. \n \nLike this:Like Loading...
URL:https://www.piercingken.com/event/hugh-jackman-prudential-center/
LOCATION:Prudential Center\, 25 Lafayette St.\, Newark\, NJ\, 07102\, United States
CATEGORIES:Concert
END:VEVENT
BEGIN:VEVENT
DTSTART;TZID=America/New_York:20191006T200000
DTEND;TZID=America/New_York:20191006T200000
DTSTAMP:20260423T111409
CREATED:20190507T173051Z
LAST-MODIFIED:20190613T200750Z
UID:40149-1570392000-1570392000@www.piercingken.com
SUMMARY:Madonna @ BAM Howard Gilman Opera House
DESCRIPTION:Madonna brings her “Madame X” Tour to Brooklyn with a lengthy residency of “17” performances.  Don’t miss the legendary entertainer in this intimate space as she delivers both new and classic material at a show that one is not likely to ever forget.  Be sure to come to one or more shows if she suits your fancy. \n \nLike this:Like Loading...
URL:https://www.piercingken.com/event/madonna-bam-howard-gilman-opera-house-16/
LOCATION:BAM Howard Gilman Opera House\, 30 Lafayette Ave\, Brooklyn\, NY\, 11217\, United States
CATEGORIES:Concert
END:VEVENT
BEGIN:VEVENT
DTSTART;TZID=America/New_York:20191007T200000
DTEND;TZID=America/New_York:20191007T200000
DTSTAMP:20260423T111409
CREATED:20190507T174525Z
LAST-MODIFIED:20190613T200835Z
UID:40150-1570478400-1570478400@www.piercingken.com
SUMMARY:Madonna @ BAM Howard Gilman Opera House
DESCRIPTION:Madonna brings her “Madame X” Tour to Brooklyn with a lengthy residency of “17” performances.  Don’t miss the legendary entertainer in this intimate space as she delivers both new and classic material at a show that one is not likely to ever forget.  Be sure to come to one or more shows if she suits your fancy. \n \nLike this:Like Loading...
URL:https://www.piercingken.com/event/madonna-bam-howard-gilman-opera-house-17/
LOCATION:BAM Howard Gilman Opera House\, 30 Lafayette Ave\, Brooklyn\, NY\, 11217\, United States
CATEGORIES:Concert
END:VEVENT
BEGIN:VEVENT
DTSTART;TZID=America/New_York:20191114T190000
DTEND;TZID=America/New_York:20191114T190000
DTSTAMP:20260423T111409
CREATED:20191101T120014Z
LAST-MODIFIED:20191107T043931Z
UID:41673-1573758000-1573758000@www.piercingken.com
SUMMARY:"We Will Rock You" The Musical @ The Hulu Theater at MSG
DESCRIPTION:“We Will Rock You” The Musical will bring all of the biggest hits of Queen to life in an exciting presentation that will have you singing note after note. \n \nLike this:Like Loading...
URL:https://www.piercingken.com/event/we-will-rock-you-the-musical-the-hulu-theater-at-msg/
LOCATION:Hulu Theater at Madison Square Garden\, 4 Pennsylvania Avenue\, New York\, NY\, United States
CATEGORIES:Concert
END:VEVENT
BEGIN:VEVENT
DTSTART;TZID=America/New_York:20191115T190000
DTEND;TZID=America/New_York:20191115T190000
DTSTAMP:20260423T111409
CREATED:20191101T121058Z
LAST-MODIFIED:20191117T025015Z
UID:41676-1573844400-1573844400@www.piercingken.com
SUMMARY:"We Will Rock You" The Musical @ The Hulu Theater at MSG
DESCRIPTION:“We Will Rock You” The Musical will bring all of the biggest hits of Queen to life in an exciting presentation that will have you singing note after note. \n \nLike this:Like Loading...
URL:https://www.piercingken.com/event/we-will-rock-you-the-musical-the-hulu-theater-at-msg-2/
LOCATION:Hulu Theater at Madison Square Garden\, 4 Pennsylvania Avenue\, New York\, NY\, United States
CATEGORIES:Concert
END:VEVENT
BEGIN:VEVENT
DTSTART;TZID=America/New_York:20191116T140000
DTEND;TZID=America/New_York:20191116T170000
DTSTAMP:20260423T111409
CREATED:20191101T122021Z
LAST-MODIFIED:20191117T025247Z
UID:41763-1573912800-1573923600@www.piercingken.com
SUMMARY:“We Will Rock You” The Musical @ The Hulu Theater at MSG
DESCRIPTION:“We Will Rock You” The Musical will bring all of the biggest hits of Queen to life in an exciting presentation that will have you singing note after note. \n \nLike this:Like Loading...
URL:https://www.piercingken.com/event/we-will-rock-you-the-musical-the-hulu-theater-at-msg-3/
LOCATION:Hulu Theater at Madison Square Garden\, 4 Pennsylvania Avenue\, New York\, NY\, United States
CATEGORIES:Concert
END:VEVENT
BEGIN:VEVENT
DTSTART;TZID=America/New_York:20191116T203000
DTEND;TZID=America/New_York:20191116T203000
DTSTAMP:20260423T111409
CREATED:20191101T123022Z
LAST-MODIFIED:20191117T025510Z
UID:41764-1573936200-1573936200@www.piercingken.com
SUMMARY:“We Will Rock You” The Musical @ The Hulu Theater at MSG
DESCRIPTION:“We Will Rock You” The Musical will bring all of the biggest hits of Queen to life in an exciting presentation that will have you singing note after note. \n \nLike this:Like Loading...
URL:https://www.piercingken.com/event/we-will-rock-you-the-musical-the-hulu-theater-at-msg-4/
LOCATION:Hulu Theater at Madison Square Garden\, 4 Pennsylvania Avenue\, New York\, NY\, United States
CATEGORIES:Concert
END:VEVENT
BEGIN:VEVENT
DTSTART;TZID=America/New_York:20191117T130000
DTEND;TZID=America/New_York:20191117T160000
DTSTAMP:20260423T111409
CREATED:20191101T124025Z
LAST-MODIFIED:20191117T025712Z
UID:41765-1573995600-1574006400@www.piercingken.com
SUMMARY:“We Will Rock You” The Musical @ The Hulu Theater at MSG
DESCRIPTION:“We Will Rock You” The Musical will bring all of the biggest hits of Queen to life in an exciting presentation that will have you singing note after note. \n \nLike this:Like Loading...
URL:https://www.piercingken.com/event/we-will-rock-you-the-musical-the-hulu-theater-at-msg-5/
LOCATION:Hulu Theater at Madison Square Garden\, 4 Pennsylvania Avenue\, New York\, NY\, United States
CATEGORIES:Concert
END:VEVENT
BEGIN:VEVENT
DTSTART;TZID=America/New_York:20191117T203000
DTEND;TZID=America/New_York:20191117T203000
DTSTAMP:20260423T111409
CREATED:20191101T125028Z
LAST-MODIFIED:20191117T025803Z
UID:41766-1574022600-1574022600@www.piercingken.com
SUMMARY:“We Will Rock You” The Musical @ The Hulu Theater at MSG
DESCRIPTION:“We Will Rock You” The Musical will bring all of the biggest hits of Queen to life in an exciting presentation that will have you singing note after note. \n \nLike this:Like Loading...
URL:https://www.piercingken.com/event/we-will-rock-you-the-musical-the-hulu-theater-at-msg-6/
LOCATION:Hulu Theater at Madison Square Garden\, 4 Pennsylvania Avenue\, New York\, NY\, United States
CATEGORIES:Concert
END:VEVENT
BEGIN:VEVENT
DTSTART;TZID=America/New_York:20191220T200000
DTEND;TZID=America/New_York:20191220T200000
DTSTAMP:20260423T111409
CREATED:20190819T160051Z
LAST-MODIFIED:20190819T161444Z
UID:40955-1576872000-1576872000@www.piercingken.com
SUMMARY:Trans-Siberian Orchestra @ NYCB Live
DESCRIPTION:The Trans-Siberian Orchestra returns with an all-new “Christmas Eve & Other Stories” tour.  Don’t miss this holiday spectacle when it hits the island since there is only the evening performance. \n \nLike this:Like Loading...
URL:https://www.piercingken.com/event/trans-siberian-orchestra-nycb-live/
LOCATION:Nassau Veterans Memorial Coliseum\, 1255 Hempstead Turnpike\, Uniondale\, NY\, 11553\, United States
CATEGORIES:Concert
END:VEVENT
BEGIN:VEVENT
DTSTART;TZID=America/New_York:20191221T150000
DTEND;TZID=America/New_York:20191221T180000
DTSTAMP:20260423T111409
CREATED:20190819T160558Z
LAST-MODIFIED:20190819T161542Z
UID:40956-1576940400-1576951200@www.piercingken.com
SUMMARY:Trans-Siberian Orchestra @ Prudential Center
DESCRIPTION:The Trans-Siberian Orchestra returns with an all-new “Christmas Eve & Other Stories” tour.  Don’t miss this holiday spectacle when it hits Newark\, NJ – This is the matinee show. \n \nLike this:Like Loading...
URL:https://www.piercingken.com/event/trans-siberian-orchestra-prudential-center-3/
LOCATION:Prudential Center\, 25 Lafayette St.\, Newark\, NJ\, 07102\, United States
CATEGORIES:Concert
END:VEVENT
BEGIN:VEVENT
DTSTART;TZID=America/New_York:20191221T200000
DTEND;TZID=America/New_York:20191221T230000
DTSTAMP:20260423T111409
CREATED:20190819T161001Z
LAST-MODIFIED:20190819T161748Z
UID:40957-1576958400-1576969200@www.piercingken.com
SUMMARY:Trans-Siberian Orchestra @ Prudential Center
DESCRIPTION:The Trans-Siberian Orchestra returns with an all-new “Christmas Eve & Other Stories” tour.  Don’t miss this holiday spectacle when it hits Newark\, NJ – This is the evening show. \n \nLike this:Like Loading...
URL:https://www.piercingken.com/event/trans-siberian-orchestra-prudential-center-4/
LOCATION:Prudential Center\, 25 Lafayette St.\, Newark\, NJ\, 07102\, United States
CATEGORIES:Concert
END:VEVENT
BEGIN:VEVENT
DTSTART;TZID=America/New_York:20191226T200000
DTEND;TZID=America/New_York:20191226T200000
DTSTAMP:20260423T111409
CREATED:20191119T130038Z
LAST-MODIFIED:20191120T040715Z
UID:41781-1577390400-1577390400@www.piercingken.com
SUMMARY:The Fab Faux @ The Cutting Room
DESCRIPTION:City Winery Presents: The Fab Faux: Beatles In The Wild – Animal Songs.  Doors at 6PM. 21+; Be advised that most shows at TCR require a two drink minimum or $25 food and beverage charge on top of the ticket price. \n \nLike this:Like Loading...
URL:https://www.piercingken.com/event/the-fab-faux-the-cutting-room/
LOCATION:Cutting Room\, 44 East 32nd Street\, New York\, NY\, 10016\, United States
CATEGORIES:Concert
END:VEVENT
BEGIN:VEVENT
DTSTART;TZID=America/New_York:20191227T200000
DTEND;TZID=America/New_York:20191227T200000
DTSTAMP:20260423T111409
CREATED:20191119T133050Z
LAST-MODIFIED:20191120T040815Z
UID:41782-1577476800-1577476800@www.piercingken.com
SUMMARY:The Fab Faux @ The Cutting Room
DESCRIPTION:City Winery Presents: The Fab Faux: Beatles Opposites – Yin and Yang. Doors at 6PM. 21+; Be advised that most shows at TCR require a two drink minimum or $25 food and beverage charge on top of the ticket price. \n \nLike this:Like Loading...
URL:https://www.piercingken.com/event/the-fab-faux-the-cutting-room-2/
LOCATION:Cutting Room\, 44 East 32nd Street\, New York\, NY\, 10016\, United States
CATEGORIES:Concert
END:VEVENT
BEGIN:VEVENT
DTSTART;TZID=America/New_York:20191227T210000
DTEND;TZID=America/New_York:20191227T210000
DTSTAMP:20260423T111409
CREATED:20191201T130048Z
LAST-MODIFIED:20191227T180159Z
UID:42168-1577480400-1577480400@www.piercingken.com
SUMMARY:Disco Biscuits @ Playstation Theater
DESCRIPTION:The Trance Fusion/Electronic Jam Band known as the Disco Biscuits will perform for four nights at the Playstation Theater in Times Square.  Each performance has a later than normal start time and will be the final shows performed at this venue before its closure.  Come out and feel the music one more time if this band is your thing. \n \nLike this:Like Loading...
URL:https://www.piercingken.com/event/disco-biscuits-playstation-theater/
LOCATION:Playstation Theater\, 1515 Broadway\, New York\, NY\, 10036\, United States
CATEGORIES:Concert
END:VEVENT
BEGIN:VEVENT
DTSTART;VALUE=DATE:20191228
DTEND;VALUE=DATE:20191229
DTSTAMP:20260423T111409
CREATED:20190925T120005Z
LAST-MODIFIED:20191218T054320Z
UID:41992-1577491200-1577577599@www.piercingken.com
SUMMARY:Phish @ Madison Square Garden
DESCRIPTION:Phish returns to New York City for their annual New Year’s Run of shows.  Fans of the band will be thrilled as ever with the four night stint.  Come once\, twice or to all four.  Different sets are par for the course during their shows and surprises are generally the norm. \n \nLike this:Like Loading...
URL:https://www.piercingken.com/event/phish-madison-square-garden-5/
LOCATION:Madison Square Garden\, 4 Pennsylvania Plaza\, New York\, NY\, 10001\, United States
CATEGORIES:Concert
END:VEVENT
BEGIN:VEVENT
DTSTART;TZID=America/New_York:20191228T200000
DTEND;TZID=America/New_York:20191228T200000
DTSTAMP:20260423T111409
CREATED:20191119T140054Z
LAST-MODIFIED:20191120T041720Z
UID:41783-1577563200-1577563200@www.piercingken.com
SUMMARY:The Fab Faux @ The Cutting Room
DESCRIPTION:City Winery Presents: The Fab Faux: Beatles Hits and Rarities. Doors at 6PM. 21+; Be advised that most shows at TCR require a two drink minimum or $25 food and beverage charge on top of the ticket price. \n \nLike this:Like Loading...
URL:https://www.piercingken.com/event/the-fab-faux-the-cutting-room-3/
LOCATION:Cutting Room\, 44 East 32nd Street\, New York\, NY\, 10016\, United States
CATEGORIES:Concert
END:VEVENT
BEGIN:VEVENT
DTSTART;TZID=America/New_York:20191228T230000
DTEND;TZID=America/New_York:20191228T230000
DTSTAMP:20260423T111409
CREATED:20191201T131551Z
LAST-MODIFIED:20191227T180437Z
UID:42169-1577574000-1577574000@www.piercingken.com
SUMMARY:Disco Biscuits @ Playstation Theater
DESCRIPTION:The Trance Fusion/Electronic Jam Band known as the Disco Biscuits will perform for four nights at the Playstation Theater in Times Square.  Each performance has a later than normal start time and will be the final shows performed at this venue before its closure.  Come out and feel the music one more time if this band is your thing. \n \nLike this:Like Loading...
URL:https://www.piercingken.com/event/disco-biscuits-playstation-theater-2/
LOCATION:Playstation Theater\, 1515 Broadway\, New York\, NY\, 10036\, United States
CATEGORIES:Concert
END:VEVENT
BEGIN:VEVENT
DTSTART;VALUE=DATE:20191229
DTEND;VALUE=DATE:20191230
DTSTAMP:20260423T111409
CREATED:20190925T123021Z
LAST-MODIFIED:20191218T054429Z
UID:41993-1577577600-1577663999@www.piercingken.com
SUMMARY:Phish @ Madison Square Garden
DESCRIPTION:Phish returns to New York City for their annual New Year’s Run of shows.  Fans of the band will be thrilled as ever with the four night stint.  Come once\, twice or to all four.  Different sets are par for the course during their shows and surprises are generally the norm. \n \nLike this:Like Loading...
URL:https://www.piercingken.com/event/phish-madison-square-garden-6/
LOCATION:Madison Square Garden\, 4 Pennsylvania Plaza\, New York\, NY\, 10001\, United States
CATEGORIES:Concert
END:VEVENT
BEGIN:VEVENT
DTSTART;TZID=America/New_York:20191229T200000
DTEND;TZID=America/New_York:20191229T200000
DTSTAMP:20260423T111409
CREATED:20191119T143058Z
LAST-MODIFIED:20191120T041854Z
UID:41784-1577649600-1577649600@www.piercingken.com
SUMMARY:The Fab Faux @ The Cutting Room
DESCRIPTION:City Winery Presents: The Fab Faux: Revolver Favorites Plus More.  Doors at 6PM. 21+; Be advised that most shows at TCR require a two drink minimum or $25 food and beverage charge on top of the ticket price. \n \nLike this:Like Loading...
URL:https://www.piercingken.com/event/the-fab-faux-the-cutting-room-4/
LOCATION:Cutting Room\, 44 East 32nd Street\, New York\, NY\, 10016\, United States
CATEGORIES:Concert
END:VEVENT
BEGIN:VEVENT
DTSTART;VALUE=DATE:20191230
DTEND;VALUE=DATE:20191231
DTSTAMP:20260423T111409
CREATED:20190925T130023Z
LAST-MODIFIED:20191218T054425Z
UID:41994-1577664000-1577750399@www.piercingken.com
SUMMARY:Phish @ Madison Square Garden
DESCRIPTION:Phish returns to New York City for their annual New Year’s Run of shows.  Fans of the band will be thrilled as ever with the four night stint.  Come once\, twice or to all four.  Different sets are par for the course during their shows and surprises are generally the norm. \n \nLike this:Like Loading...
URL:https://www.piercingken.com/event/phish-madison-square-garden-7/
LOCATION:Madison Square Garden\, 4 Pennsylvania Plaza\, New York\, NY\, 10001\, United States
CATEGORIES:Concert
END:VEVENT
BEGIN:VEVENT
DTSTART;TZID=America/New_York:20191230T230000
DTEND;TZID=America/New_York:20191230T230000
DTSTAMP:20260423T111409
CREATED:20191201T133006Z
LAST-MODIFIED:20191227T180858Z
UID:42170-1577746800-1577746800@www.piercingken.com
SUMMARY:Disco Biscuits @ Playstation Theater
DESCRIPTION:The Trance Fusion/Electronic Jam Band known as the Disco Biscuits will perform for four nights at the Playstation Theater in Times Square.  Each performance has a later than normal start time and will be the final shows performed at this venue before its closure.  Come out and feel the music one more time if this band is your thing. \n \nLike this:Like Loading...
URL:https://www.piercingken.com/event/disco-biscuits-playstation-theater-3/
LOCATION:Playstation Theater\, 1515 Broadway\, New York\, NY\, 10036\, United States
CATEGORIES:Concert
END:VEVENT
BEGIN:VEVENT
DTSTART;VALUE=DATE:20191231
DTEND;VALUE=DATE:20200101
DTSTAMP:20260423T111409
CREATED:20190925T133026Z
LAST-MODIFIED:20191218T054421Z
UID:41995-1577750400-1577836799@www.piercingken.com
SUMMARY:Phish @ Madison Square Garden
DESCRIPTION:Phish returns to New York City for their annual New Year’s Run of shows.  Fans of the band will be thrilled as ever with the four night stint.  Come once\, twice or to all four.  Different sets are par for the course during their shows and surprises are generally the norm. \n \nLike this:Like Loading...
URL:https://www.piercingken.com/event/phish-madison-square-garden-8/
LOCATION:Madison Square Garden\, 4 Pennsylvania Plaza\, New York\, NY\, 10001\, United States
CATEGORIES:Concert
END:VEVENT
BEGIN:VEVENT
DTSTART;TZID=America/New_York:20191231T220000
DTEND;TZID=America/New_York:20191231T220000
DTSTAMP:20260423T111409
CREATED:20191201T134559Z
LAST-MODIFIED:20191227T172618Z
UID:42171-1577829600-1577829600@www.piercingken.com
SUMMARY:Disco Biscuits @ Playstation Theater
DESCRIPTION:The Trance Fusion/Electronic Jam Band known as the Disco Biscuits will perform for four nights at the Playstation Theater in Times Square.  Each performance has a later than normal start time and will be the final shows performed at this venue before its closure.  Come out and feel the music one more time if this band is your thing. \n \nLike this:Like Loading...
URL:https://www.piercingken.com/event/disco-biscuits-playstation-theater-4/
LOCATION:Playstation Theater\, 1515 Broadway\, New York\, NY\, 10036\, United States
CATEGORIES:Concert
END:VEVENT
BEGIN:VEVENT
DTSTART;TZID=America/New_York:20200228T190000
DTEND;TZID=America/New_York:20200228T190000
DTSTAMP:20260423T111409
CREATED:20191120T140057Z
LAST-MODIFIED:20191130T015716Z
UID:41869-1582916400-1582916400@www.piercingken.com
SUMMARY:Hall & Oates @ Madison Square Garden
DESCRIPTION:Hall & Oates return to MSG and bring along both Squeeze and KT Tunstall.  This is going to be a night loaded with hits so don’t miss out. \n \nLike this:Like Loading...
URL:https://www.piercingken.com/event/hall-oates-madison-square-garden/
LOCATION:Madison Square Garden\, 4 Pennsylvania Plaza\, New York\, NY\, 10001\, United States
CATEGORIES:Concert
END:VEVENT
BEGIN:VEVENT
DTSTART;TZID=America/New_York:20200310T193000
DTEND;TZID=America/New_York:20200310T193000
DTSTAMP:20260423T111409
CREATED:20200209T130012Z
LAST-MODIFIED:20200210T002646Z
UID:42711-1583868600-1583868600@www.piercingken.com
SUMMARY:Riverdance 25th @ Radio City Music Hall
DESCRIPTION:“Riverdance” celebrates its 25th Anniversary with a special residency of show at the famed Radio City Music Hall.   \n \nLike this:Like Loading...
URL:https://www.piercingken.com/event/riverdance-25th-radio-city-music-hall/
LOCATION:Radio City Music Hall\, 1260 Ave of the Americas\, New York\, NY\, 11020\, United States
CATEGORIES:Concert
END:VEVENT
BEGIN:VEVENT
DTSTART;TZID=America/New_York:20200311T193000
DTEND;TZID=America/New_York:20200311T193000
DTSTAMP:20260423T111409
CREATED:20200209T131535Z
LAST-MODIFIED:20200210T002623Z
UID:42712-1583955000-1583955000@www.piercingken.com
SUMMARY:Riverdance 25th @ Radio City Music Hall
DESCRIPTION:“Riverdance” celebrates its 25th Anniversary with a special residency of show at the famed Radio City Music Hall.   \n \nLike this:Like Loading...
URL:https://www.piercingken.com/event/riverdance-25th-radio-city-music-hall-2/
LOCATION:Radio City Music Hall\, 1260 Ave of the Americas\, New York\, NY\, 11020\, United States
CATEGORIES:Concert
END:VEVENT
BEGIN:VEVENT
DTSTART;TZID=America/New_York:20200312T193000
DTEND;TZID=America/New_York:20200312T193000
DTSTAMP:20260423T111409
CREATED:20200209T133018Z
LAST-MODIFIED:20200313T025825Z
UID:42713-1584041400-1584041400@www.piercingken.com
SUMMARY:POSTPONED: Riverdance 25th @ Radio City Music Hall
DESCRIPTION:The “Riverdance” performances have been postponed due to the Coronavirus pandemic and the state ban on large event gatherings.  No rescheduled dates are available at the time of this update but keep an eye on this calendar for any new listings.   \n“Riverdance” celebrates its 25th Anniversary with a special residency of show at the famed Radio City Music Hall.   \n \nLike this:Like Loading...
URL:https://www.piercingken.com/event/postponed-riverdance-25th-radio-city-music-hall/
LOCATION:Radio City Music Hall\, 1260 Ave of the Americas\, New York\, NY\, 11020\, United States
CATEGORIES:Concert
END:VEVENT
BEGIN:VEVENT
DTSTART;TZID=America/New_York:20200313T140000
DTEND;TZID=America/New_York:20200313T170000
DTSTAMP:20260423T111409
CREATED:20200209T134502Z
LAST-MODIFIED:20200313T025839Z
UID:42714-1584108000-1584118800@www.piercingken.com
SUMMARY:POSTPONED: Riverdance 25th @ Radio City Music Hall
DESCRIPTION:The “Riverdance” performances have been postponed due to the Coronavirus pandemic and the state ban on large event gatherings.  No rescheduled dates are available at the time of this update but keep an eye on this calendar for any new listings.   \n“Riverdance” celebrates its 25th Anniversary with a special residency of show at the famed Radio City Music Hall.  \n \nLike this:Like Loading...
URL:https://www.piercingken.com/event/postponed-riverdance-25th-radio-city-music-hall-2/
LOCATION:Radio City Music Hall\, 1260 Ave of the Americas\, New York\, NY\, 11020\, United States
CATEGORIES:Concert
END:VEVENT
BEGIN:VEVENT
DTSTART;TZID=America/New_York:20200313T200000
DTEND;TZID=America/New_York:20200313T200000
DTSTAMP:20260423T111409
CREATED:20200209T140057Z
LAST-MODIFIED:20200313T025908Z
UID:42715-1584129600-1584129600@www.piercingken.com
SUMMARY:POSTPONED: Riverdance 25th @ Radio City Music Hall
DESCRIPTION:The “Riverdance” performances have been postponed due to the Coronavirus pandemic and the state ban on large event gatherings.  No rescheduled dates are available at the time of this update but keep an eye on this calendar for any new listings.   \n“Riverdance” celebrates its 25th Anniversary with a special residency of show at the famed Radio City Music Hall.  \n \nLike this:Like Loading...
URL:https://www.piercingken.com/event/postponed-riverdance-25th-radio-city-music-hall-3/
LOCATION:Radio City Music Hall\, 1260 Ave of the Americas\, New York\, NY\, 11020\, United States
CATEGORIES:Concert
END:VEVENT
END:VCALENDAR