BEGIN:VCALENDAR
VERSION:2.0
PRODID:-//The Chronicles Of PiercingKen - ECPv6.15.20//NONSGML v1.0//EN
CALSCALE:GREGORIAN
METHOD:PUBLISH
X-ORIGINAL-URL:https://www.piercingken.com
X-WR-CALDESC:Events for The Chronicles Of PiercingKen
REFRESH-INTERVAL;VALUE=DURATION:PT1H
X-Robots-Tag:noindex
X-PUBLISHED-TTL:PT1H
BEGIN:VTIMEZONE
TZID:America/New_York
BEGIN:DAYLIGHT
TZOFFSETFROM:-0500
TZOFFSETTO:-0400
TZNAME:EDT
DTSTART:20180311T070000
END:DAYLIGHT
BEGIN:STANDARD
TZOFFSETFROM:-0400
TZOFFSETTO:-0500
TZNAME:EST
DTSTART:20181104T060000
END:STANDARD
BEGIN:DAYLIGHT
TZOFFSETFROM:-0500
TZOFFSETTO:-0400
TZNAME:EDT
DTSTART:20190310T070000
END:DAYLIGHT
BEGIN:STANDARD
TZOFFSETFROM:-0400
TZOFFSETTO:-0500
TZNAME:EST
DTSTART:20191103T060000
END:STANDARD
BEGIN:DAYLIGHT
TZOFFSETFROM:-0500
TZOFFSETTO:-0400
TZNAME:EDT
DTSTART:20200308T070000
END:DAYLIGHT
BEGIN:STANDARD
TZOFFSETFROM:-0400
TZOFFSETTO:-0500
TZNAME:EST
DTSTART:20201101T060000
END:STANDARD
END:VTIMEZONE
BEGIN:VEVENT
DTSTART;TZID=America/New_York:20190607T070000
DTEND;TZID=America/New_York:20190607T090000
DTSTAMP:20260423T181446
CREATED:20190504T165026Z
LAST-MODIFIED:20190513T152742Z
UID:39562-1559890800-1559898000@www.piercingken.com
SUMMARY:Alessia Cara @ Rumsey Playfield
DESCRIPTION:Alessia Cara performs as a part of the Good Morning America “Summer Concert Series” for 2019.  Be sure to hit their Official Website\, Facebook or Twitter to learn how you can attend the show.  Please note that these events are early in the AM so you should plan accordingly.   \n \nLike this:Like Loading...
URL:https://www.piercingken.com/event/alessia-cara-rumsey-playfield/
LOCATION:Central Park Rumsey Playfield\, East 71st Street\, New York\, NY\, 10021\, United States
CATEGORIES:Concert
END:VEVENT
BEGIN:VEVENT
DTSTART;TZID=America/New_York:20190614T070000
DTEND;TZID=America/New_York:20190614T090000
DTSTAMP:20260423T181446
CREATED:20190504T165522Z
LAST-MODIFIED:20190513T153041Z
UID:39563-1560495600-1560502800@www.piercingken.com
SUMMARY:Ellie Goulding @ Rumsey Playfield
DESCRIPTION:Ellie Goulding performs as a part of the Good Morning America “Summer Concert Series” for 2019.  Be sure to hit their Official Website\, Facebook or Twitter to learn how you can attend the show.  Please note that these events are early in the AM so you should plan accordingly.   \n \nLike this:Like Loading...
URL:https://www.piercingken.com/event/ellie-goulding-rumsey-playfield/
LOCATION:Central Park Rumsey Playfield\, East 71st Street\, New York\, NY\, 10021\, United States
CATEGORIES:Concert
END:VEVENT
BEGIN:VEVENT
DTSTART;TZID=America/New_York:20190621T070000
DTEND;TZID=America/New_York:20190621T090000
DTSTAMP:20260423T181446
CREATED:20190504T170018Z
LAST-MODIFIED:20190513T164636Z
UID:39564-1561100400-1561107600@www.piercingken.com
SUMMARY:Bastille @ Rumsey Playfield
DESCRIPTION:Bastille performs as a part of the Good Morning America “Summer Concert Series” for 2019.  Be sure to hit their Official Website\, Facebook or Twitter to learn how you can attend the show.  Please note that these events are early in the AM so you should plan accordingly.   \n \nLike this:Like Loading...
URL:https://www.piercingken.com/event/bastille-rumsey-playfield/
LOCATION:Central Park Rumsey Playfield\, East 71st Street\, New York\, NY\, 10021\, United States
CATEGORIES:Concert
END:VEVENT
BEGIN:VEVENT
DTSTART;VALUE=DATE:20190628
DTEND;VALUE=DATE:20190629
DTSTAMP:20260423T181446
CREATED:20190429T120048Z
LAST-MODIFIED:20201121T140432Z
UID:47065-1561680000-1561766399@www.piercingken.com
SUMMARY:Hugh Jackman @ Madison Square Garden
DESCRIPTION:Hugh Jackman brings his “The Man. The Music. The Show.” World Tour to New York City.  Don’t miss this exciting performer. \n \nLike this:Like Loading...
URL:https://www.piercingken.com/event/hugh-jackman-madison-square-garden/
LOCATION:Madison Square Garden\, 4 Pennsylvania Plaza\, New York\, NY\, 10001\, United States
CATEGORIES:Concert
END:VEVENT
BEGIN:VEVENT
DTSTART;TZID=America/New_York:20190628T070000
DTEND;TZID=America/New_York:20190628T090000
DTSTAMP:20260423T181446
CREATED:20190504T170526Z
LAST-MODIFIED:20190513T165642Z
UID:39565-1561705200-1561712400@www.piercingken.com
SUMMARY:Adam Lambert @ Rumsey Playfield
DESCRIPTION:Adam Lambert performs as a part of the Good Morning America “Summer Concert Series” for 2019.  Be sure to hit their Official Website\, Facebook or Twitter to learn how you can attend the show.  Please note that these events are early in the AM so you should plan accordingly.   \n \nLike this:Like Loading...
URL:https://www.piercingken.com/event/adam-lambert-rumsey-playfield/
LOCATION:Central Park Rumsey Playfield\, East 71st Street\, New York\, NY\, 10021\, United States
CATEGORIES:Concert
END:VEVENT
BEGIN:VEVENT
DTSTART;TZID=America/New_York:20190629T130000
DTEND;TZID=America/New_York:20190629T130000
DTSTAMP:20260423T181446
CREATED:20190429T121548Z
LAST-MODIFIED:20201121T140903Z
UID:47064-1561813200-1561813200@www.piercingken.com
SUMMARY:Hugh Jackman @ Madison Square Garden
DESCRIPTION:Hugh Jackman brings his “The Man. The Music. The Show.” World Tour to New York City.  Don’t miss this exciting performer. \n \nLike this:Like Loading...
URL:https://www.piercingken.com/event/hugh-jackman-madison-square-garden-2/
LOCATION:Madison Square Garden\, 4 Pennsylvania Plaza\, New York\, NY\, 10001\, United States
CATEGORIES:Concert
END:VEVENT
BEGIN:VEVENT
DTSTART;TZID=America/New_York:20190629T190000
DTEND;TZID=America/New_York:20190629T190000
DTSTAMP:20260423T181446
CREATED:20190429T123058Z
LAST-MODIFIED:20201121T141219Z
UID:47066-1561834800-1561834800@www.piercingken.com
SUMMARY:Hugh Jackman @ Madison Square Garden
DESCRIPTION:Hugh Jackman brings his “The Man. The Music. The Show.” World Tour to New York City.  Don’t miss this exciting performer. \n \nLike this:Like Loading...
URL:https://www.piercingken.com/event/hugh-jackman-madison-square-garden-3/
LOCATION:Madison Square Garden\, 4 Pennsylvania Plaza\, New York\, NY\, 10001\, United States
CATEGORIES:Concert
END:VEVENT
BEGIN:VEVENT
DTSTART;TZID=America/New_York:20190705T070000
DTEND;TZID=America/New_York:20190705T090000
DTSTAMP:20260423T181446
CREATED:20190504T171012Z
LAST-MODIFIED:20190513T182751Z
UID:34600-1562310000-1562317200@www.piercingken.com
SUMMARY:Sabrina Carpenter @ Rumsey Playfield
DESCRIPTION:Sabrina Carpenter performs as a part of the Good Morning America “Summer Concert Series” for 2019.  Be sure to hit their Official Website\, Facebook or Twitter to learn how you can attend the show.  Please note that these events are early in the AM so you should plan accordingly.   \n \nLike this:Like Loading...
URL:https://www.piercingken.com/event/sabrina-carpenter-rumsey-playfield/
LOCATION:Central Park Rumsey Playfield\, East 71st Street\, New York\, NY\, 10021\, United States
CATEGORIES:Concert
END:VEVENT
BEGIN:VEVENT
DTSTART;TZID=America/New_York:20190712T070000
DTEND;TZID=America/New_York:20190712T090000
DTSTAMP:20260423T181446
CREATED:20190504T171512Z
LAST-MODIFIED:20190513T183902Z
UID:34601-1562914800-1562922000@www.piercingken.com
SUMMARY:The Struts @ Rumsey Playfield
DESCRIPTION:The Struts performs as a part of the Good Morning America “Summer Concert Series” for 2019.  Be sure to hit their Official Website\, Facebook or Twitter to learn how you can attend the show.  Please note that these events are early in the AM so you should plan accordingly.   \n \nLike this:Like Loading...
URL:https://www.piercingken.com/event/the-struts-rumsey-playfield/
LOCATION:Central Park Rumsey Playfield\, East 71st Street\, New York\, NY\, 10021\, United States
CATEGORIES:Concert
END:VEVENT
BEGIN:VEVENT
DTSTART;TZID=America/New_York:20190713T200000
DTEND;TZID=America/New_York:20190713T200000
DTSTAMP:20260423T181446
CREATED:20190701T120055Z
LAST-MODIFIED:20230207T015824Z
UID:40530-1563048000-1563048000@www.piercingken.com
SUMMARY:POSTPONED: Jennifer Lopez @ Madison Square Garden
DESCRIPTION:While the concert began without a hitch\, it was postponed four songs in due to a city wide blackout.  It has been rescheduled for 7/15/2019 and all ticket holders will have their existing ticket honored to enter. \nLike this:Like Loading...
URL:https://www.piercingken.com/event/postponed-jennifer-lopez-madison-square-garden/
LOCATION:Madison Square Garden\, 4 Pennsylvania Plaza\, New York\, NY\, 10001\, United States
CATEGORIES:Concert
END:VEVENT
BEGIN:VEVENT
DTSTART;TZID=America/New_York:20190715T200000
DTEND;TZID=America/New_York:20190715T200000
DTSTAMP:20260423T181446
CREATED:20190714T140032Z
LAST-MODIFIED:20190714T145041Z
UID:40532-1563220800-1563220800@www.piercingken.com
SUMMARY:Jennifer Lopez @ Madison Square Garden
DESCRIPTION:Saturday’s J-Lo concert was postponed because of the citywide blackout but its been rescheduled for tonight.  All existing ticket holders will be permitted entry for this show.  Perhaps some other tickets opened up for those who also want to go. \nLike this:Like Loading...
URL:https://www.piercingken.com/event/jennifer-lopez-madison-square-garden/
LOCATION:Madison Square Garden\, 4 Pennsylvania Plaza\, New York\, NY\, 10001\, United States
CATEGORIES:Concert
END:VEVENT
BEGIN:VEVENT
DTSTART;TZID=America/New_York:20190719T070000
DTEND;TZID=America/New_York:20190719T090000
DTSTAMP:20260423T181446
CREATED:20190504T172014Z
LAST-MODIFIED:20190513T192337Z
UID:34599-1563519600-1563526800@www.piercingken.com
SUMMARY:Blink 182 @ Rumsey Playfield
DESCRIPTION:Blink 182 performs as a part of the Good Morning America “Summer Concert Series” for 2019.  Be sure to hit their Official Website\, Facebook or Twitter to learn how you can attend the show.  Please note that these events are early in the AM so you should plan accordingly.   \n \nLike this:Like Loading...
URL:https://www.piercingken.com/event/blink-182-rumsey-playfield/
LOCATION:Central Park Rumsey Playfield\, East 71st Street\, New York\, NY\, 10021\, United States
CATEGORIES:Concert
END:VEVENT
BEGIN:VEVENT
DTSTART;TZID=America/New_York:20190719T200000
DTEND;TZID=America/New_York:20190719T200000
DTSTAMP:20260423T181446
CREATED:20190701T123038Z
LAST-MODIFIED:20190707T142722Z
UID:40417-1563566400-1563566400@www.piercingken.com
SUMMARY:Jennifer Lopez @ Prudential Center
DESCRIPTION:Jennifer Lopez brings her “It’s My Party” tour to Newark\, NJ.  You don’t want to miss this exciting performance if you can help it. \n \nLike this:Like Loading...
URL:https://www.piercingken.com/event/jennifer-lopez-prudential-center/
LOCATION:Prudential Center\, 25 Lafayette St.\, Newark\, NJ\, 07102\, United States
CATEGORIES:Concert
END:VEVENT
BEGIN:VEVENT
DTSTART;TZID=America/New_York:20190724T190000
DTEND;TZID=America/New_York:20190724T190000
DTSTAMP:20260423T181446
CREATED:20190701T130058Z
LAST-MODIFIED:20190707T143016Z
UID:40419-1563994800-1563994800@www.piercingken.com
SUMMARY:JoJo Siwa @ Prudential Center
DESCRIPTION:JoJo Siwa brings her “D.R.E.A.M. The Tour” event to Newark\, NJ.  Your younger siblings and kids are not going to want to miss their idol so parents best get on point. \n \nLike this:Like Loading...
URL:https://www.piercingken.com/event/jojo-siwa-prudential-center/
LOCATION:Prudential Center\, 25 Lafayette St.\, Newark\, NJ\, 07102\, United States
CATEGORIES:Concert
END:VEVENT
BEGIN:VEVENT
DTSTART;TZID=America/New_York:20190724T193000
DTEND;TZID=America/New_York:20190724T193000
DTSTAMP:20260423T181446
CREATED:20190701T130058Z
LAST-MODIFIED:20190728T190822Z
UID:40760-1563996600-1563996600@www.piercingken.com
SUMMARY:Michael Buble @ Madison Square Garden
DESCRIPTION:Michael Buble will bring his songs to life in the famous NYC Arena. \nLike this:Like Loading...
URL:https://www.piercingken.com/event/michael-buble-madison-square-garden/
LOCATION:Madison Square Garden\, 4 Pennsylvania Plaza\, New York\, NY\, 10001\, United States
CATEGORIES:Concert
END:VEVENT
BEGIN:VEVENT
DTSTART;TZID=America/New_York:20190726T070000
DTEND;TZID=America/New_York:20190726T090000
DTSTAMP:20260423T181446
CREATED:20190504T172517Z
LAST-MODIFIED:20190513T222746Z
UID:34598-1564124400-1564131600@www.piercingken.com
SUMMARY:Lady Antebellum @ Rumsey Playfield
DESCRIPTION:Lady Antebellum performs as a part of the Good Morning America “Summer Concert Series” for 2019.  Be sure to hit their Official Website\, Facebook or Twitter to learn how you can attend the show.  Please note that these events are early in the AM so you should plan accordingly.   \n \nLike this:Like Loading...
URL:https://www.piercingken.com/event/lady-antebellum-rumsey-playfield/
LOCATION:Central Park Rumsey Playfield\, East 71st Street\, New York\, NY\, 10021\, United States
CATEGORIES:Concert
END:VEVENT
BEGIN:VEVENT
DTSTART;TZID=America/New_York:20190726T200000
DTEND;TZID=America/New_York:20190726T200000
DTSTAMP:20260423T181446
CREATED:20190601T124558Z
LAST-MODIFIED:20190726T130050Z
UID:40717-1564171200-1564171200@www.piercingken.com
SUMMARY:Barry Manilow @ Lunt-Fontanne Theatre
DESCRIPTION:The legendary Barry Manilow returns to Broadway for a limited engagement at the Lunt-Fontanne Theatre.  He’s planning on doing ALL of the hits that made him famous over the years so don’t miss your chance to enjoy his music in such intimate surroundings.   \n \nLike this:Like Loading...
URL:https://www.piercingken.com/event/barry-manilow-lunt-fontanne-theatre/
LOCATION:Lunt-Fontanne Theatre\, 205 West 46th Street\, New York\, NY\, 10036\, United States
CATEGORIES:Concert
END:VEVENT
BEGIN:VEVENT
DTSTART;TZID=America/New_York:20190727T200000
DTEND;TZID=America/New_York:20190727T200000
DTSTAMP:20260423T181446
CREATED:20190601T130016Z
LAST-MODIFIED:20190726T130456Z
UID:40725-1564257600-1564257600@www.piercingken.com
SUMMARY:Barry Manilow @ Lunt-Fontanne Theatre
DESCRIPTION:The legendary Barry Manilow returns to Broadway for a limited engagement at the Lunt-Fontanne Theatre.  He’s planning on doing ALL of the hits that made him famous over the years so don’t miss your chance to enjoy his music in such intimate surroundings.   \n \nLike this:Like Loading...
URL:https://www.piercingken.com/event/barry-manilow-lunt-fontanne-theatre-2/
LOCATION:Lunt-Fontanne Theatre\, 205 West 46th Street\, New York\, NY\, 10036\, United States
CATEGORIES:Concert
END:VEVENT
BEGIN:VEVENT
DTSTART;TZID=America/New_York:20190728T190000
DTEND;TZID=America/New_York:20190728T190000
DTSTAMP:20260423T181446
CREATED:20190601T131558Z
LAST-MODIFIED:20190726T134451Z
UID:40720-1564340400-1564340400@www.piercingken.com
SUMMARY:Barry Manilow @ Lunt-Fontanne Theatre
DESCRIPTION:The legendary Barry Manilow returns to Broadway for a limited engagement at the Lunt-Fontanne Theatre.  He’s planning on doing ALL of the hits that made him famous over the years so don’t miss your chance to enjoy his music in such intimate surroundings.   \n \nLike this:Like Loading...
URL:https://www.piercingken.com/event/barry-manilow-lunt-fontanne-theatre-3/
LOCATION:Lunt-Fontanne Theatre\, 205 West 46th Street\, New York\, NY\, 10036\, United States
CATEGORIES:Concert
END:VEVENT
BEGIN:VEVENT
DTSTART;TZID=America/New_York:20190730T190000
DTEND;TZID=America/New_York:20190730T190000
DTSTAMP:20260423T181446
CREATED:20190601T133057Z
LAST-MODIFIED:20190726T134742Z
UID:40721-1564513200-1564513200@www.piercingken.com
SUMMARY:Barry Manilow @ Lunt-Fontanne Theatre
DESCRIPTION:The legendary Barry Manilow returns to Broadway for a limited engagement at the Lunt-Fontanne Theatre.  He’s planning on doing ALL of the hits that made him famous over the years so don’t miss your chance to enjoy his music in such intimate surroundings.   \n \nLike this:Like Loading...
URL:https://www.piercingken.com/event/barry-manilow-lunt-fontanne-theatre-4/
LOCATION:Lunt-Fontanne Theatre\, 205 West 46th Street\, New York\, NY\, 10036\, United States
CATEGORIES:Concert
END:VEVENT
BEGIN:VEVENT
DTSTART;TZID=America/New_York:20190731T190000
DTEND;TZID=America/New_York:20190731T190000
DTSTAMP:20260423T181446
CREATED:20190601T134508Z
LAST-MODIFIED:20190726T134834Z
UID:40722-1564599600-1564599600@www.piercingken.com
SUMMARY:Barry Manilow @ Lunt-Fontanne Theatre
DESCRIPTION:The legendary Barry Manilow returns to Broadway for a limited engagement at the Lunt-Fontanne Theatre.  He’s planning on doing ALL of the hits that made him famous over the years so don’t miss your chance to enjoy his music in such intimate surroundings.   \n \nLike this:Like Loading...
URL:https://www.piercingken.com/event/barry-manilow-lunt-fontanne-theatre-5/
LOCATION:Lunt-Fontanne Theatre\, 205 West 46th Street\, New York\, NY\, 10036\, United States
CATEGORIES:Concert
END:VEVENT
BEGIN:VEVENT
DTSTART;TZID=America/New_York:20190802T070000
DTEND;TZID=America/New_York:20190802T090000
DTSTAMP:20260423T181446
CREATED:20190504T173055Z
LAST-MODIFIED:20190513T225610Z
UID:39608-1564729200-1564736400@www.piercingken.com
SUMMARY:Pitbull @ Rumsey Playfield
DESCRIPTION:Pitbull performs as a part of the Good Morning America “Summer Concert Series” for 2019.  Be sure to hit their Official Website\, Facebook or Twitter to learn how you can attend the show.  Please note that these events are early in the AM so you should plan accordingly.   \n \nLike this:Like Loading...
URL:https://www.piercingken.com/event/pitbull-rumsey-playfield-2/
LOCATION:Central Park Rumsey Playfield\, East 71st Street\, New York\, NY\, 10021\, United States
CATEGORIES:Concert
END:VEVENT
BEGIN:VEVENT
DTSTART;TZID=America/New_York:20190802T200000
DTEND;TZID=America/New_York:20190802T200000
DTSTAMP:20260423T181446
CREATED:20190601T140011Z
LAST-MODIFIED:20190726T140254Z
UID:40723-1564776000-1564776000@www.piercingken.com
SUMMARY:Barry Manilow @ Lunt-Fontanne Theatre
DESCRIPTION:The legendary Barry Manilow returns to Broadway for a limited engagement at the Lunt-Fontanne Theatre.  He’s planning on doing ALL of the hits that made him famous over the years so don’t miss your chance to enjoy his music in such intimate surroundings.   \n \nLike this:Like Loading...
URL:https://www.piercingken.com/event/barry-manilow-lunt-fontanne-theatre-6/
LOCATION:Lunt-Fontanne Theatre\, 205 West 46th Street\, New York\, NY\, 10036\, United States
CATEGORIES:Concert
END:VEVENT
BEGIN:VEVENT
DTSTART;TZID=America/New_York:20190803T200000
DTEND;TZID=America/New_York:20190803T200000
DTSTAMP:20260423T181446
CREATED:20190601T141518Z
LAST-MODIFIED:20190726T140319Z
UID:40724-1564862400-1564862400@www.piercingken.com
SUMMARY:Barry Manilow @ Lunt-Fontanne Theatre
DESCRIPTION:The legendary Barry Manilow returns to Broadway for a limited engagement at the Lunt-Fontanne Theatre.  He’s planning on doing ALL of the hits that made him famous over the years so don’t miss your chance to enjoy his music in such intimate surroundings.   \n \nLike this:Like Loading...
URL:https://www.piercingken.com/event/barry-manilow-lunt-fontanne-theatre-7/
LOCATION:Lunt-Fontanne Theatre\, 205 West 46th Street\, New York\, NY\, 10036\, United States
CATEGORIES:Concert
END:VEVENT
BEGIN:VEVENT
DTSTART;TZID=America/New_York:20190803T200000
DTEND;TZID=America/New_York:20190803T200000
DTSTAMP:20260423T181446
CREATED:20190728T130055Z
LAST-MODIFIED:20190728T191231Z
UID:40762-1564862400-1564862400@www.piercingken.com
SUMMARY:Barbra Streisand @ Madison Square Garden
DESCRIPTION:Barbra Streisand returns to MSG for the first time in many years.  Don’t miss out on the legendary voice if you are a fan. \nLike this:Like Loading...
URL:https://www.piercingken.com/event/barbra-streisand-madison-square-garden/
LOCATION:Madison Square Garden\, 4 Pennsylvania Plaza\, New York\, NY\, 10001\, United States
CATEGORIES:Concert
END:VEVENT
BEGIN:VEVENT
DTSTART;TZID=America/New_York:20190804T190000
DTEND;TZID=America/New_York:20190804T190000
DTSTAMP:20260423T181446
CREATED:20190601T143023Z
LAST-MODIFIED:20190726T140347Z
UID:40726-1564945200-1564945200@www.piercingken.com
SUMMARY:Barry Manilow @ Lunt-Fontanne Theatre
DESCRIPTION:The legendary Barry Manilow returns to Broadway for a limited engagement at the Lunt-Fontanne Theatre.  He’s planning on doing ALL of the hits that made him famous over the years so don’t miss your chance to enjoy his music in such intimate surroundings.   \n \nLike this:Like Loading...
URL:https://www.piercingken.com/event/barry-manilow-lunt-fontanne-theatre-8/
LOCATION:Lunt-Fontanne Theatre\, 205 West 46th Street\, New York\, NY\, 10036\, United States
CATEGORIES:Concert
END:VEVENT
BEGIN:VEVENT
DTSTART;TZID=America/New_York:20190806T190000
DTEND;TZID=America/New_York:20190806T190000
DTSTAMP:20260423T181446
CREATED:20190601T144531Z
LAST-MODIFIED:20190726T140705Z
UID:40727-1565118000-1565118000@www.piercingken.com
SUMMARY:Barry Manilow @ Lunt-Fontanne Theatre
DESCRIPTION:The legendary Barry Manilow returns to Broadway for a limited engagement at the Lunt-Fontanne Theatre.  He’s planning on doing ALL of the hits that made him famous over the years so don’t miss your chance to enjoy his music in such intimate surroundings.   \n \nLike this:Like Loading...
URL:https://www.piercingken.com/event/barry-manilow-lunt-fontanne-theatre-9/
LOCATION:Lunt-Fontanne Theatre\, 205 West 46th Street\, New York\, NY\, 10036\, United States
CATEGORIES:Concert
END:VEVENT
BEGIN:VEVENT
DTSTART;TZID=America/New_York:20190807T190000
DTEND;TZID=America/New_York:20190807T190000
DTSTAMP:20260423T181446
CREATED:20190601T150034Z
LAST-MODIFIED:20190726T140729Z
UID:40736-1565204400-1565204400@www.piercingken.com
SUMMARY:Barry Manilow @ Lunt-Fontanne Theatre
DESCRIPTION:The legendary Barry Manilow returns to Broadway for a limited engagement at the Lunt-Fontanne Theatre.  He’s planning on doing ALL of the hits that made him famous over the years so don’t miss your chance to enjoy his music in such intimate surroundings.   \n \nLike this:Like Loading...
URL:https://www.piercingken.com/event/barry-manilow-lunt-fontanne-theatre-10/
LOCATION:Lunt-Fontanne Theatre\, 205 West 46th Street\, New York\, NY\, 10036\, United States
CATEGORIES:Concert
END:VEVENT
BEGIN:VEVENT
DTSTART;TZID=America/New_York:20190809T070000
DTEND;TZID=America/New_York:20190809T090000
DTSTAMP:20260423T181446
CREATED:20190504T173506Z
LAST-MODIFIED:20190513T225815Z
UID:39609-1565334000-1565341200@www.piercingken.com
SUMMARY:Keith Urban @ Rumsey Playfield
DESCRIPTION:Keith Urban performs as a part of the Good Morning America “Summer Concert Series” for 2019.  Be sure to hit their Official Website\, Facebook or Twitter to learn how you can attend the show.  Please note that these events are early in the AM so you should plan accordingly.   \n \nLike this:Like Loading...
URL:https://www.piercingken.com/event/keith-urban-rumsey-playfield/
LOCATION:Central Park Rumsey Playfield\, East 71st Street\, New York\, NY\, 10021\, United States
CATEGORIES:Concert
END:VEVENT
BEGIN:VEVENT
DTSTART;TZID=America/New_York:20190809T200000
DTEND;TZID=America/New_York:20190809T200000
DTSTAMP:20260423T181446
CREATED:20190601T151539Z
LAST-MODIFIED:20190726T140754Z
UID:40737-1565380800-1565380800@www.piercingken.com
SUMMARY:Barry Manilow @ Lunt-Fontanne Theatre
DESCRIPTION:The legendary Barry Manilow returns to Broadway for a limited engagement at the Lunt-Fontanne Theatre.  He’s planning on doing ALL of the hits that made him famous over the years so don’t miss your chance to enjoy his music in such intimate surroundings.   \n \nLike this:Like Loading...
URL:https://www.piercingken.com/event/barry-manilow-lunt-fontanne-theatre-11/
LOCATION:Lunt-Fontanne Theatre\, 205 West 46th Street\, New York\, NY\, 10036\, United States
CATEGORIES:Concert
END:VEVENT
END:VCALENDAR