BEGIN:VCALENDAR
VERSION:2.0
PRODID:-//The Chronicles Of PiercingKen - ECPv6.15.20//NONSGML v1.0//EN
CALSCALE:GREGORIAN
METHOD:PUBLISH
X-ORIGINAL-URL:https://www.piercingken.com
X-WR-CALDESC:Events for The Chronicles Of PiercingKen
REFRESH-INTERVAL;VALUE=DURATION:PT1H
X-Robots-Tag:noindex
X-PUBLISHED-TTL:PT1H
BEGIN:VTIMEZONE
TZID:America/New_York
BEGIN:DAYLIGHT
TZOFFSETFROM:-0500
TZOFFSETTO:-0400
TZNAME:EDT
DTSTART:20220313T070000
END:DAYLIGHT
BEGIN:STANDARD
TZOFFSETFROM:-0400
TZOFFSETTO:-0500
TZNAME:EST
DTSTART:20221106T060000
END:STANDARD
BEGIN:DAYLIGHT
TZOFFSETFROM:-0500
TZOFFSETTO:-0400
TZNAME:EDT
DTSTART:20230312T070000
END:DAYLIGHT
BEGIN:STANDARD
TZOFFSETFROM:-0400
TZOFFSETTO:-0500
TZNAME:EST
DTSTART:20231105T060000
END:STANDARD
BEGIN:DAYLIGHT
TZOFFSETFROM:-0500
TZOFFSETTO:-0400
TZNAME:EDT
DTSTART:20240310T070000
END:DAYLIGHT
BEGIN:STANDARD
TZOFFSETFROM:-0400
TZOFFSETTO:-0500
TZNAME:EST
DTSTART:20241103T060000
END:STANDARD
END:VTIMEZONE
BEGIN:VEVENT
DTSTART;VALUE=DATE:20230325
DTEND;VALUE=DATE:20230326
DTSTAMP:20260423T110555
CREATED:20230223T134503Z
LAST-MODIFIED:20230223T210823Z
UID:52878-1679702400-1679788799@www.piercingken.com
SUMMARY:PAX East @ Boston Convention & Exhibition Center
DESCRIPTION:PAX East is a celebration of gaming and gaming culture featuring thought-provoking panels\, a massive expo hall filled with the best publishers and studios\, new game demos\, musical performances\, tournaments\, and a community experience unlike any other.  \n \nLike this:Like Loading...
URL:https://www.piercingken.com/event/pax-east-boston-convention-exhibition-center-3/
LOCATION:Boston Convention and Exhibition Center\, 415 Summer Street\, Boston\, MA\, 02210\, United States
CATEGORIES:Convention
END:VEVENT
BEGIN:VEVENT
DTSTART;VALUE=DATE:20230326
DTEND;VALUE=DATE:20230327
DTSTAMP:20260423T110555
CREATED:20230223T140003Z
LAST-MODIFIED:20230223T210833Z
UID:52879-1679788800-1679875199@www.piercingken.com
SUMMARY:PAX East @ Boston Convention & Exhibition Center
DESCRIPTION:PAX East is a celebration of gaming and gaming culture featuring thought-provoking panels\, a massive expo hall filled with the best publishers and studios\, new game demos\, musical performances\, tournaments\, and a community experience unlike any other.  \n \nLike this:Like Loading...
URL:https://www.piercingken.com/event/pax-east-boston-convention-exhibition-center-4/
LOCATION:Boston Convention and Exhibition Center\, 415 Summer Street\, Boston\, MA\, 02210\, United States
CATEGORIES:Convention
END:VEVENT
BEGIN:VEVENT
DTSTART;VALUE=DATE:20230407
DTEND;VALUE=DATE:20230408
DTSTAMP:20260423T110555
CREATED:20230215T051514Z
LAST-MODIFIED:20250314T190735Z
UID:52848-1680825600-1680911999@www.piercingken.com
SUMMARY:New York International Auto Show @ Javits Center
DESCRIPTION:If you are in the market for a spiffy new set of wheels that is something more family functional or just something that makes you feel more alive\, then you’ll want to be at the NYIAS during its takeover of the Javits Center once again.  The show has pretty much returned to normal after the last time and now offers an amazing EV Test Track on the lower level.  It’s something you have to see to believe.  The event is all-ages and you don’t even need a drivers license to browse around. Don’t miss it as there is a lot to do and experience and make sure to fully charge your phone for selfies and proper social media. \n \nLike this:Like Loading...
URL:https://www.piercingken.com/event/new-york-international-auto-show-javits-center-41/
LOCATION:Jacob K. Javits Convention Center\, 655 W 34th St.\, New York\,\, NY\, 10001\, United States
CATEGORIES:Convention
END:VEVENT
BEGIN:VEVENT
DTSTART;VALUE=DATE:20230408
DTEND;VALUE=DATE:20230409
DTSTAMP:20260423T110555
CREATED:20230215T053019Z
LAST-MODIFIED:20250314T190728Z
UID:52849-1680912000-1680998399@www.piercingken.com
SUMMARY:New York International Auto Show @ Javits Center
DESCRIPTION:If you are in the market for a spiffy new set of wheels that is something more family functional or just something that makes you feel more alive\, then you’ll want to be at the NYIAS during its takeover of the Javits Center once again.  The show has pretty much returned to normal after the last time and now offers an amazing EV Test Track on the lower level.  It’s something you have to see to believe.  The event is all-ages and you don’t even need a drivers license to browse around. Don’t miss it as there is a lot to do and experience and make sure to fully charge your phone for selfies and proper social media. \n \nLike this:Like Loading...
URL:https://www.piercingken.com/event/new-york-international-auto-show-javits-center-42/
LOCATION:Jacob K. Javits Convention Center\, 655 W 34th St.\, New York\,\, NY\, 10001\, United States
CATEGORIES:Convention
END:VEVENT
BEGIN:VEVENT
DTSTART;VALUE=DATE:20230409
DTEND;VALUE=DATE:20230410
DTSTAMP:20260423T110555
CREATED:20230215T054523Z
LAST-MODIFIED:20250314T190720Z
UID:52850-1680998400-1681084799@www.piercingken.com
SUMMARY:New York International Auto Show @ Javits Center
DESCRIPTION:If you are in the market for a spiffy new set of wheels that is something more family functional or just something that makes you feel more alive\, then you’ll want to be at the NYIAS during its takeover of the Javits Center once again.  The show has pretty much returned to normal after the last time and now offers an amazing EV Test Track on the lower level.  It’s something you have to see to believe.  The event is all-ages and you don’t even need a drivers license to browse around. Don’t miss it as there is a lot to do and experience and make sure to fully charge your phone for selfies and proper social media. \n \nLike this:Like Loading...
URL:https://www.piercingken.com/event/new-york-international-auto-show-javits-center-43/
LOCATION:Jacob K. Javits Convention Center\, 655 W 34th St.\, New York\,\, NY\, 10001\, United States
CATEGORIES:Convention
END:VEVENT
BEGIN:VEVENT
DTSTART;VALUE=DATE:20230410
DTEND;VALUE=DATE:20230411
DTSTAMP:20260423T110555
CREATED:20230215T060026Z
LAST-MODIFIED:20250314T191109Z
UID:52851-1681084800-1681171199@www.piercingken.com
SUMMARY:New York International Auto Show @ Javits Center
DESCRIPTION:If you are in the market for a spiffy new set of wheels that is something more family functional or just something that makes you feel more alive\, then you’ll want to be at the NYIAS during its takeover of the Javits Center once again.  The show has pretty much returned to normal after the last time and now offers an amazing EV Test Track on the lower level.  It’s something you have to see to believe.  The event is all-ages and you don’t even need a drivers license to browse around. Don’t miss it as there is a lot to do and experience and make sure to fully charge your phone for selfies and proper social media. \n \nLike this:Like Loading...
URL:https://www.piercingken.com/event/new-york-international-auto-show-javits-center-44/
LOCATION:Jacob K. Javits Convention Center\, 655 W 34th St.\, New York\,\, NY\, 10001\, United States
CATEGORIES:Convention
END:VEVENT
BEGIN:VEVENT
DTSTART;VALUE=DATE:20230411
DTEND;VALUE=DATE:20230412
DTSTAMP:20260423T110555
CREATED:20230215T061529Z
LAST-MODIFIED:20250314T190703Z
UID:52852-1681171200-1681257599@www.piercingken.com
SUMMARY:New York International Auto Show @ Javits Center
DESCRIPTION:If you are in the market for a spiffy new set of wheels that is something more family functional or just something that makes you feel more alive\, then you’ll want to be at the NYIAS during its takeover of the Javits Center once again.  The show has pretty much returned to normal after the last time and now offers an amazing EV Test Track on the lower level.  It’s something you have to see to believe.  The event is all-ages and you don’t even need a drivers license to browse around. Don’t miss it as there is a lot to do and experience and make sure to fully charge your phone for selfies and proper social media. \n \nLike this:Like Loading...
URL:https://www.piercingken.com/event/new-york-international-auto-show-javits-center-45/
LOCATION:Jacob K. Javits Convention Center\, 655 W 34th St.\, New York\,\, NY\, 10001\, United States
CATEGORIES:Convention
END:VEVENT
BEGIN:VEVENT
DTSTART;VALUE=DATE:20230412
DTEND;VALUE=DATE:20230413
DTSTAMP:20260423T110555
CREATED:20230215T063033Z
LAST-MODIFIED:20250314T191013Z
UID:52853-1681257600-1681343999@www.piercingken.com
SUMMARY:New York International Auto Show @ Javits Center
DESCRIPTION:If you are in the market for a spiffy new set of wheels that is something more family functional or just something that makes you feel more alive\, then you’ll want to be at the NYIAS during its takeover of the Javits Center once again.  The show has pretty much returned to normal after the last time and now offers an amazing EV Test Track on the lower level.  It’s something you have to see to believe.  The event is all-ages and you don’t even need a drivers license to browse around. Don’t miss it as there is a lot to do and experience and make sure to fully charge your phone for selfies and proper social media. \n \nLike this:Like Loading...
URL:https://www.piercingken.com/event/new-york-international-auto-show-javits-center-46/
LOCATION:Jacob K. Javits Convention Center\, 655 W 34th St.\, New York\,\, NY\, 10001\, United States
CATEGORIES:Convention
END:VEVENT
BEGIN:VEVENT
DTSTART;VALUE=DATE:20230413
DTEND;VALUE=DATE:20230414
DTSTAMP:20260423T110555
CREATED:20230215T064537Z
LAST-MODIFIED:20250314T191026Z
UID:52854-1681344000-1681430399@www.piercingken.com
SUMMARY:New York International Auto Show @ Javits Center
DESCRIPTION:If you are in the market for a spiffy new set of wheels that is something more family functional or just something that makes you feel more alive\, then you’ll want to be at the NYIAS during its takeover of the Javits Center once again.  The show has pretty much returned to normal after the last time and now offers an amazing EV Test Track on the lower level.  It’s something you have to see to believe.  The event is all-ages and you don’t even need a drivers license to browse around. Don’t miss it as there is a lot to do and experience and make sure to fully charge your phone for selfies and proper social media. \n \nLike this:Like Loading...
URL:https://www.piercingken.com/event/new-york-international-auto-show-javits-center-47/
LOCATION:Jacob K. Javits Convention Center\, 655 W 34th St.\, New York\,\, NY\, 10001\, United States
CATEGORIES:Convention
END:VEVENT
BEGIN:VEVENT
DTSTART;VALUE=DATE:20230414
DTEND;VALUE=DATE:20230415
DTSTAMP:20260423T110555
CREATED:20230215T070024Z
LAST-MODIFIED:20250314T191041Z
UID:52855-1681430400-1681516799@www.piercingken.com
SUMMARY:New York International Auto Show @ Javits Center
DESCRIPTION:If you are in the market for a spiffy new set of wheels that is something more family functional or just something that makes you feel more alive\, then you’ll want to be at the NYIAS during its takeover of the Javits Center once again.  The show has pretty much returned to normal after the last time and now offers an amazing EV Test Track on the lower level.  It’s something you have to see to believe.  The event is all-ages and you don’t even need a drivers license to browse around. Don’t miss it as there is a lot to do and experience and make sure to fully charge your phone for selfies and proper social media. \n \nLike this:Like Loading...
URL:https://www.piercingken.com/event/new-york-international-auto-show-javits-center-48/
LOCATION:Jacob K. Javits Convention Center\, 655 W 34th St.\, New York\,\, NY\, 10001\, United States
CATEGORIES:Convention
END:VEVENT
BEGIN:VEVENT
DTSTART;VALUE=DATE:20230415
DTEND;VALUE=DATE:20230416
DTSTAMP:20260423T110555
CREATED:20230215T071523Z
LAST-MODIFIED:20250314T191047Z
UID:52856-1681516800-1681603199@www.piercingken.com
SUMMARY:New York International Auto Show @ Javits Center
DESCRIPTION:If you are in the market for a spiffy new set of wheels that is something more family functional or just something that makes you feel more alive\, then you’ll want to be at the NYIAS during its takeover of the Javits Center once again.  The show has pretty much returned to normal after the last time and now offers an amazing EV Test Track on the lower level.  It’s something you have to see to believe.  The event is all-ages and you don’t even need a drivers license to browse around. Don’t miss it as there is a lot to do and experience and make sure to fully charge your phone for selfies and proper social media. \n \nLike this:Like Loading...
URL:https://www.piercingken.com/event/new-york-international-auto-show-javits-center-49/
LOCATION:Jacob K. Javits Convention Center\, 655 W 34th St.\, New York\,\, NY\, 10001\, United States
CATEGORIES:Convention
END:VEVENT
BEGIN:VEVENT
DTSTART;VALUE=DATE:20230416
DTEND;VALUE=DATE:20230417
DTSTAMP:20260423T110555
CREATED:20230215T073052Z
LAST-MODIFIED:20250314T191054Z
UID:52857-1681603200-1681689599@www.piercingken.com
SUMMARY:New York International Auto Show @ Javits Center
DESCRIPTION:If you are in the market for a spiffy new set of wheels that is something more family functional or just something that makes you feel more alive\, then you’ll want to be at the NYIAS during its takeover of the Javits Center once again.  The show has pretty much returned to normal after the last time and now offers an amazing EV Test Track on the lower level.  It’s something you have to see to believe.  The event is all-ages and you don’t even need a drivers license to browse around. Don’t miss it as there is a lot to do and experience and make sure to fully charge your phone for selfies and proper social media. \n \nLike this:Like Loading...
URL:https://www.piercingken.com/event/new-york-international-auto-show-javits-center-50/
LOCATION:Jacob K. Javits Convention Center\, 655 W 34th St.\, New York\,\, NY\, 10001\, United States
CATEGORIES:Convention
END:VEVENT
BEGIN:VEVENT
DTSTART;VALUE=DATE:20230512
DTEND;VALUE=DATE:20230513
DTSTAMP:20260423T110555
CREATED:20230403T120007Z
LAST-MODIFIED:20250227T203432Z
UID:53196-1683849600-1683935999@www.piercingken.com
SUMMARY:NY Empire State Tattoo Expo @ New York Hilton Midtown
DESCRIPTION:The New York Empire State Tattoo Expo returns to the New York Hilton Midtown and will be the place to meet a variety of artists or just peruse the craft if it interests you. Burlesque performances and scores of vendors will be there as well. You must be 18+ to get any ink so be sure to have proper identification if that is part of your plan. \n \nLike this:Like Loading...
URL:https://www.piercingken.com/event/ny-empire-state-tattoo-expo-new-york-hilton-midtown-16/
LOCATION:NY
CATEGORIES:Convention
END:VEVENT
BEGIN:VEVENT
DTSTART;VALUE=DATE:20230513
DTEND;VALUE=DATE:20230514
DTSTAMP:20260423T110555
CREATED:20230403T121509Z
LAST-MODIFIED:20250227T203423Z
UID:53197-1683936000-1684022399@www.piercingken.com
SUMMARY:NY Empire State Tattoo Expo @ New York Hilton Midtown
DESCRIPTION:The New York Empire State Tattoo Expo returns to the New York Hilton Midtown and will be the place to meet a variety of artists or just peruse the craft if it interests you. Burlesque performances and scores of vendors will be there as well. You must be 18+ to get any ink so be sure to have proper identification if that is part of your plan. \n \nLike this:Like Loading...
URL:https://www.piercingken.com/event/ny-empire-state-tattoo-expo-new-york-hilton-midtown-17/
LOCATION:New York Hilton Midtown\, 1335 Avenue Of The Americas\, New York\, NY\, 10606\, United States
CATEGORIES:Convention
END:VEVENT
BEGIN:VEVENT
DTSTART;VALUE=DATE:20230514
DTEND;VALUE=DATE:20230515
DTSTAMP:20260423T110555
CREATED:20230403T123037Z
LAST-MODIFIED:20250227T203412Z
UID:53198-1684022400-1684108799@www.piercingken.com
SUMMARY:NY Empire State Tattoo Expo @ New York Hilton Midtown
DESCRIPTION:The New York Empire State Tattoo Expo returns to the New York Hilton Midtown and will be the place to meet a variety of artists or just peruse the craft if it interests you. Burlesque performances and scores of vendors will be there as well. You must be 18+ to get any ink so be sure to have proper identification if that is part of your plan. \n \nLike this:Like Loading...
URL:https://www.piercingken.com/event/ny-empire-state-tattoo-expo-new-york-hilton-midtown-18/
LOCATION:New York Hilton Midtown\, 1335 Avenue Of The Americas\, New York\, NY\, 10606\, United States
CATEGORIES:Convention
END:VEVENT
BEGIN:VEVENT
DTSTART;VALUE=DATE:20230721
DTEND;VALUE=DATE:20230722
DTSTAMP:20260423T110555
CREATED:20220921T120011Z
LAST-MODIFIED:20220922T032251Z
UID:52097-1689897600-1689983999@www.piercingken.com
SUMMARY:BroadwayCon @ New York Marriott Marquis
DESCRIPTION:BroadwayCon returns for its eighth year and is taking place right on Times Square surrounded by some of the amazing theatres that the event is dedicated to.  If you’re a Broadway fan of any level\, you’re going to want to be one of the participants.  More about the 2023 event can be found by clicking HERE. \n \nLike this:Like Loading...
URL:https://www.piercingken.com/event/broadwaycon-new-york-marriott-marquis/
LOCATION:New York Marriott Marquis\, 1535 Broadway\, New York\, NY\, 10036\, United States
CATEGORIES:Convention
END:VEVENT
BEGIN:VEVENT
DTSTART;VALUE=DATE:20230722
DTEND;VALUE=DATE:20230723
DTSTAMP:20260423T110555
CREATED:20220921T121514Z
LAST-MODIFIED:20220922T032719Z
UID:52098-1689984000-1690070399@www.piercingken.com
SUMMARY:BroadwayCon @ New York Marriott Marquis
DESCRIPTION:BroadwayCon returns for its eighth year and is taking place right on Times Square surrounded by some of the amazing theatres that the event is dedicated to.  If you’re a Broadway fan of any level\, you’re going to want to be one of the participants.  More about the 2023 event can be found by clicking HERE. \n \nLike this:Like Loading...
URL:https://www.piercingken.com/event/broadwaycon-new-york-marriott-marquis-2/
LOCATION:New York Marriott Marquis\, 1535 Broadway\, New York\, NY\, 10036\, United States
CATEGORIES:Convention
END:VEVENT
BEGIN:VEVENT
DTSTART;VALUE=DATE:20230723
DTEND;VALUE=DATE:20230724
DTSTAMP:20260423T110555
CREATED:20220921T123027Z
LAST-MODIFIED:20220922T032453Z
UID:52099-1690070400-1690156799@www.piercingken.com
SUMMARY:BroadwayCon @ New York Marriott Marquis
DESCRIPTION:BroadwayCon returns for its eighth year and is taking place right on Times Square surrounded by some of the amazing theatres that the event is dedicated to.  If you’re a Broadway fan of any level\, you’re going to want to be one of the participants.  More about the 2023 event can be found by clicking HERE. \n \nLike this:Like Loading...
URL:https://www.piercingken.com/event/broadwaycon-new-york-marriott-marquis-3/
LOCATION:New York Marriott Marquis\, 1535 Broadway\, New York\, NY\, 10036\, United States
CATEGORIES:Convention
END:VEVENT
BEGIN:VEVENT
DTSTART;VALUE=DATE:20230726
DTEND;VALUE=DATE:20230727
DTSTAMP:20260423T110555
CREATED:20230701T133056Z
LAST-MODIFIED:20240708T215622Z
UID:56080-1690329600-1690415999@www.piercingken.com
SUMMARY:AWS Summit @ Javits Center
DESCRIPTION:AWS Summits are a series of free online and in-person events that bring the cloud computing community together to connect\, collaborate\, and learn about AWS. These events are designed to educate you about AWS products and services and help you develop the skills needed to build\, deploy\, and operate your infrastructure and applications. \n \nLike this:Like Loading...
URL:https://www.piercingken.com/event/aws-summit-javits-center-2/
LOCATION:Jacob K. Javits Convention Center\, 655 W 34th St.\, New York\,\, NY\, 10001\, United States
CATEGORIES:Convention
END:VEVENT
BEGIN:VEVENT
DTSTART;VALUE=DATE:20230805
DTEND;VALUE=DATE:20230806
DTSTAMP:20260423T110555
CREATED:20230412T120016Z
LAST-MODIFIED:20230709T171446Z
UID:53558-1691193600-1691279999@www.piercingken.com
SUMMARY:Play NYC @ Metropolitan Pavilion
DESCRIPTION:Playcrafting’s “Play NYC” event is back and once again being held at the Metropolitan Pavilion. This fun tech-themed event is the place to learn about upcoming games and interact with developers and other gaming fans. You don’t want to miss this. \n \nLike this:Like Loading...
URL:https://www.piercingken.com/event/play-nyc-metropolitan-pavilion-5/
LOCATION:Metropolitan Pavilion\, 125 W 18th St.\, New York\,\, NY\, 10011\, United States
CATEGORIES:Convention
ORGANIZER;CN="Playcrafting":MAILTO:events@playcrafting.com
END:VEVENT
BEGIN:VEVENT
DTSTART;VALUE=DATE:20230806
DTEND;VALUE=DATE:20230807
DTSTAMP:20260423T110555
CREATED:20230412T123002Z
LAST-MODIFIED:20230709T171511Z
UID:53559-1691280000-1691366399@www.piercingken.com
SUMMARY:Play NYC @ Metropolitan Pavilion
DESCRIPTION:Playcrafting’s “Play NYC” event is back and once again being held at the Metropolitan Pavilion. This fun tech-themed event is the place to learn about upcoming games and interact with developers and other gaming fans. You don’t want to miss this. \n \nLike this:Like Loading...
URL:https://www.piercingken.com/event/play-nyc-metropolitan-pavilion-6/
LOCATION:Metropolitan Pavilion\, 125 W 18th St.\, New York\,\, NY\, 10011\, United States
CATEGORIES:Convention
ORGANIZER;CN="Playcrafting":MAILTO:events@playcrafting.com
END:VEVENT
BEGIN:VEVENT
DTSTART;VALUE=DATE:20230812
DTEND;VALUE=DATE:20230813
DTSTAMP:20260423T110555
CREATED:20230507T120055Z
LAST-MODIFIED:20260314T155405Z
UID:53306-1691798400-1691884799@www.piercingken.com
SUMMARY:Flame Con @ Sheraton Times Square
DESCRIPTION:The Flame Con is here and taking over the Sheraton Times Square once again for two full days of comic convention fun.  Presented by Geeks OUT\, Flame Con is the largest LGBTQ+ comic convention but all are welcome to enjoy it’s awesomeness. \n \nLike this:Like Loading...
URL:https://www.piercingken.com/event/flame-con-sheraton-times-square-7/
LOCATION:Sheraton Times Square\, 811-7th Ave\, New York\, NY\, 10019\, United States
CATEGORIES:Convention
END:VEVENT
BEGIN:VEVENT
DTSTART;VALUE=DATE:20230813
DTEND;VALUE=DATE:20230814
DTSTAMP:20260423T110555
CREATED:20230507T123021Z
LAST-MODIFIED:20260314T155347Z
UID:53307-1691884800-1691971199@www.piercingken.com
SUMMARY:Flame Con @ Sheraton Times Square
DESCRIPTION:The Flame Con is here and taking over the Sheraton Times Square once again for two full days of comic convention fun.  Presented by Geeks OUT\, Flame Con is the largest LGBTQ+ comic convention but all are welcome to enjoy it’s awesomeness. \n \nLike this:Like Loading...
URL:https://www.piercingken.com/event/flame-con-sheraton-times-square-8/
LOCATION:Sheraton Times Square\, 811-7th Ave\, New York\, NY\, 10019\, United States
CATEGORIES:Convention
END:VEVENT
BEGIN:VEVENT
DTSTART;VALUE=DATE:20230829
DTEND;VALUE=DATE:20230830
DTSTAMP:20260423T110555
CREATED:20230701T120012Z
LAST-MODIFIED:20230829T211434Z
UID:54227-1693267200-1693353599@www.piercingken.com
SUMMARY:RESCHEDULED: White Label World Expo @ Javits Center
DESCRIPTION:This year’s White Label World Expo has been postponed for 2023 and rescheduled for May of 2024.  Visit their Official Site for the latest updates and know that appropriate listings will be featured here as information becomes available. \n \nLike this:Like Loading...
URL:https://www.piercingken.com/event/rescheduled-white-label-world-expo-javits-center/
LOCATION:Jacob K. Javits Convention Center\, 655 W 34th St.\, New York\,\, NY\, 10001\, United States
CATEGORIES:Convention
END:VEVENT
BEGIN:VEVENT
DTSTART;VALUE=DATE:20230830
DTEND;VALUE=DATE:20230831
DTSTAMP:20260423T110555
CREATED:20230701T123015Z
LAST-MODIFIED:20230829T211443Z
UID:54228-1693353600-1693439999@www.piercingken.com
SUMMARY:RESCHEDULED: White Label World Expo @ Javits Center
DESCRIPTION:This year’s White Label World Expo has been postponed for 2023 and rescheduled for May of 2024.  Visit their Official Site for the latest updates and know that appropriate listings will be featured here as information becomes available. \n \nLike this:Like Loading...
URL:https://www.piercingken.com/event/rescheduled-white-label-world-expo-javits-center-2/
LOCATION:Jacob K. Javits Convention Center\, 655 W 34th St.\, New York\,\, NY\, 10001\, United States
CATEGORIES:Convention
END:VEVENT
BEGIN:VEVENT
DTSTART;VALUE=DATE:20230908
DTEND;VALUE=DATE:20230909
DTSTAMP:20260423T110555
CREATED:20230720T130039Z
LAST-MODIFIED:20240629T155927Z
UID:53783-1694131200-1694217599@www.piercingken.com
SUMMARY:Photofairs New York @ Javits Center
DESCRIPTION:According to their website “PHOTOFAIRS is a brand of high-end art fairs with a particular focus on photo-based and digital works. PHOTOFAIRS Shanghai was established in 2014 and has gone on to become Asia Pacific’s leading photography fair”.  If you are a discriminating photographer or a diehard fan of the medium\, then you should look into this three-day affair at the Javits Center.  \n \nLike this:Like Loading...
URL:https://www.piercingken.com/event/photofairs-new-york-javits-center/
LOCATION:Jacob K. Javits Convention Center\, 655 W 34th St.\, New York\,\, NY\, 10001\, United States
CATEGORIES:Convention
END:VEVENT
BEGIN:VEVENT
DTSTART;VALUE=DATE:20230909
DTEND;VALUE=DATE:20230910
DTSTAMP:20260423T110555
CREATED:20230720T131500Z
LAST-MODIFIED:20240629T160830Z
UID:53785-1694217600-1694303999@www.piercingken.com
SUMMARY:Photofairs New York @ Javits Center
DESCRIPTION:According to their website “PHOTOFAIRS is a brand of high-end art fairs with a particular focus on photo-based and digital works. PHOTOFAIRS Shanghai was established in 2014 and has gone on to become Asia Pacific’s leading photography fair”.  If you are a discriminating photographer or a diehard fan of the medium\, then you should look into this three-day affair at the Javits Center.  \n \nLike this:Like Loading...
URL:https://www.piercingken.com/event/photofairs-new-york-javits-center-2/
LOCATION:Jacob K. Javits Convention Center\, 655 W 34th St.\, New York\,\, NY\, 10001\, United States
CATEGORIES:Convention
END:VEVENT
BEGIN:VEVENT
DTSTART;VALUE=DATE:20230910
DTEND;VALUE=DATE:20230911
DTSTAMP:20260423T110555
CREATED:20230720T133000Z
LAST-MODIFIED:20240629T160930Z
UID:53787-1694304000-1694390399@www.piercingken.com
SUMMARY:Photofairs New York @ Javits Center
DESCRIPTION:According to their website “PHOTOFAIRS is a brand of high-end art fairs with a particular focus on photo-based and digital works. PHOTOFAIRS Shanghai was established in 2014 and has gone on to become Asia Pacific’s leading photography fair”.  If you are a discriminating photographer or a diehard fan of the medium\, then you should look into this three-day affair at the Javits Center.  \n \nLike this:Like Loading...
URL:https://www.piercingken.com/event/photofairs-new-york-javits-center-3/
LOCATION:Jacob K. Javits Convention Center\, 655 W 34th St.\, New York\,\, NY\, 10001\, United States
CATEGORIES:Convention
END:VEVENT
BEGIN:VEVENT
DTSTART;VALUE=DATE:20231012
DTEND;VALUE=DATE:20231013
DTSTAMP:20260423T110555
CREATED:20230123T140055Z
LAST-MODIFIED:20230531T230452Z
UID:52645-1697068800-1697155199@www.piercingken.com
SUMMARY:New York Comic Con @ Javits Center
DESCRIPTION:The New York Comic Con has returned once again to the Javits Center and will be the place to be for all fans of comic books\, cosplaying\, collectibles\, panels and assorted entertaining happenings.  Hopefully you are one of the lucky ones with a ticket to what is one of the most sensory overwhelming experiences our geek culture can handle.  Which days are you attending?  One\, two\, three or all of them?   \n \nLike this:Like Loading...
URL:https://www.piercingken.com/event/new-york-comic-con-javits-center/
LOCATION:Jacob K. Javits Convention Center\, 655 W 34th St.\, New York\,\, NY\, 10001\, United States
CATEGORIES:Convention
END:VEVENT
BEGIN:VEVENT
DTSTART;VALUE=DATE:20231013
DTEND;VALUE=DATE:20231014
DTSTAMP:20260423T110555
CREATED:20230123T141502Z
LAST-MODIFIED:20230531T230543Z
UID:52646-1697155200-1697241599@www.piercingken.com
SUMMARY:New York Comic Con @ Javits Center
DESCRIPTION:The New York Comic Con has returned once again to the Javits Center and will be the place to be for all fans of comic books\, cosplaying\, collectibles\, panels and assorted entertaining happenings.  Hopefully you are one of the lucky ones with a ticket to what is one of the most sensory overwhelming experiences our geek culture can handle.  Which days are you attending?  One\, two\, three or all of them?   \n \nLike this:Like Loading...
URL:https://www.piercingken.com/event/new-york-comic-con-javits-center-2/
LOCATION:Jacob K. Javits Convention Center\, 655 W 34th St.\, New York\,\, NY\, 10001\, United States
CATEGORIES:Convention
END:VEVENT
END:VCALENDAR