BEGIN:VCALENDAR
VERSION:2.0
PRODID:-//The Chronicles Of PiercingKen - ECPv6.15.20//NONSGML v1.0//EN
CALSCALE:GREGORIAN
METHOD:PUBLISH
X-ORIGINAL-URL:https://www.piercingken.com
X-WR-CALDESC:Events for The Chronicles Of PiercingKen
REFRESH-INTERVAL;VALUE=DURATION:PT1H
X-Robots-Tag:noindex
X-PUBLISHED-TTL:PT1H
BEGIN:VTIMEZONE
TZID:America/New_York
BEGIN:DAYLIGHT
TZOFFSETFROM:-0500
TZOFFSETTO:-0400
TZNAME:EDT
DTSTART:20180311T070000
END:DAYLIGHT
BEGIN:STANDARD
TZOFFSETFROM:-0400
TZOFFSETTO:-0500
TZNAME:EST
DTSTART:20181104T060000
END:STANDARD
BEGIN:DAYLIGHT
TZOFFSETFROM:-0500
TZOFFSETTO:-0400
TZNAME:EDT
DTSTART:20190310T070000
END:DAYLIGHT
BEGIN:STANDARD
TZOFFSETFROM:-0400
TZOFFSETTO:-0500
TZNAME:EST
DTSTART:20191103T060000
END:STANDARD
BEGIN:DAYLIGHT
TZOFFSETFROM:-0500
TZOFFSETTO:-0400
TZNAME:EDT
DTSTART:20200308T070000
END:DAYLIGHT
BEGIN:STANDARD
TZOFFSETFROM:-0400
TZOFFSETTO:-0500
TZNAME:EST
DTSTART:20201101T060000
END:STANDARD
BEGIN:DAYLIGHT
TZOFFSETFROM:-0500
TZOFFSETTO:-0400
TZNAME:EDT
DTSTART:20210314T070000
END:DAYLIGHT
BEGIN:STANDARD
TZOFFSETFROM:-0400
TZOFFSETTO:-0500
TZNAME:EST
DTSTART:20211107T060000
END:STANDARD
END:VTIMEZONE
BEGIN:VEVENT
DTSTART;VALUE=DATE:20191109
DTEND;VALUE=DATE:20191110
DTSTAMP:20260421T162405
CREATED:20191101T123058Z
LAST-MODIFIED:20191110T040248Z
UID:41695-1573257600-1573343999@www.piercingken.com
SUMMARY:ChristmasCon @ NJ Expo Center
DESCRIPTION:Christmas Con is a first of its kind convention…think Comic Con meets small town Holiday Festival.  Stroll through our “Christmas Market”\, where you can buy one of a kind holiday gifts\, handmade decorations and festive Holiday treats\, all by local artisans.  Our “Town Square” welcomes you with Santa himself under a big Christmas Tree.  \n \nLike this:Like Loading...
URL:https://www.piercingken.com/event/christmascon-nj-expo-center-2/
LOCATION:New Jersey Convention and Exposition Center\, 97 Sunfield Ave\, Edison\, NY\, 08837\, United States
CATEGORIES:Convention
END:VEVENT
BEGIN:VEVENT
DTSTART;VALUE=DATE:20191110
DTEND;VALUE=DATE:20191111
DTSTAMP:20260421T162405
CREATED:20191101T130018Z
LAST-MODIFIED:20191110T040335Z
UID:41696-1573344000-1573430399@www.piercingken.com
SUMMARY:ChristmasCon @ NJ Expo Center
DESCRIPTION:Christmas Con is a first of its kind convention…think Comic Con meets small town Holiday Festival.  Stroll through our “Christmas Market”\, where you can buy one of a kind holiday gifts\, handmade decorations and festive Holiday treats\, all by local artisans.  Our “Town Square” welcomes you with Santa himself under a big Christmas Tree.  \n \nLike this:Like Loading...
URL:https://www.piercingken.com/event/christmascon-nj-expo-center-3/
LOCATION:New Jersey Convention and Exposition Center\, 97 Sunfield Ave\, Edison\, NY\, 08837\, United States
CATEGORIES:Convention
END:VEVENT
BEGIN:VEVENT
DTSTART;VALUE=DATE:20191115
DTEND;VALUE=DATE:20191116
DTSTAMP:20260421T162405
CREATED:20190509T140023Z
LAST-MODIFIED:20220921T025543Z
UID:39518-1573776000-1573862399@www.piercingken.com
SUMMARY:Anime NYC @ Javits Center
DESCRIPTION:New York’s going crazy for all things Japanese with this celebration of Manga\, Anime\, and Cosplaying amazing characters. Come out and enjoy yourself. You know you want to… \n \nLike this:Like Loading...
URL:https://www.piercingken.com/event/anime-nyc-javits-center/
LOCATION:Jacob K. Javits Convention Center\, 655 W 34th St.\, New York\,\, NY\, 10001\, United States
CATEGORIES:Convention
END:VEVENT
BEGIN:VEVENT
DTSTART;VALUE=DATE:20191116
DTEND;VALUE=DATE:20191117
DTSTAMP:20260421T162405
CREATED:20190509T141547Z
LAST-MODIFIED:20220921T025557Z
UID:39519-1573862400-1573948799@www.piercingken.com
SUMMARY:Anime NYC @ Javits Center
DESCRIPTION:New York’s going crazy for all things Japanese with this celebration of Manga\, Anime\, and Cosplaying amazing characters. Come out and enjoy yourself. You know you want to… \n \nLike this:Like Loading...
URL:https://www.piercingken.com/event/anime-nyc-javits-center-2/
LOCATION:Jacob K. Javits Convention Center\, 655 W 34th St.\, New York\,\, NY\, 10001\, United States
CATEGORIES:Convention
END:VEVENT
BEGIN:VEVENT
DTSTART;VALUE=DATE:20191117
DTEND;VALUE=DATE:20191118
DTSTAMP:20260421T162405
CREATED:20190509T143025Z
LAST-MODIFIED:20220921T025615Z
UID:39520-1573948800-1574035199@www.piercingken.com
SUMMARY:Anime NYC @ Javits Center
DESCRIPTION:New York’s going crazy for all things Japanese with this celebration of Manga\, Anime\, and Cosplaying amazing characters. Come out and enjoy yourself. You know you want to… \n \nLike this:Like Loading...
URL:https://www.piercingken.com/event/anime-nyc-javits-center-3/
LOCATION:Jacob K. Javits Convention Center\, 655 W 34th St.\, New York\,\, NY\, 10001\, United States
CATEGORIES:Convention
END:VEVENT
BEGIN:VEVENT
DTSTART;VALUE=DATE:20191122
DTEND;VALUE=DATE:20191123
DTSTAMP:20260421T162405
CREATED:20190922T120029Z
LAST-MODIFIED:20190922T162016Z
UID:41372-1574380800-1574467199@www.piercingken.com
SUMMARY:Wintercon @ Resorts World Casino
DESCRIPTION:If you haven’t gotten your recommended Geek quota\, then the Winter Con is the place to be this weekend to sate your required diet of the stuff. This year the event is celebrating the 20th Anniversary of “Farscape”. This awesome convention offers vendors\, cosplay and collectibles and lots and lots of guests and panels. Don’t miss it if you know what’s good for you. There are numerous pass options to choose from. \n \nLike this:Like Loading...
URL:https://www.piercingken.com/event/wintercon-resorts-world-casino-6/
LOCATION:Resorts World Casino\, 110-00 Rockaway Blvd.\, South Ozone Park\, NY\, 11420\, United States
CATEGORIES:Convention
END:VEVENT
BEGIN:VEVENT
DTSTART;VALUE=DATE:20191123
DTEND;VALUE=DATE:20191124
DTSTAMP:20260421T162405
CREATED:20190922T123027Z
LAST-MODIFIED:20190922T162026Z
UID:41373-1574467200-1574553599@www.piercingken.com
SUMMARY:Wintercon @ Resorts World Casino
DESCRIPTION:If you haven’t gotten your recommended Geek quota\, then the Winter Con is the place to be this weekend to sate your required diet of the stuff. This year the event is celebrating the 20th Anniversary of “Farscape”. This awesome convention offers vendors\, cosplay and collectibles and lots and lots of guests and panels. Don’t miss it if you know what’s good for you. There are numerous pass options to choose from. \n \nLike this:Like Loading...
URL:https://www.piercingken.com/event/wintercon-resorts-world-casino-7/
LOCATION:Resorts World Casino\, 110-00 Rockaway Blvd.\, South Ozone Park\, NY\, 11420\, United States
CATEGORIES:Convention
END:VEVENT
BEGIN:VEVENT
DTSTART;VALUE=DATE:20191124
DTEND;VALUE=DATE:20191125
DTSTAMP:20260421T162405
CREATED:20190922T130026Z
LAST-MODIFIED:20190922T162035Z
UID:41374-1574553600-1574639999@www.piercingken.com
SUMMARY:Wintercon @ Resorts World Casino
DESCRIPTION:If you haven’t gotten your recommended Geek quota\, then the Winter Con is the place to be this weekend to sate your required diet of the stuff. This year the event is celebrating the 20th Anniversary of “Farscape”. This awesome convention offers vendors\, cosplay and collectibles and lots and lots of guests and panels. Don’t miss it if you know what’s good for you. There are numerous pass options to choose from. \n \nLike this:Like Loading...
URL:https://www.piercingken.com/event/wintercon-resorts-world-casino-8/
LOCATION:Resorts World Casino\, 110-00 Rockaway Blvd.\, South Ozone Park\, NY\, 11420\, United States
CATEGORIES:Convention
END:VEVENT
BEGIN:VEVENT
DTSTART;VALUE=DATE:20191206
DTEND;VALUE=DATE:20191207
DTSTAMP:20260421T162405
CREATED:20190627T140040Z
LAST-MODIFIED:20190627T203733Z
UID:40273-1575590400-1575676799@www.piercingken.com
SUMMARY:Progressive International Motorcycle Show @ Jacob Javits Center
DESCRIPTION:For three days\, lovers of the motorcycle can see the latest and greatest offerings.  Don’t miss out on the fun and the chance to enjoy a number of cool activities and educational presentations. \n \nLike this:Like Loading...
URL:https://www.piercingken.com/event/progressive-international-motorcycle-show-jacob-javits-center-4/
LOCATION:Jacob K. Javits Convention Center\, 655 W 34th St.\, New York\,\, NY\, 10001\, United States
CATEGORIES:Convention
END:VEVENT
BEGIN:VEVENT
DTSTART;VALUE=DATE:20191207
DTEND;VALUE=DATE:20191208
DTSTAMP:20260421T162405
CREATED:20190627T143043Z
LAST-MODIFIED:20190627T203751Z
UID:40274-1575676800-1575763199@www.piercingken.com
SUMMARY:Progressive International Motorcycle Show @ Jacob Javits Center
DESCRIPTION:For three days\, lovers of the motorcycle can see the latest and greatest offerings.  Don’t miss out on the fun and the chance to enjoy a number of cool activities and educational presentations. \n \nLike this:Like Loading...
URL:https://www.piercingken.com/event/progressive-international-motorcycle-show-jacob-javits-center-5/
LOCATION:Jacob K. Javits Convention Center\, 655 W 34th St.\, New York\,\, NY\, 10001\, United States
CATEGORIES:Convention
END:VEVENT
BEGIN:VEVENT
DTSTART;VALUE=DATE:20191208
DTEND;VALUE=DATE:20191209
DTSTAMP:20260421T162405
CREATED:20190627T150048Z
LAST-MODIFIED:20190627T203809Z
UID:40275-1575763200-1575849599@www.piercingken.com
SUMMARY:Progressive International Motorcycle Show @ Jacob Javits Center
DESCRIPTION:For three days\, lovers of the motorcycle can see the latest and greatest offerings.  Don’t miss out on the fun and the chance to enjoy a number of cool activities and educational presentations. \n \nLike this:Like Loading...
URL:https://www.piercingken.com/event/progressive-international-motorcycle-show-jacob-javits-center-6/
LOCATION:Jacob K. Javits Convention Center\, 655 W 34th St.\, New York\,\, NY\, 10001\, United States
CATEGORIES:Convention
END:VEVENT
BEGIN:VEVENT
DTSTART;TZID=America/New_York:20191214T100000
DTEND;TZID=America/New_York:20191214T180000
DTSTAMP:20260421T162405
CREATED:20191104T140041Z
LAST-MODIFIED:20191104T190722Z
UID:41630-1576317600-1576346400@www.piercingken.com
SUMMARY:PetCon @ Metropolitan Pavilion
DESCRIPTION:The PetCon for 2019 is here and this time around will take place at the Metropolitan Pavilion.  Don’t miss it. \nLike this:Like Loading...
URL:https://www.piercingken.com/event/petcon-metropolitan-pavilion/
LOCATION:Metropolitan Pavilion\, 125 W 18th St.\, New York\,\, NY\, 10011\, United States
CATEGORIES:Convention
END:VEVENT
BEGIN:VEVENT
DTSTART;TZID=America/New_York:20191214T100000
DTEND;TZID=America/New_York:20191214T190000
DTSTAMP:20260421T162405
CREATED:20191114T140037Z
LAST-MODIFIED:20191114T150730Z
UID:41741-1576317600-1576350000@www.piercingken.com
SUMMARY:Big Apple Christmas Con @ The New Yorker Hotel
DESCRIPTION:The Big Apple Comic Con is moving to The New Yorker Hotel (aka The Daily Planet building) and is bringing their first-ever Christmas Comic Con to the masses.  Don’t miss out on the last comic convention for the region for 2019.   \nLike this:Like Loading...
URL:https://www.piercingken.com/event/big-apple-christmas-con-the-new-yorker-hotel/
LOCATION:New Yorker Hotel\, 481 8th Ave\, New York\, NY\, 10001\, United States
CATEGORIES:Convention
END:VEVENT
BEGIN:VEVENT
DTSTART;VALUE=DATE:20200119
DTEND;VALUE=DATE:20200120
DTSTAMP:20260421T162405
CREATED:20200103T134539Z
LAST-MODIFIED:20200701T201531Z
UID:45368-1579392000-1579478399@www.piercingken.com
SUMMARY:The NAMM Show @ Anaheim Convention Center
DESCRIPTION:The NAMM Show is here once more and that means if you’re a music gear fan that you’ll want to follow your favorite brands on the social networks to see what they will reveal. I know we’ll be doing that. \n \nLike this:Like Loading...
URL:https://www.piercingken.com/event/the-namm-show-anaheim-convention-center-12/
LOCATION:Anaheim Convention Center\, 800 West Katella Avenue\, Anaheim\, CA\, 92802\, United States
CATEGORIES:Convention
END:VEVENT
BEGIN:VEVENT
DTSTART;TZID=America/New_York:20200122T120000
DTEND;TZID=America/New_York:20200122T210000
DTSTAMP:20260421T162405
CREATED:20190911T131019Z
LAST-MODIFIED:20250103T221724Z
UID:41283-1579694400-1579726800@www.piercingken.com
SUMMARY:New York Boat Show @ Javits Center
DESCRIPTION:The New York Boat Show will take over the Javits Center for five days and showcase the latest crafts and supplies for all those interested in such things.  Activities\, giveaways and lots to see will await you so check it out. \n \nLike this:Like Loading...
URL:https://www.piercingken.com/event/new-york-boat-show-javits-center-11/
LOCATION:Jacob K. Javits Convention Center\, 655 W 34th St.\, New York\,\, NY\, 10001\, United States
CATEGORIES:Convention
END:VEVENT
BEGIN:VEVENT
DTSTART;TZID=America/New_York:20200123T120000
DTEND;TZID=America/New_York:20200123T210000
DTSTAMP:20260421T162405
CREATED:20190911T132026Z
LAST-MODIFIED:20250103T221742Z
UID:41284-1579780800-1579813200@www.piercingken.com
SUMMARY:New York Boat Show @ Javits Center
DESCRIPTION:The New York Boat Show will take over the Javits Center for five days and showcase the latest crafts and supplies for all those interested in such things.  Activities\, giveaways and lots to see will await you so check it out. \n \nLike this:Like Loading...
URL:https://www.piercingken.com/event/new-york-boat-show-javits-center-12/
LOCATION:Jacob K. Javits Convention Center\, 655 W 34th St.\, New York\,\, NY\, 10001\, United States
CATEGORIES:Convention
END:VEVENT
BEGIN:VEVENT
DTSTART;VALUE=DATE:20200124
DTEND;VALUE=DATE:20200125
DTSTAMP:20260421T162405
CREATED:20190714T010036Z
LAST-MODIFIED:20240427T183552Z
UID:40523-1579824000-1579910399@www.piercingken.com
SUMMARY:BroadwayCon @ New York Hilton Midtown
DESCRIPTION:BroadwayCon is a three-day expo where fans can meet and interact with their favorite Broadway stars. It’s a showcase of some of Broadway’s newest and most exciting shows. It’s a place where industry professionals can work one-on-one with the next generation of up-and-coming performers.  Most of all\, BroadwayCon is a place where fans can come together celebrate their passions and revel in the magic that is the theatre.  \nLike this:Like Loading...
URL:https://www.piercingken.com/event/broadwaycon-new-york-hilton-midtown-4/
LOCATION:New York Hilton Midtown\, 1335 Avenue Of The Americas\, New York\, NY\, 10606\, United States
CATEGORIES:Convention
END:VEVENT
BEGIN:VEVENT
DTSTART;VALUE=DATE:20200124
DTEND;VALUE=DATE:20200125
DTSTAMP:20260421T162405
CREATED:20190911T120000Z
LAST-MODIFIED:20190911T235055Z
UID:41269-1579824000-1579910399@www.piercingken.com
SUMMARY:New York Times Travel Show @ Javits Center
DESCRIPTION:The New York Times Travel Show has arrived at the Javits Center.  Come on over if you are an ardent traveler or just pine to do so.  For today’s event you’ll need to be a part of the travel industry or the accredited press.  The consumer days are Saturday and Sunday. \n \nLike this:Like Loading...
URL:https://www.piercingken.com/event/new-york-times-travel-show-javits-center/
LOCATION:Jacob K. Javits Convention Center\, 655 W 34th St.\, New York\,\, NY\, 10001\, United States
CATEGORIES:Convention
END:VEVENT
BEGIN:VEVENT
DTSTART;TZID=America/New_York:20200124T120000
DTEND;TZID=America/New_York:20200124T210000
DTSTAMP:20260421T162405
CREATED:20190911T133034Z
LAST-MODIFIED:20250103T221759Z
UID:41285-1579867200-1579899600@www.piercingken.com
SUMMARY:New York Boat Show @ Javits Center
DESCRIPTION:The New York Boat Show will take over the Javits Center for five days and showcase the latest crafts and supplies for all those interested in such things.  Activities\, giveaways and lots to see will await you so check it out. \n \nLike this:Like Loading...
URL:https://www.piercingken.com/event/new-york-boat-show-javits-center-13/
LOCATION:Jacob K. Javits Convention Center\, 655 W 34th St.\, New York\,\, NY\, 10001\, United States
CATEGORIES:Convention
END:VEVENT
BEGIN:VEVENT
DTSTART;VALUE=DATE:20200125
DTEND;VALUE=DATE:20200126
DTSTAMP:20260421T162405
CREATED:20190714T004553Z
LAST-MODIFIED:20240427T183542Z
UID:55602-1579910400-1579996799@www.piercingken.com
SUMMARY:BroadwayCon @ New York Hilton Midtown
DESCRIPTION:BroadwayCon is a three-day expo where fans can meet and interact with their favorite Broadway stars. It’s a showcase of some of Broadway’s newest and most exciting shows. It’s a place where industry professionals can work one-on-one with the next generation of up-and-coming performers.  Most of all\, BroadwayCon is a place where fans can come together celebrate their passions and revel in the magic that is the theatre.  \nLike this:Like Loading...
URL:https://www.piercingken.com/event/broadwaycon-new-york-hilton-midtown-5/
LOCATION:New York Hilton Midtown\, 1335 Avenue Of The Americas\, New York\, NY\, 10606\, United States
CATEGORIES:Convention
END:VEVENT
BEGIN:VEVENT
DTSTART;VALUE=DATE:20200125
DTEND;VALUE=DATE:20200126
DTSTAMP:20260421T162405
CREATED:20190714T013040Z
LAST-MODIFIED:20190714T015329Z
UID:40524-1579910400-1579996799@www.piercingken.com
SUMMARY:BroadwayCon @ Hilton Midtown
DESCRIPTION:BroadwayCon is a three-day expo where fans can meet and interact with their favorite Broadway stars. It’s a showcase of some of Broadway’s newest and most exciting shows. It’s a place where industry professionals can work one-on-one with the next generation of up-and-coming performers.  Most of all\, BroadwayCon is a place where fans can come together celebrate their passions and revel in the magic that is the theatre.  \nLike this:Like Loading...
URL:https://www.piercingken.com/event/broadwaycon-hilton-midtown-5/
LOCATION:New York Hilton Midtown\, 1335 Avenue Of The Americas\, New York\, NY\, 10606\, United States
CATEGORIES:Convention
END:VEVENT
BEGIN:VEVENT
DTSTART;VALUE=DATE:20200125
DTEND;VALUE=DATE:20200126
DTSTAMP:20260421T162405
CREATED:20190911T123022Z
LAST-MODIFIED:20190911T235244Z
UID:41270-1579910400-1579996799@www.piercingken.com
SUMMARY:New York Times Travel Show @ Javits Center
DESCRIPTION:The New York Times Travel Show has arrived at the Javits Center. Come on over if you are an ardent traveler or just pine to do so. Today the industry is joined by the consumer market and the accredited press. \n \nLike this:Like Loading...
URL:https://www.piercingken.com/event/new-york-times-travel-show-javits-center-2/
LOCATION:Jacob K. Javits Convention Center\, 655 W 34th St.\, New York\,\, NY\, 10001\, United States
CATEGORIES:Convention
END:VEVENT
BEGIN:VEVENT
DTSTART;VALUE=DATE:20200125
DTEND;VALUE=DATE:20200126
DTSTAMP:20260421T162405
CREATED:20190911T134039Z
LAST-MODIFIED:20250103T221810Z
UID:41286-1579910400-1579996799@www.piercingken.com
SUMMARY:New York Boat Show @ Javits Center
DESCRIPTION:The New York Boat Show will take over the Javits Center for five days and showcase the latest crafts and supplies for all those interested in such things.  Activities\, giveaways and lots to see will await you so check it out. \n \nLike this:Like Loading...
URL:https://www.piercingken.com/event/new-york-boat-show-javits-center-14/
LOCATION:Jacob K. Javits Convention Center\, 655 W 34th St.\, New York\,\, NY\, 10001\, United States
CATEGORIES:Convention
END:VEVENT
BEGIN:VEVENT
DTSTART;VALUE=DATE:20200125
DTEND;VALUE=DATE:20200126
DTSTAMP:20260421T162405
CREATED:20191230T130015Z
LAST-MODIFIED:20191230T153043Z
UID:42195-1579910400-1579996799@www.piercingken.com
SUMMARY:Pow! Con @ Brooklyn Expo Center
DESCRIPTION:Pow! Con lands in Greenpoint Brooklyn for two days at the Brooklyn Expo Center.  Don’t miss the chance to Geek Out very early in the brand New Year.  Cool guests\, artists and vendors along with dynamite cosplay are par for the course. \n \nLike this:Like Loading...
URL:https://www.piercingken.com/event/pow-con-brooklyn-expo-center/
LOCATION:Brooklyn Expo Center\, 72 Noble Street\, Brooklyn\, NY\, 11222\, United States
CATEGORIES:Convention
END:VEVENT
BEGIN:VEVENT
DTSTART;VALUE=DATE:20200126
DTEND;VALUE=DATE:20200127
DTSTAMP:20260421T162405
CREATED:20190714T020043Z
LAST-MODIFIED:20240427T183528Z
UID:40525-1579996800-1580083199@www.piercingken.com
SUMMARY:BroadwayCon @ New York Hilton Midtown
DESCRIPTION:BroadwayCon is a three-day expo where fans can meet and interact with their favorite Broadway stars. It’s a showcase of some of Broadway’s newest and most exciting shows. It’s a place where industry professionals can work one-on-one with the next generation of up-and-coming performers.  Most of all\, BroadwayCon is a place where fans can come together celebrate their passions and revel in the magic that is the theatre.  \nLike this:Like Loading...
URL:https://www.piercingken.com/event/broadwaycon-bew-york-hilton-midtown-6/
LOCATION:New York Hilton Midtown\, 1335 Avenue Of The Americas\, New York\, NY\, 10606\, United States
CATEGORIES:Convention
END:VEVENT
BEGIN:VEVENT
DTSTART;VALUE=DATE:20200126
DTEND;VALUE=DATE:20200127
DTSTAMP:20260421T162405
CREATED:20190911T130042Z
LAST-MODIFIED:20190911T235254Z
UID:41271-1579996800-1580083199@www.piercingken.com
SUMMARY:New York Times Travel Show @ Javits Center
DESCRIPTION:The New York Times Travel Show has arrived at the Javits Center. Come on over if you are an ardent traveler or just pine to do so. Today the industry is joined by the consumer market and the accredited press. \n \nLike this:Like Loading...
URL:https://www.piercingken.com/event/new-york-times-travel-show-javits-center-3/
LOCATION:Jacob K. Javits Convention Center\, 655 W 34th St.\, New York\,\, NY\, 10001\, United States
CATEGORIES:Convention
END:VEVENT
BEGIN:VEVENT
DTSTART;VALUE=DATE:20200126
DTEND;VALUE=DATE:20200127
DTSTAMP:20260421T162405
CREATED:20190911T135045Z
LAST-MODIFIED:20250103T221822Z
UID:41287-1579996800-1580083199@www.piercingken.com
SUMMARY:New York Boat Show @ Javits Center
DESCRIPTION:The New York Boat Show will take over the Javits Center for five days and showcase the latest crafts and supplies for all those interested in such things.  Activities\, giveaways and lots to see will await you so check it out. \n \nLike this:Like Loading...
URL:https://www.piercingken.com/event/new-york-boat-show-javits-center-15/
LOCATION:Jacob K. Javits Convention Center\, 655 W 34th St.\, New York\,\, NY\, 10001\, United States
CATEGORIES:Convention
END:VEVENT
BEGIN:VEVENT
DTSTART;VALUE=DATE:20200126
DTEND;VALUE=DATE:20200127
DTSTAMP:20260421T162405
CREATED:20191230T131543Z
LAST-MODIFIED:20191230T153102Z
UID:42196-1579996800-1580083199@www.piercingken.com
SUMMARY:Pow! Con @ Brooklyn Expo Center
DESCRIPTION:Pow! Con lands in Greenpoint Brooklyn for two days at the Brooklyn Expo Center.  Don’t miss the chance to Geek Out very early in the brand New Year.  Cool guests\, artists and vendors along with dynamite cosplay are par for the course. \n \nLike this:Like Loading...
URL:https://www.piercingken.com/event/pow-con-brooklyn-expo-center-2/
LOCATION:Brooklyn Expo Center\, 72 Noble Street\, Brooklyn\, NY\, 11222\, United States
CATEGORIES:Convention
END:VEVENT
BEGIN:VEVENT
DTSTART;TZID=America/New_York:20200208T100000
DTEND;TZID=America/New_York:20200208T180000
DTSTAMP:20260421T162405
CREATED:20200131T130004Z
LAST-MODIFIED:20200201T035335Z
UID:42684-1581156000-1581184800@www.piercingken.com
SUMMARY:Fanfaire NYC @ High School of Art and Design
DESCRIPTION:Celebrate your love of comic books\, pop culture and the people who make these awesome things a reality with the annual FanfaireNYC that’s held at the HS of Art and Design.  This event is for all ages and super reasonable in price.  How could you miss that?  Support the Geek Side. \n \nLike this:Like Loading...
URL:https://www.piercingken.com/event/fanfaire-nyc-high-school-of-art-and-design/
LOCATION:High School Of Art & Design\, 245 E 56th St\, New York\, NY\, 10022\, United States
CATEGORIES:Convention
END:VEVENT
BEGIN:VEVENT
DTSTART;TZID=America/New_York:20200209T100000
DTEND;TZID=America/New_York:20200209T180000
DTSTAMP:20260421T162405
CREATED:20200131T133006Z
LAST-MODIFIED:20200201T035404Z
UID:42685-1581242400-1581271200@www.piercingken.com
SUMMARY:Fanfaire NYC @ High School of Art and Design
DESCRIPTION:Celebrate your love of comic books\, pop culture and the people who make these awesome things a reality with the annual FanfaireNYC that’s held at the HS of Art and Design.  This event is for all ages and super reasonable in price.  How could you miss that?  Support the Geek Side. \n \nLike this:Like Loading...
URL:https://www.piercingken.com/event/fanfaire-nyc-high-school-of-art-and-design-2/
LOCATION:High School Of Art & Design\, 245 E 56th St\, New York\, NY\, 10022\, United States
CATEGORIES:Convention
END:VEVENT
END:VCALENDAR